{"text_format":"1","workbook":"xlsx","n_sheets":2,"sheets":["PLAN OP","Datos"],"not_rendered":{"charts":0,"images":1,"macros":1,"external_links":3,"defined_names":41,"comments":0,"pivot_tables":0},"unopened":[],"bounds":{"document_bytes":16777216,"sheet_cells":100000,"rows_first":2000,"rows_last":500,"rows_between":2000,"halvings":0,"cell_chars":16384,"cell_head_chars":4096},"cells_cut":0,"cells_raw":0,"read":"whole","date_system":"1900"}

{"sheet":"PLAN OP","index":0,"n_rows":1000,"n_cols":21,"rows_kept":1000,"cut":false,"hidden":false,"merged":[[0,0,0,20]]}
["PLANTILLA PLAN OPERATIVO DE RECOLECCION"]
["NOMBRE DEPARTAMENTO","CODIGO DEPARTAMENTO","TURNO",null,"NOMBRE MUNICIPIO","CODIGO MUNICIPIO","TIPO DE SERVICIO","MACRO","FRECUENCIA",null,"CONSECUTIVO MICRORUTA","MICRO RUTA NUEVA","MICRO RUTA ANTIGUA","SECTORES ATENDIDOS","No. CONDUCTORES","No. AYUDANTES","No. CALLEJONEROS","TIPO DE VEHICULO","TON / SEMANAL RUTA","KMS RUTA","OBSERVACION"]
["GUAJIRA",{"$f":"OFFSET(Datos!$B$1,MATCH(A3,Datos!$A$2:$A$34,0),0)","v":"44"},"1 DIA",{"$f":"MID(C3,1,1)","v":"1"},"MAICAO",{"$f":"OFFSET(Datos!$G$1,MATCH(E3,Datos!$H$2:$H$1121,0),0)","v":"430"},"01 Recoleccion Domiciliaria",{"$f":"MID(G3,1,2)","v":"01"},"01 LU-MI-VI",{"$f":"MID(I3,1,2)","v":"01"},"001",{"$f":"CONCATENATE(B3,D3,F3,H3,J3,K3)","v":"4414300101001"},"100M","Jorge Arrieta - Camilo Torres Erika Beatriz - Mingo Cando - Villa Melia 2 - Nueva Esperanza",1,2,0,"COMPACTADOR 25Y"]
["GUAJIRA",{"$f":"OFFSET(Datos!$B$1,MATCH(A4,Datos!$A$2:$A$34,0),0)","v":"44"},"1 DIA","1","MAICAO",{"$f":"OFFSET(Datos!$G$1,MATCH(E4,Datos!$H$2:$H$1121,0),0)","v":"430"},"01 Recoleccion Domiciliaria","01","01 LU-MI-VI","01","002","4414300101002","101M","Villa Daisy - Villa Ines - Urb. Villa Ines - Villa Uriana - La Esmeralda - 11 de Noviembre - 20 de Julio",1,2,0,"COMPACTADOR 25Y"]
["GUAJIRA",{"$f":"OFFSET(Datos!$B$1,MATCH(A5,Datos!$A$2:$A$34,0),0)","v":"44"},"1 DIA","1","MAICAO",{"$f":"OFFSET(Datos!$G$1,MATCH(E5,Datos!$H$2:$H$1121,0),0)","v":"430"},"01 Recoleccion Domiciliaria","01","01 LU-MI-VI","01","003","4414300101003","102M","Villa Melia - Marina Esperanza - Galan - Santa Isabel - San Antonio - Santa Fe - Alfonso Lopez ",1,2,0,"COMPACTADOR 25Y"]
["GUAJIRA",{"$f":"OFFSET(Datos!$B$1,MATCH(A6,Datos!$A$2:$A$34,0),0)","v":"44"},"3 NOCHE","3","MAICAO",{"$f":"OFFSET(Datos!$G$1,MATCH(E6,Datos!$H$2:$H$1121,0),0)","v":"430"},"01 Recoleccion Domiciliaria","01","01 LU-MI-VI","01","004","4434300101004","150M","Torre la Majayura - Ovidio Mejia - Miguel Lora - Rojas Pinilla - San Jose - San Martin",1,2,0,"COMPACTADOR 25Y"]
["GUAJIRA",{"$f":"OFFSET(Datos!$B$1,MATCH(A7,Datos!$A$2:$A$34,0),0)","v":"44"},"3 NOCHE","3","MAICAO",{"$f":"OFFSET(Datos!$G$1,MATCH(E7,Datos!$H$2:$H$1121,0),0)","v":"430"},"01 Recoleccion Domiciliaria","01","01 LU-MI-VI","01","005","4434300101005","151M","La Victoria - Colombia Libre - Los Comuneros - Santo Domingo - Camilo Torres - 1 de Mayo - Fonseca Siosi - El Bosque",1,2,0,"COMPACTADOR 20Y"]
["GUAJIRA",{"$f":"OFFSET(Datos!$B$1,MATCH(A8,Datos!$A$2:$A$34,0),0)","v":"44"},"3 NOCHE","3","MAICAO",{"$f":"OFFSET(Datos!$G$1,MATCH(E8,Datos!$H$2:$H$1121,0),0)","v":"430"},"01 Recoleccion Domiciliaria","01","01 LU-MI-VI","01","006","4434300101006","152M","Boscan - Altos de Boscan - El Bosque - Maximiliano - Majupai - Concepcion - Flor de Cañaguate",1,2,0,"COMPACTADOR 25Y"]
["GUAJIRA",{"$f":"OFFSET(Datos!$B$1,MATCH(A9,Datos!$A$2:$A$34,0),0)","v":"44"},"1 DIA","1","MAICAO",{"$f":"OFFSET(Datos!$G$1,MATCH(E9,Datos!$H$2:$H$1121,0),0)","v":"430"},"01 Recoleccion Domiciliaria","01","02 MA-JU-SA","02","007","4414300102007","200M","Divino niño - 1 de Diciembre - Mareygua - Buenos Aires Viejo - Mareyguita - Miraflores - San Francisco - Monte Bello - Las Americas",0,0,0,"COMPACTADOR 25Y"]
["GUAJIRA",{"$f":"OFFSET(Datos!$B$1,MATCH(A10,Datos!$A$2:$A$34,0),0)","v":"44"},"1 DIA","1","MAICAO",{"$f":"OFFSET(Datos!$G$1,MATCH(E10,Datos!$H$2:$H$1121,0),0)","v":"430"},"01 Recoleccion Domiciliaria","01","02 MA-JU-SA","02","008","4414300102008","201M","Concepcion - Vincula Palacio - Nazareth - Almirante Padilla - Almirante Padilla 2 - Tony Vergara - Loma Fresca ",0,0,0,"COMPACTADOR 25Y"]
["GUAJIRA",{"$f":"OFFSET(Datos!$B$1,MATCH(A11,Datos!$A$2:$A$34,0),0)","v":"44"},"1 DIA","1","MAICAO",{"$f":"OFFSET(Datos!$G$1,MATCH(E11,Datos!$H$2:$H$1121,0),0)","v":"430"},"01 Recoleccion Domiciliaria","01","02 MA-JU-SA","02","009","4414300102009","202M","Santander - Boscan - Maicaito - Paraiso - 28 de Noviembre - El Carmen",0,0,0,"COMPACTADOR 25Y"]
["GUAJIRA",{"$f":"OFFSET(Datos!$B$1,MATCH(A12,Datos!$A$2:$A$34,0),0)","v":"44"},"3 NOCHE","3","MAICAO",{"$f":"OFFSET(Datos!$G$1,MATCH(E12,Datos!$H$2:$H$1121,0),0)","v":"430"},"01 Recoleccion Domiciliaria","01","02 MA-JU-SA","02","010","4434300102010","250M","Pastrana - San Martin",0,0,0,"COMPACTADOR 25Y"]
["GUAJIRA",{"$f":"OFFSET(Datos!$B$1,MATCH(A13,Datos!$A$2:$A$34,0),0)","v":"44"},"3 NOCHE","3","MAICAO",{"$f":"OFFSET(Datos!$G$1,MATCH(E13,Datos!$H$2:$H$1121,0),0)","v":"430"},"01 Recoleccion Domiciliaria","01","02 MA-JU-SA","02","011","4434300102011","251M","El Carmen - Altos Parrantial",0,0,0,"COMPACTADOR 20Y"]
["GUAJIRA",{"$f":"OFFSET(Datos!$B$1,MATCH(A14,Datos!$A$2:$A$34,0),0)","v":"44"},"3 NOCHE","3","MAICAO",{"$f":"OFFSET(Datos!$G$1,MATCH(E14,Datos!$H$2:$H$1121,0),0)","v":"430"},"01 Recoleccion Domiciliaria","01","02 MA-JU-SA","02","012","4434300102012","252M","Villa Mery - Villa Naty - Villa Uci - Alto Prado - Simon Mejia - Los Laureles - 7 de Agosto - Urb. Buenos Aires",0,0,0,"COMPACTADOR 25Y"]
["GUAJIRA",{"$f":"OFFSET(Datos!$B$1,MATCH(A15,Datos!$A$2:$A$34,0),0)","v":"44"},"3 NOCHE","3","MAICAO",{"$f":"OFFSET(Datos!$G$1,MATCH(E15,Datos!$H$2:$H$1121,0),0)","v":"430"},"06 Recoleccion Comercial","06","06 LU-MA-MI-JU-VI-SA","06","013","4434300606013","350M","Centro",0,0,0,"COMPACTADOR 25Y"]
["GUAJIRA",{"$f":"OFFSET(Datos!$B$1,MATCH(A16,Datos!$A$2:$A$34,0),0)","v":"44"},"1 DIA","1","MAICAO",{"$f":"OFFSET(Datos!$G$1,MATCH(E16,Datos!$H$2:$H$1121,0),0)","v":"430"},"08 Recoleccion Rural","08","03 LU-JU","03","014","4414300803014","110M","Cuatro Vias",1,2,0,"COMPACTADOR 20Y"]
["GUAJIRA",{"$f":"OFFSET(Datos!$B$1,MATCH(A17,Datos!$A$2:$A$34,0),0)","v":"44"},"1 DIA","1","MAICAO",{"$f":"OFFSET(Datos!$G$1,MATCH(E17,Datos!$H$2:$H$1121,0),0)","v":"430"},"08 Recoleccion Rural","08","04 MA-VI","04","015","4414300804015","120M","Paraguachon",0,0,0,"COMPACTADOR 20Y"]
["GUAJIRA",{"$f":"OFFSET(Datos!$B$1,MATCH(A18,Datos!$A$2:$A$34,0),0)","v":"44"},"1 DIA","1","MAICAO",{"$f":"OFFSET(Datos!$G$1,MATCH(E18,Datos!$H$2:$H$1121,0),0)","v":"430"},"08 Recoleccion Rural","08","05 MI-SA","05","016","4414300805016","210M","Carraipia",0,0,0,"COMPACTADOR 20Y"]
["GUAJIRA",{"$f":"OFFSET(Datos!$B$1,MATCH(A19,Datos!$A$2:$A$34,0),0)","v":"44"},"1 DIA","1","MAICAO",{"$f":"OFFSET(Datos!$G$1,MATCH(E19,Datos!$H$2:$H$1121,0),0)","v":"430"},"07 Recoleccion Vias principales","07","08 DO","08","017","4414300708017","171M","Recoleccion Avenidas"]
["GUAJIRA",{"$f":"OFFSET(Datos!$B$1,MATCH(A20,Datos!$A$2:$A$34,0),0)","v":"44"},"3 NOCHE","3","MAICAO",{"$f":"OFFSET(Datos!$G$1,MATCH(E20,Datos!$H$2:$H$1121,0),0)","v":"430"},"07 Recoleccion Vias principales","07","08 DO","08","018","4434300708018","172M","Recoleccion Avenidas"]
["GUAJIRA",{"$f":"OFFSET(Datos!$B$1,MATCH(A21,Datos!$A$2:$A$34,0),0)","v":"44"},"1 DIA","1","MAICAO",{"$f":"OFFSET(Datos!$G$1,MATCH(E21,Datos!$H$2:$H$1121,0),0)","v":"430"},"02 Recoleccion Grandes Generadores","02","06 LU-MA-MI-JU-VI-SA","06","019","4414300206019","500M","Grandes Generadores"]
["GUAJIRA",{"$f":"OFFSET(Datos!$B$1,MATCH(A22,Datos!$A$2:$A$34,0),0)","v":"44"},"2 TARDE","2","MAICAO",{"$f":"OFFSET(Datos!$G$1,MATCH(E22,Datos!$H$2:$H$1121,0),0)","v":"430"},"03 Recoleccion Barrido Manual y Empuje","03","06 LU-MA-MI-JU-VI-SA","06","020","4424300306020","600M","Recoleccion Barrido Manual y Empuje"]
["GUAJIRA",{"$f":"OFFSET(Datos!$B$1,MATCH(A23,Datos!$A$2:$A$34,0),0)","v":"44"},"1 DIA","1","MAICAO",{"$f":"OFFSET(Datos!$G$1,MATCH(E23,Datos!$H$2:$H$1121,0),0)","v":"430"},"17  Lavado Areas Publicas","17","15 Mesual","15","021","4414301715021","610M","Lavado"]
["GUAJIRA",{"$f":"OFFSET(Datos!$B$1,MATCH(A24,Datos!$A$2:$A$34,0),0)","v":"44"},"1 DIA","1","MAICAO",{"$f":"OFFSET(Datos!$G$1,MATCH(E24,Datos!$H$2:$H$1121,0),0)","v":"430"},"23 Limpieza de vias y areas publicas","23","15 Mesual","15","022","4414302315022","710M","Puntos Criticos"]
["GUAJIRA",{"$f":"OFFSET(Datos!$B$1,MATCH(A25,Datos!$A$2:$A$34,0),0)","v":"44"},"1 DIA","1","MAICAO",{"$f":"OFFSET(Datos!$G$1,MATCH(E25,Datos!$H$2:$H$1121,0),0)","v":"430"},"10 Recoleccion Aprovechamiento","10","01 LU-MI-VI","01","023","4414301001023","801M","Punots Limpios"]
["GUAJIRA",{"$f":"OFFSET(Datos!$B$1,MATCH(A26,Datos!$A$2:$A$34,0),0)","v":"44"},"1 DIA","1","MAICAO",{"$f":"OFFSET(Datos!$G$1,MATCH(E26,Datos!$H$2:$H$1121,0),0)","v":"430"},"26 Eventos Regionales","26","15 Mesual","15","024","4414302615024","810M","Eventos Especiales"]
[null,{"$f":"OFFSET(Datos!$B$1,MATCH(A27,Datos!$A$2:$A$34,0),0)","v":{"$error":"#N/A"}},null,"",null,{"$f":"OFFSET(Datos!$G$1,MATCH(E27,Datos!$H$2:$H$1121,0),0)","v":{"$error":"#N/A"}},null,"",null,"",null,{"$error":"#N/A"}]
[null,{"$f":"OFFSET(Datos!$B$1,MATCH(A28,Datos!$A$2:$A$34,0),0)","v":{"$error":"#N/A"}},null,"",null,{"$f":"OFFSET(Datos!$G$1,MATCH(E28,Datos!$H$2:$H$1121,0),0)","v":{"$error":"#N/A"}},null,"",null,"",null,{"$error":"#N/A"}]
[null,{"$f":"OFFSET(Datos!$B$1,MATCH(A29,Datos!$A$2:$A$34,0),0)","v":{"$error":"#N/A"}},null,"",null,{"$f":"OFFSET(Datos!$G$1,MATCH(E29,Datos!$H$2:$H$1121,0),0)","v":{"$error":"#N/A"}},null,"",null,"",null,{"$error":"#N/A"}]
[null,{"$f":"OFFSET(Datos!$B$1,MATCH(A30,Datos!$A$2:$A$34,0),0)","v":{"$error":"#N/A"}},null,"",null,{"$f":"OFFSET(Datos!$G$1,MATCH(E30,Datos!$H$2:$H$1121,0),0)","v":{"$error":"#N/A"}},null,"",null,"",null,{"$error":"#N/A"}]
[null,{"$f":"OFFSET(Datos!$B$1,MATCH(A31,Datos!$A$2:$A$34,0),0)","v":{"$error":"#N/A"}},null,"",null,{"$f":"OFFSET(Datos!$G$1,MATCH(E31,Datos!$H$2:$H$1121,0),0)","v":{"$error":"#N/A"}},null,"",null,"",null,{"$error":"#N/A"}]
[null,{"$f":"OFFSET(Datos!$B$1,MATCH(A32,Datos!$A$2:$A$34,0),0)","v":{"$error":"#N/A"}},null,"",null,{"$f":"OFFSET(Datos!$G$1,MATCH(E32,Datos!$H$2:$H$1121,0),0)","v":{"$error":"#N/A"}},null,"",null,"",null,{"$error":"#N/A"}]
[null,{"$f":"OFFSET(Datos!$B$1,MATCH(A33,Datos!$A$2:$A$34,0),0)","v":{"$error":"#N/A"}},null,"",null,{"$f":"OFFSET(Datos!$G$1,MATCH(E33,Datos!$H$2:$H$1121,0),0)","v":{"$error":"#N/A"}},null,"",null,"",null,{"$error":"#N/A"}]
[null,{"$f":"OFFSET(Datos!$B$1,MATCH(A34,Datos!$A$2:$A$34,0),0)","v":{"$error":"#N/A"}},null,"",null,{"$f":"OFFSET(Datos!$G$1,MATCH(E34,Datos!$H$2:$H$1121,0),0)","v":{"$error":"#N/A"}},null,"",null,"",null,{"$error":"#N/A"}]
[null,{"$f":"OFFSET(Datos!$B$1,MATCH(A35,Datos!$A$2:$A$34,0),0)","v":{"$error":"#N/A"}},null,"",null,{"$f":"OFFSET(Datos!$G$1,MATCH(E35,Datos!$H$2:$H$1121,0),0)","v":{"$error":"#N/A"}},null,"",null,"",null,{"$error":"#N/A"}]
[null,{"$f":"OFFSET(Datos!$B$1,MATCH(A36,Datos!$A$2:$A$34,0),0)","v":{"$error":"#N/A"}},null,"",null,{"$f":"OFFSET(Datos!$G$1,MATCH(E36,Datos!$H$2:$H$1121,0),0)","v":{"$error":"#N/A"}},null,"",null,"",null,{"$error":"#N/A"}]
[null,{"$f":"OFFSET(Datos!$B$1,MATCH(A37,Datos!$A$2:$A$34,0),0)","v":{"$error":"#N/A"}},null,"",null,{"$f":"OFFSET(Datos!$G$1,MATCH(E37,Datos!$H$2:$H$1121,0),0)","v":{"$error":"#N/A"}},null,"",null,"",null,{"$error":"#N/A"}]
[null,{"$f":"OFFSET(Datos!$B$1,MATCH(A38,Datos!$A$2:$A$34,0),0)","v":{"$error":"#N/A"}},null,"",null,{"$f":"OFFSET(Datos!$G$1,MATCH(E38,Datos!$H$2:$H$1121,0),0)","v":{"$error":"#N/A"}},null,"",null,"",null,{"$error":"#N/A"}]
[null,{"$f":"OFFSET(Datos!$B$1,MATCH(A39,Datos!$A$2:$A$34,0),0)","v":{"$error":"#N/A"}},null,"",null,{"$f":"OFFSET(Datos!$G$1,MATCH(E39,Datos!$H$2:$H$1121,0),0)","v":{"$error":"#N/A"}},null,"",null,"",null,{"$error":"#N/A"}]
[null,{"$f":"OFFSET(Datos!$B$1,MATCH(A40,Datos!$A$2:$A$34,0),0)","v":{"$error":"#N/A"}},null,"",null,{"$f":"OFFSET(Datos!$G$1,MATCH(E40,Datos!$H$2:$H$1121,0),0)","v":{"$error":"#N/A"}},null,"",null,"",null,{"$error":"#N/A"}]
[null,{"$f":"OFFSET(Datos!$B$1,MATCH(A41,Datos!$A$2:$A$34,0),0)","v":{"$error":"#N/A"}},null,"",null,{"$f":"OFFSET(Datos!$G$1,MATCH(E41,Datos!$H$2:$H$1121,0),0)","v":{"$error":"#N/A"}},null,"",null,"",null,{"$error":"#N/A"}]
[null,{"$f":"OFFSET(Datos!$B$1,MATCH(A42,Datos!$A$2:$A$34,0),0)","v":{"$error":"#N/A"}},null,"",null,{"$f":"OFFSET(Datos!$G$1,MATCH(E42,Datos!$H$2:$H$1121,0),0)","v":{"$error":"#N/A"}},null,"",null,"",null,{"$error":"#N/A"}]
[null,{"$f":"OFFSET(Datos!$B$1,MATCH(A43,Datos!$A$2:$A$34,0),0)","v":{"$error":"#N/A"}},null,"",null,{"$f":"OFFSET(Datos!$G$1,MATCH(E43,Datos!$H$2:$H$1121,0),0)","v":{"$error":"#N/A"}},null,"",null,"",null,{"$error":"#N/A"}]
[null,{"$f":"OFFSET(Datos!$B$1,MATCH(A44,Datos!$A$2:$A$34,0),0)","v":{"$error":"#N/A"}},null,"",null,{"$f":"OFFSET(Datos!$G$1,MATCH(E44,Datos!$H$2:$H$1121,0),0)","v":{"$error":"#N/A"}},null,"",null,"",null,{"$error":"#N/A"}]
[null,{"$f":"OFFSET(Datos!$B$1,MATCH(A45,Datos!$A$2:$A$34,0),0)","v":{"$error":"#N/A"}},null,"",null,{"$f":"OFFSET(Datos!$G$1,MATCH(E45,Datos!$H$2:$H$1121,0),0)","v":{"$error":"#N/A"}},null,"",null,"",null,{"$error":"#N/A"}]
[null,{"$f":"OFFSET(Datos!$B$1,MATCH(A46,Datos!$A$2:$A$34,0),0)","v":{"$error":"#N/A"}},null,"",null,{"$f":"OFFSET(Datos!$G$1,MATCH(E46,Datos!$H$2:$H$1121,0),0)","v":{"$error":"#N/A"}},null,"",null,"",null,{"$error":"#N/A"}]
[null,{"$f":"OFFSET(Datos!$B$1,MATCH(A47,Datos!$A$2:$A$34,0),0)","v":{"$error":"#N/A"}},null,"",null,{"$f":"OFFSET(Datos!$G$1,MATCH(E47,Datos!$H$2:$H$1121,0),0)","v":{"$error":"#N/A"}},null,"",null,"",null,{"$error":"#N/A"}]
[null,{"$f":"OFFSET(Datos!$B$1,MATCH(A48,Datos!$A$2:$A$34,0),0)","v":{"$error":"#N/A"}},null,"",null,{"$f":"OFFSET(Datos!$G$1,MATCH(E48,Datos!$H$2:$H$1121,0),0)","v":{"$error":"#N/A"}},null,"",null,"",null,{"$error":"#N/A"}]
[null,{"$f":"OFFSET(Datos!$B$1,MATCH(A49,Datos!$A$2:$A$34,0),0)","v":{"$error":"#N/A"}},null,"",null,{"$f":"OFFSET(Datos!$G$1,MATCH(E49,Datos!$H$2:$H$1121,0),0)","v":{"$error":"#N/A"}},null,"",null,"",null,{"$error":"#N/A"}]
[null,{"$f":"OFFSET(Datos!$B$1,MATCH(A50,Datos!$A$2:$A$34,0),0)","v":{"$error":"#N/A"}},null,"",null,{"$f":"OFFSET(Datos!$G$1,MATCH(E50,Datos!$H$2:$H$1121,0),0)","v":{"$error":"#N/A"}},null,"",null,"",null,{"$error":"#N/A"}]
[null,{"$f":"OFFSET(Datos!$B$1,MATCH(A51,Datos!$A$2:$A$34,0),0)","v":{"$error":"#N/A"}},null,"",null,{"$f":"OFFSET(Datos!$G$1,MATCH(E51,Datos!$H$2:$H$1121,0),0)","v":{"$error":"#N/A"}},null,"",null,"",null,{"$error":"#N/A"}]
[null,{"$f":"OFFSET(Datos!$B$1,MATCH(A52,Datos!$A$2:$A$34,0),0)","v":{"$error":"#N/A"}},null,"",null,{"$f":"OFFSET(Datos!$G$1,MATCH(E52,Datos!$H$2:$H$1121,0),0)","v":{"$error":"#N/A"}},null,"",null,"",null,{"$error":"#N/A"}]
[null,{"$f":"OFFSET(Datos!$B$1,MATCH(A53,Datos!$A$2:$A$34,0),0)","v":{"$error":"#N/A"}},null,"",null,{"$f":"OFFSET(Datos!$G$1,MATCH(E53,Datos!$H$2:$H$1121,0),0)","v":{"$error":"#N/A"}},null,"",null,"",null,{"$error":"#N/A"}]
[null,{"$f":"OFFSET(Datos!$B$1,MATCH(A54,Datos!$A$2:$A$34,0),0)","v":{"$error":"#N/A"}},null,"",null,{"$f":"OFFSET(Datos!$G$1,MATCH(E54,Datos!$H$2:$H$1121,0),0)","v":{"$error":"#N/A"}},null,"",null,"",null,{"$error":"#N/A"}]
[null,{"$f":"OFFSET(Datos!$B$1,MATCH(A55,Datos!$A$2:$A$34,0),0)","v":{"$error":"#N/A"}},null,"",null,{"$f":"OFFSET(Datos!$G$1,MATCH(E55,Datos!$H$2:$H$1121,0),0)","v":{"$error":"#N/A"}},null,"",null,"",null,{"$error":"#N/A"}]
[null,{"$f":"OFFSET(Datos!$B$1,MATCH(A56,Datos!$A$2:$A$34,0),0)","v":{"$error":"#N/A"}},null,"",null,{"$f":"OFFSET(Datos!$G$1,MATCH(E56,Datos!$H$2:$H$1121,0),0)","v":{"$error":"#N/A"}},null,"",null,"",null,{"$error":"#N/A"}]
[null,{"$f":"OFFSET(Datos!$B$1,MATCH(A57,Datos!$A$2:$A$34,0),0)","v":{"$error":"#N/A"}},null,"",null,{"$f":"OFFSET(Datos!$G$1,MATCH(E57,Datos!$H$2:$H$1121,0),0)","v":{"$error":"#N/A"}},null,"",null,"",null,{"$error":"#N/A"}]
[null,{"$f":"OFFSET(Datos!$B$1,MATCH(A58,Datos!$A$2:$A$34,0),0)","v":{"$error":"#N/A"}},null,"",null,{"$f":"OFFSET(Datos!$G$1,MATCH(E58,Datos!$H$2:$H$1121,0),0)","v":{"$error":"#N/A"}},null,"",null,"",null,{"$error":"#N/A"}]
[null,{"$f":"OFFSET(Datos!$B$1,MATCH(A59,Datos!$A$2:$A$34,0),0)","v":{"$error":"#N/A"}},null,"",null,{"$f":"OFFSET(Datos!$G$1,MATCH(E59,Datos!$H$2:$H$1121,0),0)","v":{"$error":"#N/A"}},null,"",null,"",null,{"$error":"#N/A"}]
[null,{"$f":"OFFSET(Datos!$B$1,MATCH(A60,Datos!$A$2:$A$34,0),0)","v":{"$error":"#N/A"}},null,"",null,{"$f":"OFFSET(Datos!$G$1,MATCH(E60,Datos!$H$2:$H$1121,0),0)","v":{"$error":"#N/A"}},null,"",null,"",null,{"$error":"#N/A"}]
[null,{"$f":"OFFSET(Datos!$B$1,MATCH(A61,Datos!$A$2:$A$34,0),0)","v":{"$error":"#N/A"}},null,"",null,{"$f":"OFFSET(Datos!$G$1,MATCH(E61,Datos!$H$2:$H$1121,0),0)","v":{"$error":"#N/A"}},null,"",null,"",null,{"$error":"#N/A"}]
[null,{"$f":"OFFSET(Datos!$B$1,MATCH(A62,Datos!$A$2:$A$34,0),0)","v":{"$error":"#N/A"}},null,"",null,{"$f":"OFFSET(Datos!$G$1,MATCH(E62,Datos!$H$2:$H$1121,0),0)","v":{"$error":"#N/A"}},null,"",null,"",null,{"$error":"#N/A"}]
[null,{"$f":"OFFSET(Datos!$B$1,MATCH(A63,Datos!$A$2:$A$34,0),0)","v":{"$error":"#N/A"}},null,"",null,{"$f":"OFFSET(Datos!$G$1,MATCH(E63,Datos!$H$2:$H$1121,0),0)","v":{"$error":"#N/A"}},null,"",null,"",null,{"$error":"#N/A"}]
[null,{"$f":"OFFSET(Datos!$B$1,MATCH(A64,Datos!$A$2:$A$34,0),0)","v":{"$error":"#N/A"}},null,"",null,{"$f":"OFFSET(Datos!$G$1,MATCH(E64,Datos!$H$2:$H$1121,0),0)","v":{"$error":"#N/A"}},null,"",null,"",null,{"$error":"#N/A"}]
[null,{"$f":"OFFSET(Datos!$B$1,MATCH(A65,Datos!$A$2:$A$34,0),0)","v":{"$error":"#N/A"}},null,"",null,{"$f":"OFFSET(Datos!$G$1,MATCH(E65,Datos!$H$2:$H$1121,0),0)","v":{"$error":"#N/A"}},null,"",null,"",null,{"$error":"#N/A"}]
[null,{"$f":"OFFSET(Datos!$B$1,MATCH(A66,Datos!$A$2:$A$34,0),0)","v":{"$error":"#N/A"}},null,"",null,{"$f":"OFFSET(Datos!$G$1,MATCH(E66,Datos!$H$2:$H$1121,0),0)","v":{"$error":"#N/A"}},null,"",null,"",null,{"$error":"#N/A"}]
[null,{"$f":"OFFSET(Datos!$B$1,MATCH(A67,Datos!$A$2:$A$34,0),0)","v":{"$error":"#N/A"}},null,{"$f":"MID(C67,1,1)","v":""},null,{"$f":"OFFSET(Datos!$G$1,MATCH(E67,Datos!$H$2:$H$1121,0),0)","v":{"$error":"#N/A"}},null,{"$f":"MID(G67,1,2)","v":""},null,{"$f":"MID(I67,1,2)","v":""},null,{"$f":"CONCATENATE(B67,D67,F67,H67,J67,K67)","v":{"$error":"#N/A"}}]
[null,{"$f":"OFFSET(Datos!$B$1,MATCH(A68,Datos!$A$2:$A$34,0),0)","v":{"$error":"#N/A"}},null,"",null,{"$f":"OFFSET(Datos!$G$1,MATCH(E68,Datos!$H$2:$H$1121,0),0)","v":{"$error":"#N/A"}},null,"",null,"",null,{"$error":"#N/A"}]
[null,{"$f":"OFFSET(Datos!$B$1,MATCH(A69,Datos!$A$2:$A$34,0),0)","v":{"$error":"#N/A"}},null,"",null,{"$f":"OFFSET(Datos!$G$1,MATCH(E69,Datos!$H$2:$H$1121,0),0)","v":{"$error":"#N/A"}},null,"",null,"",null,{"$error":"#N/A"}]
[null,{"$f":"OFFSET(Datos!$B$1,MATCH(A70,Datos!$A$2:$A$34,0),0)","v":{"$error":"#N/A"}},null,"",null,{"$f":"OFFSET(Datos!$G$1,MATCH(E70,Datos!$H$2:$H$1121,0),0)","v":{"$error":"#N/A"}},null,"",null,"",null,{"$error":"#N/A"}]
[null,{"$f":"OFFSET(Datos!$B$1,MATCH(A71,Datos!$A$2:$A$34,0),0)","v":{"$error":"#N/A"}},null,"",null,{"$f":"OFFSET(Datos!$G$1,MATCH(E71,Datos!$H$2:$H$1121,0),0)","v":{"$error":"#N/A"}},null,"",null,"",null,{"$error":"#N/A"}]
[null,{"$f":"OFFSET(Datos!$B$1,MATCH(A72,Datos!$A$2:$A$34,0),0)","v":{"$error":"#N/A"}},null,"",null,{"$f":"OFFSET(Datos!$G$1,MATCH(E72,Datos!$H$2:$H$1121,0),0)","v":{"$error":"#N/A"}},null,"",null,"",null,{"$error":"#N/A"}]
[null,{"$f":"OFFSET(Datos!$B$1,MATCH(A73,Datos!$A$2:$A$34,0),0)","v":{"$error":"#N/A"}},null,"",null,{"$f":"OFFSET(Datos!$G$1,MATCH(E73,Datos!$H$2:$H$1121,0),0)","v":{"$error":"#N/A"}},null,"",null,"",null,{"$error":"#N/A"}]
[null,{"$f":"OFFSET(Datos!$B$1,MATCH(A74,Datos!$A$2:$A$34,0),0)","v":{"$error":"#N/A"}},null,"",null,{"$f":"OFFSET(Datos!$G$1,MATCH(E74,Datos!$H$2:$H$1121,0),0)","v":{"$error":"#N/A"}},null,"",null,"",null,{"$error":"#N/A"}]
[null,{"$f":"OFFSET(Datos!$B$1,MATCH(A75,Datos!$A$2:$A$34,0),0)","v":{"$error":"#N/A"}},null,"",null,{"$f":"OFFSET(Datos!$G$1,MATCH(E75,Datos!$H$2:$H$1121,0),0)","v":{"$error":"#N/A"}},null,"",null,"",null,{"$error":"#N/A"}]
[null,{"$f":"OFFSET(Datos!$B$1,MATCH(A76,Datos!$A$2:$A$34,0),0)","v":{"$error":"#N/A"}},null,"",null,{"$f":"OFFSET(Datos!$G$1,MATCH(E76,Datos!$H$2:$H$1121,0),0)","v":{"$error":"#N/A"}},null,"",null,"",null,{"$error":"#N/A"}]
[null,{"$f":"OFFSET(Datos!$B$1,MATCH(A77,Datos!$A$2:$A$34,0),0)","v":{"$error":"#N/A"}},null,"",null,{"$f":"OFFSET(Datos!$G$1,MATCH(E77,Datos!$H$2:$H$1121,0),0)","v":{"$error":"#N/A"}},null,"",null,"",null,{"$error":"#N/A"}]
[null,{"$f":"OFFSET(Datos!$B$1,MATCH(A78,Datos!$A$2:$A$34,0),0)","v":{"$error":"#N/A"}},null,"",null,{"$f":"OFFSET(Datos!$G$1,MATCH(E78,Datos!$H$2:$H$1121,0),0)","v":{"$error":"#N/A"}},null,"",null,"",null,{"$error":"#N/A"}]
[null,{"$f":"OFFSET(Datos!$B$1,MATCH(A79,Datos!$A$2:$A$34,0),0)","v":{"$error":"#N/A"}},null,"",null,{"$f":"OFFSET(Datos!$G$1,MATCH(E79,Datos!$H$2:$H$1121,0),0)","v":{"$error":"#N/A"}},null,"",null,"",null,{"$error":"#N/A"}]
[null,{"$f":"OFFSET(Datos!$B$1,MATCH(A80,Datos!$A$2:$A$34,0),0)","v":{"$error":"#N/A"}},null,"",null,{"$f":"OFFSET(Datos!$G$1,MATCH(E80,Datos!$H$2:$H$1121,0),0)","v":{"$error":"#N/A"}},null,"",null,"",null,{"$error":"#N/A"}]
[null,{"$f":"OFFSET(Datos!$B$1,MATCH(A81,Datos!$A$2:$A$34,0),0)","v":{"$error":"#N/A"}},null,"",null,{"$f":"OFFSET(Datos!$G$1,MATCH(E81,Datos!$H$2:$H$1121,0),0)","v":{"$error":"#N/A"}},null,"",null,"",null,{"$error":"#N/A"}]
[null,{"$f":"OFFSET(Datos!$B$1,MATCH(A82,Datos!$A$2:$A$34,0),0)","v":{"$error":"#N/A"}},null,"",null,{"$f":"OFFSET(Datos!$G$1,MATCH(E82,Datos!$H$2:$H$1121,0),0)","v":{"$error":"#N/A"}},null,"",null,"",null,{"$error":"#N/A"}]
[null,{"$f":"OFFSET(Datos!$B$1,MATCH(A83,Datos!$A$2:$A$34,0),0)","v":{"$error":"#N/A"}},null,"",null,{"$f":"OFFSET(Datos!$G$1,MATCH(E83,Datos!$H$2:$H$1121,0),0)","v":{"$error":"#N/A"}},null,"",null,"",null,{"$error":"#N/A"}]
[null,{"$f":"OFFSET(Datos!$B$1,MATCH(A84,Datos!$A$2:$A$34,0),0)","v":{"$error":"#N/A"}},null,"",null,{"$f":"OFFSET(Datos!$G$1,MATCH(E84,Datos!$H$2:$H$1121,0),0)","v":{"$error":"#N/A"}},null,"",null,"",null,{"$error":"#N/A"}]
[null,{"$f":"OFFSET(Datos!$B$1,MATCH(A85,Datos!$A$2:$A$34,0),0)","v":{"$error":"#N/A"}},null,"",null,{"$f":"OFFSET(Datos!$G$1,MATCH(E85,Datos!$H$2:$H$1121,0),0)","v":{"$error":"#N/A"}},null,"",null,"",null,{"$error":"#N/A"}]
[null,{"$f":"OFFSET(Datos!$B$1,MATCH(A86,Datos!$A$2:$A$34,0),0)","v":{"$error":"#N/A"}},null,"",null,{"$f":"OFFSET(Datos!$G$1,MATCH(E86,Datos!$H$2:$H$1121,0),0)","v":{"$error":"#N/A"}},null,"",null,"",null,{"$error":"#N/A"}]
[null,{"$f":"OFFSET(Datos!$B$1,MATCH(A87,Datos!$A$2:$A$34,0),0)","v":{"$error":"#N/A"}},null,"",null,{"$f":"OFFSET(Datos!$G$1,MATCH(E87,Datos!$H$2:$H$1121,0),0)","v":{"$error":"#N/A"}},null,"",null,"",null,{"$error":"#N/A"}]
[null,{"$f":"OFFSET(Datos!$B$1,MATCH(A88,Datos!$A$2:$A$34,0),0)","v":{"$error":"#N/A"}},null,"",null,{"$f":"OFFSET(Datos!$G$1,MATCH(E88,Datos!$H$2:$H$1121,0),0)","v":{"$error":"#N/A"}},null,"",null,"",null,{"$error":"#N/A"}]
[null,{"$f":"OFFSET(Datos!$B$1,MATCH(A89,Datos!$A$2:$A$34,0),0)","v":{"$error":"#N/A"}},null,"",null,{"$f":"OFFSET(Datos!$G$1,MATCH(E89,Datos!$H$2:$H$1121,0),0)","v":{"$error":"#N/A"}},null,"",null,"",null,{"$error":"#N/A"}]
[null,{"$f":"OFFSET(Datos!$B$1,MATCH(A90,Datos!$A$2:$A$34,0),0)","v":{"$error":"#N/A"}},null,"",null,{"$f":"OFFSET(Datos!$G$1,MATCH(E90,Datos!$H$2:$H$1121,0),0)","v":{"$error":"#N/A"}},null,"",null,"",null,{"$error":"#N/A"}]
[null,{"$f":"OFFSET(Datos!$B$1,MATCH(A91,Datos!$A$2:$A$34,0),0)","v":{"$error":"#N/A"}},null,"",null,{"$f":"OFFSET(Datos!$G$1,MATCH(E91,Datos!$H$2:$H$1121,0),0)","v":{"$error":"#N/A"}},null,"",null,"",null,{"$error":"#N/A"}]
[null,{"$f":"OFFSET(Datos!$B$1,MATCH(A92,Datos!$A$2:$A$34,0),0)","v":{"$error":"#N/A"}},null,"",null,{"$f":"OFFSET(Datos!$G$1,MATCH(E92,Datos!$H$2:$H$1121,0),0)","v":{"$error":"#N/A"}},null,"",null,"",null,{"$error":"#N/A"}]
[null,{"$f":"OFFSET(Datos!$B$1,MATCH(A93,Datos!$A$2:$A$34,0),0)","v":{"$error":"#N/A"}},null,"",null,{"$f":"OFFSET(Datos!$G$1,MATCH(E93,Datos!$H$2:$H$1121,0),0)","v":{"$error":"#N/A"}},null,"",null,"",null,{"$error":"#N/A"}]
[null,{"$f":"OFFSET(Datos!$B$1,MATCH(A94,Datos!$A$2:$A$34,0),0)","v":{"$error":"#N/A"}},null,"",null,{"$f":"OFFSET(Datos!$G$1,MATCH(E94,Datos!$H$2:$H$1121,0),0)","v":{"$error":"#N/A"}},null,"",null,"",null,{"$error":"#N/A"}]
[null,{"$f":"OFFSET(Datos!$B$1,MATCH(A95,Datos!$A$2:$A$34,0),0)","v":{"$error":"#N/A"}},null,"",null,{"$f":"OFFSET(Datos!$G$1,MATCH(E95,Datos!$H$2:$H$1121,0),0)","v":{"$error":"#N/A"}},null,"",null,"",null,{"$error":"#N/A"}]
[null,{"$f":"OFFSET(Datos!$B$1,MATCH(A96,Datos!$A$2:$A$34,0),0)","v":{"$error":"#N/A"}},null,"",null,{"$f":"OFFSET(Datos!$G$1,MATCH(E96,Datos!$H$2:$H$1121,0),0)","v":{"$error":"#N/A"}},null,"",null,"",null,{"$error":"#N/A"}]
[null,{"$f":"OFFSET(Datos!$B$1,MATCH(A97,Datos!$A$2:$A$34,0),0)","v":{"$error":"#N/A"}},null,"",null,{"$f":"OFFSET(Datos!$G$1,MATCH(E97,Datos!$H$2:$H$1121,0),0)","v":{"$error":"#N/A"}},null,"",null,"",null,{"$error":"#N/A"}]
[null,{"$f":"OFFSET(Datos!$B$1,MATCH(A98,Datos!$A$2:$A$34,0),0)","v":{"$error":"#N/A"}},null,"",null,{"$f":"OFFSET(Datos!$G$1,MATCH(E98,Datos!$H$2:$H$1121,0),0)","v":{"$error":"#N/A"}},null,"",null,"",null,{"$error":"#N/A"}]
[null,{"$f":"OFFSET(Datos!$B$1,MATCH(A99,Datos!$A$2:$A$34,0),0)","v":{"$error":"#N/A"}},null,"",null,{"$f":"OFFSET(Datos!$G$1,MATCH(E99,Datos!$H$2:$H$1121,0),0)","v":{"$error":"#N/A"}},null,"",null,"",null,{"$error":"#N/A"}]
[null,{"$f":"OFFSET(Datos!$B$1,MATCH(A100,Datos!$A$2:$A$34,0),0)","v":{"$error":"#N/A"}},null,"",null,{"$f":"OFFSET(Datos!$G$1,MATCH(E100,Datos!$H$2:$H$1121,0),0)","v":{"$error":"#N/A"}},null,"",null,"",null,{"$error":"#N/A"}]
[null,{"$f":"OFFSET(Datos!$B$1,MATCH(A101,Datos!$A$2:$A$34,0),0)","v":{"$error":"#N/A"}},null,"",null,{"$f":"OFFSET(Datos!$G$1,MATCH(E101,Datos!$H$2:$H$1121,0),0)","v":{"$error":"#N/A"}},null,"",null,"",null,{"$error":"#N/A"}]
[null,{"$f":"OFFSET(Datos!$B$1,MATCH(A102,Datos!$A$2:$A$34,0),0)","v":{"$error":"#N/A"}},null,"",null,{"$f":"OFFSET(Datos!$G$1,MATCH(E102,Datos!$H$2:$H$1121,0),0)","v":{"$error":"#N/A"}},null,"",null,"",null,{"$error":"#N/A"}]
[null,{"$f":"OFFSET(Datos!$B$1,MATCH(A103,Datos!$A$2:$A$34,0),0)","v":{"$error":"#N/A"}},null,"",null,{"$f":"OFFSET(Datos!$G$1,MATCH(E103,Datos!$H$2:$H$1121,0),0)","v":{"$error":"#N/A"}},null,"",null,"",null,{"$error":"#N/A"}]
[null,{"$f":"OFFSET(Datos!$B$1,MATCH(A104,Datos!$A$2:$A$34,0),0)","v":{"$error":"#N/A"}},null,"",null,{"$f":"OFFSET(Datos!$G$1,MATCH(E104,Datos!$H$2:$H$1121,0),0)","v":{"$error":"#N/A"}},null,"",null,"",null,{"$error":"#N/A"}]
[null,{"$f":"OFFSET(Datos!$B$1,MATCH(A105,Datos!$A$2:$A$34,0),0)","v":{"$error":"#N/A"}},null,"",null,{"$f":"OFFSET(Datos!$G$1,MATCH(E105,Datos!$H$2:$H$1121,0),0)","v":{"$error":"#N/A"}},null,"",null,"",null,{"$error":"#N/A"}]
[null,{"$f":"OFFSET(Datos!$B$1,MATCH(A106,Datos!$A$2:$A$34,0),0)","v":{"$error":"#N/A"}},null,"",null,{"$f":"OFFSET(Datos!$G$1,MATCH(E106,Datos!$H$2:$H$1121,0),0)","v":{"$error":"#N/A"}},null,"",null,"",null,{"$error":"#N/A"}]
[null,{"$f":"OFFSET(Datos!$B$1,MATCH(A107,Datos!$A$2:$A$34,0),0)","v":{"$error":"#N/A"}},null,"",null,{"$f":"OFFSET(Datos!$G$1,MATCH(E107,Datos!$H$2:$H$1121,0),0)","v":{"$error":"#N/A"}},null,"",null,"",null,{"$error":"#N/A"}]
[null,{"$f":"OFFSET(Datos!$B$1,MATCH(A108,Datos!$A$2:$A$34,0),0)","v":{"$error":"#N/A"}},null,"",null,{"$f":"OFFSET(Datos!$G$1,MATCH(E108,Datos!$H$2:$H$1121,0),0)","v":{"$error":"#N/A"}},null,"",null,"",null,{"$error":"#N/A"}]
[null,{"$f":"OFFSET(Datos!$B$1,MATCH(A109,Datos!$A$2:$A$34,0),0)","v":{"$error":"#N/A"}},null,"",null,{"$f":"OFFSET(Datos!$G$1,MATCH(E109,Datos!$H$2:$H$1121,0),0)","v":{"$error":"#N/A"}},null,"",null,"",null,{"$error":"#N/A"}]
[null,{"$f":"OFFSET(Datos!$B$1,MATCH(A110,Datos!$A$2:$A$34,0),0)","v":{"$error":"#N/A"}},null,"",null,{"$f":"OFFSET(Datos!$G$1,MATCH(E110,Datos!$H$2:$H$1121,0),0)","v":{"$error":"#N/A"}},null,"",null,"",null,{"$error":"#N/A"}]
[null,{"$f":"OFFSET(Datos!$B$1,MATCH(A111,Datos!$A$2:$A$34,0),0)","v":{"$error":"#N/A"}},null,"",null,{"$f":"OFFSET(Datos!$G$1,MATCH(E111,Datos!$H$2:$H$1121,0),0)","v":{"$error":"#N/A"}},null,"",null,"",null,{"$error":"#N/A"}]
[null,{"$f":"OFFSET(Datos!$B$1,MATCH(A112,Datos!$A$2:$A$34,0),0)","v":{"$error":"#N/A"}},null,"",null,{"$f":"OFFSET(Datos!$G$1,MATCH(E112,Datos!$H$2:$H$1121,0),0)","v":{"$error":"#N/A"}},null,"",null,"",null,{"$error":"#N/A"}]
[null,{"$f":"OFFSET(Datos!$B$1,MATCH(A113,Datos!$A$2:$A$34,0),0)","v":{"$error":"#N/A"}},null,"",null,{"$f":"OFFSET(Datos!$G$1,MATCH(E113,Datos!$H$2:$H$1121,0),0)","v":{"$error":"#N/A"}},null,"",null,"",null,{"$error":"#N/A"}]
[null,{"$f":"OFFSET(Datos!$B$1,MATCH(A114,Datos!$A$2:$A$34,0),0)","v":{"$error":"#N/A"}},null,"",null,{"$f":"OFFSET(Datos!$G$1,MATCH(E114,Datos!$H$2:$H$1121,0),0)","v":{"$error":"#N/A"}},null,"",null,"",null,{"$error":"#N/A"}]
[null,{"$f":"OFFSET(Datos!$B$1,MATCH(A115,Datos!$A$2:$A$34,0),0)","v":{"$error":"#N/A"}},null,"",null,{"$f":"OFFSET(Datos!$G$1,MATCH(E115,Datos!$H$2:$H$1121,0),0)","v":{"$error":"#N/A"}},null,"",null,"",null,{"$error":"#N/A"}]
[null,{"$f":"OFFSET(Datos!$B$1,MATCH(A116,Datos!$A$2:$A$34,0),0)","v":{"$error":"#N/A"}},null,"",null,{"$f":"OFFSET(Datos!$G$1,MATCH(E116,Datos!$H$2:$H$1121,0),0)","v":{"$error":"#N/A"}},null,"",null,"",null,{"$error":"#N/A"}]
[null,{"$f":"OFFSET(Datos!$B$1,MATCH(A117,Datos!$A$2:$A$34,0),0)","v":{"$error":"#N/A"}},null,"",null,{"$f":"OFFSET(Datos!$G$1,MATCH(E117,Datos!$H$2:$H$1121,0),0)","v":{"$error":"#N/A"}},null,"",null,"",null,{"$error":"#N/A"}]
[null,{"$f":"OFFSET(Datos!$B$1,MATCH(A118,Datos!$A$2:$A$34,0),0)","v":{"$error":"#N/A"}},null,"",null,{"$f":"OFFSET(Datos!$G$1,MATCH(E118,Datos!$H$2:$H$1121,0),0)","v":{"$error":"#N/A"}},null,"",null,"",null,{"$error":"#N/A"}]
[null,{"$f":"OFFSET(Datos!$B$1,MATCH(A119,Datos!$A$2:$A$34,0),0)","v":{"$error":"#N/A"}},null,"",null,{"$f":"OFFSET(Datos!$G$1,MATCH(E119,Datos!$H$2:$H$1121,0),0)","v":{"$error":"#N/A"}},null,"",null,"",null,{"$error":"#N/A"}]
[null,{"$f":"OFFSET(Datos!$B$1,MATCH(A120,Datos!$A$2:$A$34,0),0)","v":{"$error":"#N/A"}},null,"",null,{"$f":"OFFSET(Datos!$G$1,MATCH(E120,Datos!$H$2:$H$1121,0),0)","v":{"$error":"#N/A"}},null,"",null,"",null,{"$error":"#N/A"}]
[null,{"$f":"OFFSET(Datos!$B$1,MATCH(A121,Datos!$A$2:$A$34,0),0)","v":{"$error":"#N/A"}},null,"",null,{"$f":"OFFSET(Datos!$G$1,MATCH(E121,Datos!$H$2:$H$1121,0),0)","v":{"$error":"#N/A"}},null,"",null,"",null,{"$error":"#N/A"}]
[null,{"$f":"OFFSET(Datos!$B$1,MATCH(A122,Datos!$A$2:$A$34,0),0)","v":{"$error":"#N/A"}},null,"",null,{"$f":"OFFSET(Datos!$G$1,MATCH(E122,Datos!$H$2:$H$1121,0),0)","v":{"$error":"#N/A"}},null,"",null,"",null,{"$error":"#N/A"}]
[null,{"$f":"OFFSET(Datos!$B$1,MATCH(A123,Datos!$A$2:$A$34,0),0)","v":{"$error":"#N/A"}},null,"",null,{"$f":"OFFSET(Datos!$G$1,MATCH(E123,Datos!$H$2:$H$1121,0),0)","v":{"$error":"#N/A"}},null,"",null,"",null,{"$error":"#N/A"}]
[null,{"$f":"OFFSET(Datos!$B$1,MATCH(A124,Datos!$A$2:$A$34,0),0)","v":{"$error":"#N/A"}},null,"",null,{"$f":"OFFSET(Datos!$G$1,MATCH(E124,Datos!$H$2:$H$1121,0),0)","v":{"$error":"#N/A"}},null,"",null,"",null,{"$error":"#N/A"}]
[null,{"$f":"OFFSET(Datos!$B$1,MATCH(A125,Datos!$A$2:$A$34,0),0)","v":{"$error":"#N/A"}},null,"",null,{"$f":"OFFSET(Datos!$G$1,MATCH(E125,Datos!$H$2:$H$1121,0),0)","v":{"$error":"#N/A"}},null,"",null,"",null,{"$error":"#N/A"}]
[null,{"$f":"OFFSET(Datos!$B$1,MATCH(A126,Datos!$A$2:$A$34,0),0)","v":{"$error":"#N/A"}},null,"",null,{"$f":"OFFSET(Datos!$G$1,MATCH(E126,Datos!$H$2:$H$1121,0),0)","v":{"$error":"#N/A"}},null,"",null,"",null,{"$error":"#N/A"}]
[null,{"$f":"OFFSET(Datos!$B$1,MATCH(A127,Datos!$A$2:$A$34,0),0)","v":{"$error":"#N/A"}},null,"",null,{"$f":"OFFSET(Datos!$G$1,MATCH(E127,Datos!$H$2:$H$1121,0),0)","v":{"$error":"#N/A"}},null,"",null,"",null,{"$error":"#N/A"}]
[null,{"$f":"OFFSET(Datos!$B$1,MATCH(A128,Datos!$A$2:$A$34,0),0)","v":{"$error":"#N/A"}},null,"",null,{"$f":"OFFSET(Datos!$G$1,MATCH(E128,Datos!$H$2:$H$1121,0),0)","v":{"$error":"#N/A"}},null,"",null,"",null,{"$error":"#N/A"}]
[null,{"$f":"OFFSET(Datos!$B$1,MATCH(A129,Datos!$A$2:$A$34,0),0)","v":{"$error":"#N/A"}},null,"",null,{"$f":"OFFSET(Datos!$G$1,MATCH(E129,Datos!$H$2:$H$1121,0),0)","v":{"$error":"#N/A"}},null,"",null,"",null,{"$error":"#N/A"}]
[null,{"$f":"OFFSET(Datos!$B$1,MATCH(A130,Datos!$A$2:$A$34,0),0)","v":{"$error":"#N/A"}},null,"",null,{"$f":"OFFSET(Datos!$G$1,MATCH(E130,Datos!$H$2:$H$1121,0),0)","v":{"$error":"#N/A"}},null,"",null,"",null,{"$error":"#N/A"}]
[null,{"$f":"OFFSET(Datos!$B$1,MATCH(A131,Datos!$A$2:$A$34,0),0)","v":{"$error":"#N/A"}},null,{"$f":"MID(C131,1,1)","v":""},null,{"$f":"OFFSET(Datos!$G$1,MATCH(E131,Datos!$H$2:$H$1121,0),0)","v":{"$error":"#N/A"}},null,{"$f":"MID(G131,1,2)","v":""},null,{"$f":"MID(I131,1,2)","v":""},null,{"$f":"CONCATENATE(B131,D131,F131,H131,J131,K131)","v":{"$error":"#N/A"}}]
[null,{"$f":"OFFSET(Datos!$B$1,MATCH(A132,Datos!$A$2:$A$34,0),0)","v":{"$error":"#N/A"}},null,"",null,{"$f":"OFFSET(Datos!$G$1,MATCH(E132,Datos!$H$2:$H$1121,0),0)","v":{"$error":"#N/A"}},null,"",null,"",null,{"$error":"#N/A"}]
[null,{"$f":"OFFSET(Datos!$B$1,MATCH(A133,Datos!$A$2:$A$34,0),0)","v":{"$error":"#N/A"}},null,"",null,{"$f":"OFFSET(Datos!$G$1,MATCH(E133,Datos!$H$2:$H$1121,0),0)","v":{"$error":"#N/A"}},null,"",null,"",null,{"$error":"#N/A"}]
[null,{"$f":"OFFSET(Datos!$B$1,MATCH(A134,Datos!$A$2:$A$34,0),0)","v":{"$error":"#N/A"}},null,"",null,{"$f":"OFFSET(Datos!$G$1,MATCH(E134,Datos!$H$2:$H$1121,0),0)","v":{"$error":"#N/A"}},null,"",null,"",null,{"$error":"#N/A"}]
[null,{"$f":"OFFSET(Datos!$B$1,MATCH(A135,Datos!$A$2:$A$34,0),0)","v":{"$error":"#N/A"}},null,"",null,{"$f":"OFFSET(Datos!$G$1,MATCH(E135,Datos!$H$2:$H$1121,0),0)","v":{"$error":"#N/A"}},null,"",null,"",null,{"$error":"#N/A"}]
[null,{"$f":"OFFSET(Datos!$B$1,MATCH(A136,Datos!$A$2:$A$34,0),0)","v":{"$error":"#N/A"}},null,"",null,{"$f":"OFFSET(Datos!$G$1,MATCH(E136,Datos!$H$2:$H$1121,0),0)","v":{"$error":"#N/A"}},null,"",null,"",null,{"$error":"#N/A"}]
[null,{"$f":"OFFSET(Datos!$B$1,MATCH(A137,Datos!$A$2:$A$34,0),0)","v":{"$error":"#N/A"}},null,"",null,{"$f":"OFFSET(Datos!$G$1,MATCH(E137,Datos!$H$2:$H$1121,0),0)","v":{"$error":"#N/A"}},null,"",null,"",null,{"$error":"#N/A"}]
[null,{"$f":"OFFSET(Datos!$B$1,MATCH(A138,Datos!$A$2:$A$34,0),0)","v":{"$error":"#N/A"}},null,"",null,{"$f":"OFFSET(Datos!$G$1,MATCH(E138,Datos!$H$2:$H$1121,0),0)","v":{"$error":"#N/A"}},null,"",null,"",null,{"$error":"#N/A"}]
[null,{"$f":"OFFSET(Datos!$B$1,MATCH(A139,Datos!$A$2:$A$34,0),0)","v":{"$error":"#N/A"}},null,"",null,{"$f":"OFFSET(Datos!$G$1,MATCH(E139,Datos!$H$2:$H$1121,0),0)","v":{"$error":"#N/A"}},null,"",null,"",null,{"$error":"#N/A"}]
[null,{"$f":"OFFSET(Datos!$B$1,MATCH(A140,Datos!$A$2:$A$34,0),0)","v":{"$error":"#N/A"}},null,"",null,{"$f":"OFFSET(Datos!$G$1,MATCH(E140,Datos!$H$2:$H$1121,0),0)","v":{"$error":"#N/A"}},null,"",null,"",null,{"$error":"#N/A"}]
[null,{"$f":"OFFSET(Datos!$B$1,MATCH(A141,Datos!$A$2:$A$34,0),0)","v":{"$error":"#N/A"}},null,"",null,{"$f":"OFFSET(Datos!$G$1,MATCH(E141,Datos!$H$2:$H$1121,0),0)","v":{"$error":"#N/A"}},null,"",null,"",null,{"$error":"#N/A"}]
[null,{"$f":"OFFSET(Datos!$B$1,MATCH(A142,Datos!$A$2:$A$34,0),0)","v":{"$error":"#N/A"}},null,"",null,{"$f":"OFFSET(Datos!$G$1,MATCH(E142,Datos!$H$2:$H$1121,0),0)","v":{"$error":"#N/A"}},null,"",null,"",null,{"$error":"#N/A"}]
[null,{"$f":"OFFSET(Datos!$B$1,MATCH(A143,Datos!$A$2:$A$34,0),0)","v":{"$error":"#N/A"}},null,"",null,{"$f":"OFFSET(Datos!$G$1,MATCH(E143,Datos!$H$2:$H$1121,0),0)","v":{"$error":"#N/A"}},null,"",null,"",null,{"$error":"#N/A"}]
[null,{"$f":"OFFSET(Datos!$B$1,MATCH(A144,Datos!$A$2:$A$34,0),0)","v":{"$error":"#N/A"}},null,"",null,{"$f":"OFFSET(Datos!$G$1,MATCH(E144,Datos!$H$2:$H$1121,0),0)","v":{"$error":"#N/A"}},null,"",null,"",null,{"$error":"#N/A"}]
[null,{"$f":"OFFSET(Datos!$B$1,MATCH(A145,Datos!$A$2:$A$34,0),0)","v":{"$error":"#N/A"}},null,"",null,{"$f":"OFFSET(Datos!$G$1,MATCH(E145,Datos!$H$2:$H$1121,0),0)","v":{"$error":"#N/A"}},null,"",null,"",null,{"$error":"#N/A"}]
[null,{"$f":"OFFSET(Datos!$B$1,MATCH(A146,Datos!$A$2:$A$34,0),0)","v":{"$error":"#N/A"}},null,"",null,{"$f":"OFFSET(Datos!$G$1,MATCH(E146,Datos!$H$2:$H$1121,0),0)","v":{"$error":"#N/A"}},null,"",null,"",null,{"$error":"#N/A"}]
[null,{"$f":"OFFSET(Datos!$B$1,MATCH(A147,Datos!$A$2:$A$34,0),0)","v":{"$error":"#N/A"}},null,"",null,{"$f":"OFFSET(Datos!$G$1,MATCH(E147,Datos!$H$2:$H$1121,0),0)","v":{"$error":"#N/A"}},null,"",null,"",null,{"$error":"#N/A"}]
[null,{"$f":"OFFSET(Datos!$B$1,MATCH(A148,Datos!$A$2:$A$34,0),0)","v":{"$error":"#N/A"}},null,"",null,{"$f":"OFFSET(Datos!$G$1,MATCH(E148,Datos!$H$2:$H$1121,0),0)","v":{"$error":"#N/A"}},null,"",null,"",null,{"$error":"#N/A"}]
[null,{"$f":"OFFSET(Datos!$B$1,MATCH(A149,Datos!$A$2:$A$34,0),0)","v":{"$error":"#N/A"}},null,"",null,{"$f":"OFFSET(Datos!$G$1,MATCH(E149,Datos!$H$2:$H$1121,0),0)","v":{"$error":"#N/A"}},null,"",null,"",null,{"$error":"#N/A"}]
[null,{"$f":"OFFSET(Datos!$B$1,MATCH(A150,Datos!$A$2:$A$34,0),0)","v":{"$error":"#N/A"}},null,"",null,{"$f":"OFFSET(Datos!$G$1,MATCH(E150,Datos!$H$2:$H$1121,0),0)","v":{"$error":"#N/A"}},null,"",null,"",null,{"$error":"#N/A"}]
[null,{"$f":"OFFSET(Datos!$B$1,MATCH(A151,Datos!$A$2:$A$34,0),0)","v":{"$error":"#N/A"}},null,"",null,{"$f":"OFFSET(Datos!$G$1,MATCH(E151,Datos!$H$2:$H$1121,0),0)","v":{"$error":"#N/A"}},null,"",null,"",null,{"$error":"#N/A"}]
[null,{"$f":"OFFSET(Datos!$B$1,MATCH(A152,Datos!$A$2:$A$34,0),0)","v":{"$error":"#N/A"}},null,"",null,{"$f":"OFFSET(Datos!$G$1,MATCH(E152,Datos!$H$2:$H$1121,0),0)","v":{"$error":"#N/A"}},null,"",null,"",null,{"$error":"#N/A"}]
[null,{"$f":"OFFSET(Datos!$B$1,MATCH(A153,Datos!$A$2:$A$34,0),0)","v":{"$error":"#N/A"}},null,"",null,{"$f":"OFFSET(Datos!$G$1,MATCH(E153,Datos!$H$2:$H$1121,0),0)","v":{"$error":"#N/A"}},null,"",null,"",null,{"$error":"#N/A"}]
[null,{"$f":"OFFSET(Datos!$B$1,MATCH(A154,Datos!$A$2:$A$34,0),0)","v":{"$error":"#N/A"}},null,"",null,{"$f":"OFFSET(Datos!$G$1,MATCH(E154,Datos!$H$2:$H$1121,0),0)","v":{"$error":"#N/A"}},null,"",null,"",null,{"$error":"#N/A"}]
[null,{"$f":"OFFSET(Datos!$B$1,MATCH(A155,Datos!$A$2:$A$34,0),0)","v":{"$error":"#N/A"}},null,"",null,{"$f":"OFFSET(Datos!$G$1,MATCH(E155,Datos!$H$2:$H$1121,0),0)","v":{"$error":"#N/A"}},null,"",null,"",null,{"$error":"#N/A"}]
[null,{"$f":"OFFSET(Datos!$B$1,MATCH(A156,Datos!$A$2:$A$34,0),0)","v":{"$error":"#N/A"}},null,"",null,{"$f":"OFFSET(Datos!$G$1,MATCH(E156,Datos!$H$2:$H$1121,0),0)","v":{"$error":"#N/A"}},null,"",null,"",null,{"$error":"#N/A"}]
[null,{"$f":"OFFSET(Datos!$B$1,MATCH(A157,Datos!$A$2:$A$34,0),0)","v":{"$error":"#N/A"}},null,"",null,{"$f":"OFFSET(Datos!$G$1,MATCH(E157,Datos!$H$2:$H$1121,0),0)","v":{"$error":"#N/A"}},null,"",null,"",null,{"$error":"#N/A"}]
[null,{"$f":"OFFSET(Datos!$B$1,MATCH(A158,Datos!$A$2:$A$34,0),0)","v":{"$error":"#N/A"}},null,"",null,{"$f":"OFFSET(Datos!$G$1,MATCH(E158,Datos!$H$2:$H$1121,0),0)","v":{"$error":"#N/A"}},null,"",null,"",null,{"$error":"#N/A"}]
[null,{"$f":"OFFSET(Datos!$B$1,MATCH(A159,Datos!$A$2:$A$34,0),0)","v":{"$error":"#N/A"}},null,"",null,{"$f":"OFFSET(Datos!$G$1,MATCH(E159,Datos!$H$2:$H$1121,0),0)","v":{"$error":"#N/A"}},null,"",null,"",null,{"$error":"#N/A"}]
[null,{"$f":"OFFSET(Datos!$B$1,MATCH(A160,Datos!$A$2:$A$34,0),0)","v":{"$error":"#N/A"}},null,"",null,{"$f":"OFFSET(Datos!$G$1,MATCH(E160,Datos!$H$2:$H$1121,0),0)","v":{"$error":"#N/A"}},null,"",null,"",null,{"$error":"#N/A"}]
[null,{"$f":"OFFSET(Datos!$B$1,MATCH(A161,Datos!$A$2:$A$34,0),0)","v":{"$error":"#N/A"}},null,"",null,{"$f":"OFFSET(Datos!$G$1,MATCH(E161,Datos!$H$2:$H$1121,0),0)","v":{"$error":"#N/A"}},null,"",null,"",null,{"$error":"#N/A"}]
[null,{"$f":"OFFSET(Datos!$B$1,MATCH(A162,Datos!$A$2:$A$34,0),0)","v":{"$error":"#N/A"}},null,"",null,{"$f":"OFFSET(Datos!$G$1,MATCH(E162,Datos!$H$2:$H$1121,0),0)","v":{"$error":"#N/A"}},null,"",null,"",null,{"$error":"#N/A"}]
[null,{"$f":"OFFSET(Datos!$B$1,MATCH(A163,Datos!$A$2:$A$34,0),0)","v":{"$error":"#N/A"}},null,"",null,{"$f":"OFFSET(Datos!$G$1,MATCH(E163,Datos!$H$2:$H$1121,0),0)","v":{"$error":"#N/A"}},null,"",null,"",null,{"$error":"#N/A"}]
[null,{"$f":"OFFSET(Datos!$B$1,MATCH(A164,Datos!$A$2:$A$34,0),0)","v":{"$error":"#N/A"}},null,"",null,{"$f":"OFFSET(Datos!$G$1,MATCH(E164,Datos!$H$2:$H$1121,0),0)","v":{"$error":"#N/A"}},null,"",null,"",null,{"$error":"#N/A"}]
[null,{"$f":"OFFSET(Datos!$B$1,MATCH(A165,Datos!$A$2:$A$34,0),0)","v":{"$error":"#N/A"}},null,"",null,{"$f":"OFFSET(Datos!$G$1,MATCH(E165,Datos!$H$2:$H$1121,0),0)","v":{"$error":"#N/A"}},null,"",null,"",null,{"$error":"#N/A"}]
[null,{"$f":"OFFSET(Datos!$B$1,MATCH(A166,Datos!$A$2:$A$34,0),0)","v":{"$error":"#N/A"}},null,"",null,{"$f":"OFFSET(Datos!$G$1,MATCH(E166,Datos!$H$2:$H$1121,0),0)","v":{"$error":"#N/A"}},null,"",null,"",null,{"$error":"#N/A"}]
[null,{"$f":"OFFSET(Datos!$B$1,MATCH(A167,Datos!$A$2:$A$34,0),0)","v":{"$error":"#N/A"}},null,"",null,{"$f":"OFFSET(Datos!$G$1,MATCH(E167,Datos!$H$2:$H$1121,0),0)","v":{"$error":"#N/A"}},null,"",null,"",null,{"$error":"#N/A"}]
[null,{"$f":"OFFSET(Datos!$B$1,MATCH(A168,Datos!$A$2:$A$34,0),0)","v":{"$error":"#N/A"}},null,"",null,{"$f":"OFFSET(Datos!$G$1,MATCH(E168,Datos!$H$2:$H$1121,0),0)","v":{"$error":"#N/A"}},null,"",null,"",null,{"$error":"#N/A"}]
[null,{"$f":"OFFSET(Datos!$B$1,MATCH(A169,Datos!$A$2:$A$34,0),0)","v":{"$error":"#N/A"}},null,"",null,{"$f":"OFFSET(Datos!$G$1,MATCH(E169,Datos!$H$2:$H$1121,0),0)","v":{"$error":"#N/A"}},null,"",null,"",null,{"$error":"#N/A"}]
[null,{"$f":"OFFSET(Datos!$B$1,MATCH(A170,Datos!$A$2:$A$34,0),0)","v":{"$error":"#N/A"}},null,"",null,{"$f":"OFFSET(Datos!$G$1,MATCH(E170,Datos!$H$2:$H$1121,0),0)","v":{"$error":"#N/A"}},null,"",null,"",null,{"$error":"#N/A"}]
[null,{"$f":"OFFSET(Datos!$B$1,MATCH(A171,Datos!$A$2:$A$34,0),0)","v":{"$error":"#N/A"}},null,"",null,{"$f":"OFFSET(Datos!$G$1,MATCH(E171,Datos!$H$2:$H$1121,0),0)","v":{"$error":"#N/A"}},null,"",null,"",null,{"$error":"#N/A"}]
[null,{"$f":"OFFSET(Datos!$B$1,MATCH(A172,Datos!$A$2:$A$34,0),0)","v":{"$error":"#N/A"}},null,"",null,{"$f":"OFFSET(Datos!$G$1,MATCH(E172,Datos!$H$2:$H$1121,0),0)","v":{"$error":"#N/A"}},null,"",null,"",null,{"$error":"#N/A"}]
[null,{"$f":"OFFSET(Datos!$B$1,MATCH(A173,Datos!$A$2:$A$34,0),0)","v":{"$error":"#N/A"}},null,"",null,{"$f":"OFFSET(Datos!$G$1,MATCH(E173,Datos!$H$2:$H$1121,0),0)","v":{"$error":"#N/A"}},null,"",null,"",null,{"$error":"#N/A"}]
[null,{"$f":"OFFSET(Datos!$B$1,MATCH(A174,Datos!$A$2:$A$34,0),0)","v":{"$error":"#N/A"}},null,"",null,{"$f":"OFFSET(Datos!$G$1,MATCH(E174,Datos!$H$2:$H$1121,0),0)","v":{"$error":"#N/A"}},null,"",null,"",null,{"$error":"#N/A"}]
[null,{"$f":"OFFSET(Datos!$B$1,MATCH(A175,Datos!$A$2:$A$34,0),0)","v":{"$error":"#N/A"}},null,"",null,{"$f":"OFFSET(Datos!$G$1,MATCH(E175,Datos!$H$2:$H$1121,0),0)","v":{"$error":"#N/A"}},null,"",null,"",null,{"$error":"#N/A"}]
[null,{"$f":"OFFSET(Datos!$B$1,MATCH(A176,Datos!$A$2:$A$34,0),0)","v":{"$error":"#N/A"}},null,"",null,{"$f":"OFFSET(Datos!$G$1,MATCH(E176,Datos!$H$2:$H$1121,0),0)","v":{"$error":"#N/A"}},null,"",null,"",null,{"$error":"#N/A"}]
[null,{"$f":"OFFSET(Datos!$B$1,MATCH(A177,Datos!$A$2:$A$34,0),0)","v":{"$error":"#N/A"}},null,"",null,{"$f":"OFFSET(Datos!$G$1,MATCH(E177,Datos!$H$2:$H$1121,0),0)","v":{"$error":"#N/A"}},null,"",null,"",null,{"$error":"#N/A"}]
[null,{"$f":"OFFSET(Datos!$B$1,MATCH(A178,Datos!$A$2:$A$34,0),0)","v":{"$error":"#N/A"}},null,"",null,{"$f":"OFFSET(Datos!$G$1,MATCH(E178,Datos!$H$2:$H$1121,0),0)","v":{"$error":"#N/A"}},null,"",null,"",null,{"$error":"#N/A"}]
[null,{"$f":"OFFSET(Datos!$B$1,MATCH(A179,Datos!$A$2:$A$34,0),0)","v":{"$error":"#N/A"}},null,"",null,{"$f":"OFFSET(Datos!$G$1,MATCH(E179,Datos!$H$2:$H$1121,0),0)","v":{"$error":"#N/A"}},null,"",null,"",null,{"$error":"#N/A"}]
[null,{"$f":"OFFSET(Datos!$B$1,MATCH(A180,Datos!$A$2:$A$34,0),0)","v":{"$error":"#N/A"}},null,"",null,{"$f":"OFFSET(Datos!$G$1,MATCH(E180,Datos!$H$2:$H$1121,0),0)","v":{"$error":"#N/A"}},null,"",null,"",null,{"$error":"#N/A"}]
[null,{"$f":"OFFSET(Datos!$B$1,MATCH(A181,Datos!$A$2:$A$34,0),0)","v":{"$error":"#N/A"}},null,"",null,{"$f":"OFFSET(Datos!$G$1,MATCH(E181,Datos!$H$2:$H$1121,0),0)","v":{"$error":"#N/A"}},null,"",null,"",null,{"$error":"#N/A"}]
[null,{"$f":"OFFSET(Datos!$B$1,MATCH(A182,Datos!$A$2:$A$34,0),0)","v":{"$error":"#N/A"}},null,"",null,{"$f":"OFFSET(Datos!$G$1,MATCH(E182,Datos!$H$2:$H$1121,0),0)","v":{"$error":"#N/A"}},null,"",null,"",null,{"$error":"#N/A"}]
[null,{"$f":"OFFSET(Datos!$B$1,MATCH(A183,Datos!$A$2:$A$34,0),0)","v":{"$error":"#N/A"}},null,"",null,{"$f":"OFFSET(Datos!$G$1,MATCH(E183,Datos!$H$2:$H$1121,0),0)","v":{"$error":"#N/A"}},null,"",null,"",null,{"$error":"#N/A"}]
[null,{"$f":"OFFSET(Datos!$B$1,MATCH(A184,Datos!$A$2:$A$34,0),0)","v":{"$error":"#N/A"}},null,"",null,{"$f":"OFFSET(Datos!$G$1,MATCH(E184,Datos!$H$2:$H$1121,0),0)","v":{"$error":"#N/A"}},null,"",null,"",null,{"$error":"#N/A"}]
[null,{"$f":"OFFSET(Datos!$B$1,MATCH(A185,Datos!$A$2:$A$34,0),0)","v":{"$error":"#N/A"}},null,"",null,{"$f":"OFFSET(Datos!$G$1,MATCH(E185,Datos!$H$2:$H$1121,0),0)","v":{"$error":"#N/A"}},null,"",null,"",null,{"$error":"#N/A"}]
[null,{"$f":"OFFSET(Datos!$B$1,MATCH(A186,Datos!$A$2:$A$34,0),0)","v":{"$error":"#N/A"}},null,"",null,{"$f":"OFFSET(Datos!$G$1,MATCH(E186,Datos!$H$2:$H$1121,0),0)","v":{"$error":"#N/A"}},null,"",null,"",null,{"$error":"#N/A"}]
[null,{"$f":"OFFSET(Datos!$B$1,MATCH(A187,Datos!$A$2:$A$34,0),0)","v":{"$error":"#N/A"}},null,"",null,{"$f":"OFFSET(Datos!$G$1,MATCH(E187,Datos!$H$2:$H$1121,0),0)","v":{"$error":"#N/A"}},null,"",null,"",null,{"$error":"#N/A"}]
[null,{"$f":"OFFSET(Datos!$B$1,MATCH(A188,Datos!$A$2:$A$34,0),0)","v":{"$error":"#N/A"}},null,"",null,{"$f":"OFFSET(Datos!$G$1,MATCH(E188,Datos!$H$2:$H$1121,0),0)","v":{"$error":"#N/A"}},null,"",null,"",null,{"$error":"#N/A"}]
[null,{"$f":"OFFSET(Datos!$B$1,MATCH(A189,Datos!$A$2:$A$34,0),0)","v":{"$error":"#N/A"}},null,"",null,{"$f":"OFFSET(Datos!$G$1,MATCH(E189,Datos!$H$2:$H$1121,0),0)","v":{"$error":"#N/A"}},null,"",null,"",null,{"$error":"#N/A"}]
[null,{"$f":"OFFSET(Datos!$B$1,MATCH(A190,Datos!$A$2:$A$34,0),0)","v":{"$error":"#N/A"}},null,"",null,{"$f":"OFFSET(Datos!$G$1,MATCH(E190,Datos!$H$2:$H$1121,0),0)","v":{"$error":"#N/A"}},null,"",null,"",null,{"$error":"#N/A"}]
[null,{"$f":"OFFSET(Datos!$B$1,MATCH(A191,Datos!$A$2:$A$34,0),0)","v":{"$error":"#N/A"}},null,"",null,{"$f":"OFFSET(Datos!$G$1,MATCH(E191,Datos!$H$2:$H$1121,0),0)","v":{"$error":"#N/A"}},null,"",null,"",null,{"$error":"#N/A"}]
[null,{"$f":"OFFSET(Datos!$B$1,MATCH(A192,Datos!$A$2:$A$34,0),0)","v":{"$error":"#N/A"}},null,"",null,{"$f":"OFFSET(Datos!$G$1,MATCH(E192,Datos!$H$2:$H$1121,0),0)","v":{"$error":"#N/A"}},null,"",null,"",null,{"$error":"#N/A"}]
[null,{"$f":"OFFSET(Datos!$B$1,MATCH(A193,Datos!$A$2:$A$34,0),0)","v":{"$error":"#N/A"}},null,"",null,{"$f":"OFFSET(Datos!$G$1,MATCH(E193,Datos!$H$2:$H$1121,0),0)","v":{"$error":"#N/A"}},null,"",null,"",null,{"$error":"#N/A"}]
[null,{"$f":"OFFSET(Datos!$B$1,MATCH(A194,Datos!$A$2:$A$34,0),0)","v":{"$error":"#N/A"}},null,"",null,{"$f":"OFFSET(Datos!$G$1,MATCH(E194,Datos!$H$2:$H$1121,0),0)","v":{"$error":"#N/A"}},null,"",null,"",null,{"$error":"#N/A"}]
[null,{"$f":"OFFSET(Datos!$B$1,MATCH(A195,Datos!$A$2:$A$34,0),0)","v":{"$error":"#N/A"}},null,{"$f":"MID(C195,1,1)","v":""},null,{"$f":"OFFSET(Datos!$G$1,MATCH(E195,Datos!$H$2:$H$1121,0),0)","v":{"$error":"#N/A"}},null,{"$f":"MID(G195,1,2)","v":""},null,{"$f":"MID(I195,1,2)","v":""},null,{"$f":"CONCATENATE(B195,D195,F195,H195,J195,K195)","v":{"$error":"#N/A"}}]
[null,{"$f":"OFFSET(Datos!$B$1,MATCH(A196,Datos!$A$2:$A$34,0),0)","v":{"$error":"#N/A"}},null,"",null,{"$f":"OFFSET(Datos!$G$1,MATCH(E196,Datos!$H$2:$H$1121,0),0)","v":{"$error":"#N/A"}},null,"",null,"",null,{"$error":"#N/A"}]
[null,{"$f":"OFFSET(Datos!$B$1,MATCH(A197,Datos!$A$2:$A$34,0),0)","v":{"$error":"#N/A"}},null,"",null,{"$f":"OFFSET(Datos!$G$1,MATCH(E197,Datos!$H$2:$H$1121,0),0)","v":{"$error":"#N/A"}},null,"",null,"",null,{"$error":"#N/A"}]
[null,{"$f":"OFFSET(Datos!$B$1,MATCH(A198,Datos!$A$2:$A$34,0),0)","v":{"$error":"#N/A"}},null,"",null,{"$f":"OFFSET(Datos!$G$1,MATCH(E198,Datos!$H$2:$H$1121,0),0)","v":{"$error":"#N/A"}},null,"",null,"",null,{"$error":"#N/A"}]
[null,{"$f":"OFFSET(Datos!$B$1,MATCH(A199,Datos!$A$2:$A$34,0),0)","v":{"$error":"#N/A"}},null,"",null,{"$f":"OFFSET(Datos!$G$1,MATCH(E199,Datos!$H$2:$H$1121,0),0)","v":{"$error":"#N/A"}},null,"",null,"",null,{"$error":"#N/A"}]
[null,{"$f":"OFFSET(Datos!$B$1,MATCH(A200,Datos!$A$2:$A$34,0),0)","v":{"$error":"#N/A"}},null,"",null,{"$f":"OFFSET(Datos!$G$1,MATCH(E200,Datos!$H$2:$H$1121,0),0)","v":{"$error":"#N/A"}},null,"",null,"",null,{"$error":"#N/A"}]
[null,{"$f":"OFFSET(Datos!$B$1,MATCH(A201,Datos!$A$2:$A$34,0),0)","v":{"$error":"#N/A"}},null,"",null,{"$f":"OFFSET(Datos!$G$1,MATCH(E201,Datos!$H$2:$H$1121,0),0)","v":{"$error":"#N/A"}},null,"",null,"",null,{"$error":"#N/A"}]
[null,{"$f":"OFFSET(Datos!$B$1,MATCH(A202,Datos!$A$2:$A$34,0),0)","v":{"$error":"#N/A"}},null,"",null,{"$f":"OFFSET(Datos!$G$1,MATCH(E202,Datos!$H$2:$H$1121,0),0)","v":{"$error":"#N/A"}},null,"",null,"",null,{"$error":"#N/A"}]
[null,{"$f":"OFFSET(Datos!$B$1,MATCH(A203,Datos!$A$2:$A$34,0),0)","v":{"$error":"#N/A"}},null,"",null,{"$f":"OFFSET(Datos!$G$1,MATCH(E203,Datos!$H$2:$H$1121,0),0)","v":{"$error":"#N/A"}},null,"",null,"",null,{"$error":"#N/A"}]
[null,{"$f":"OFFSET(Datos!$B$1,MATCH(A204,Datos!$A$2:$A$34,0),0)","v":{"$error":"#N/A"}},null,"",null,{"$f":"OFFSET(Datos!$G$1,MATCH(E204,Datos!$H$2:$H$1121,0),0)","v":{"$error":"#N/A"}},null,"",null,"",null,{"$error":"#N/A"}]
[null,{"$f":"OFFSET(Datos!$B$1,MATCH(A205,Datos!$A$2:$A$34,0),0)","v":{"$error":"#N/A"}},null,"",null,{"$f":"OFFSET(Datos!$G$1,MATCH(E205,Datos!$H$2:$H$1121,0),0)","v":{"$error":"#N/A"}},null,"",null,"",null,{"$error":"#N/A"}]
[null,{"$f":"OFFSET(Datos!$B$1,MATCH(A206,Datos!$A$2:$A$34,0),0)","v":{"$error":"#N/A"}},null,"",null,{"$f":"OFFSET(Datos!$G$1,MATCH(E206,Datos!$H$2:$H$1121,0),0)","v":{"$error":"#N/A"}},null,"",null,"",null,{"$error":"#N/A"}]
[null,{"$f":"OFFSET(Datos!$B$1,MATCH(A207,Datos!$A$2:$A$34,0),0)","v":{"$error":"#N/A"}},null,"",null,{"$f":"OFFSET(Datos!$G$1,MATCH(E207,Datos!$H$2:$H$1121,0),0)","v":{"$error":"#N/A"}},null,"",null,"",null,{"$error":"#N/A"}]
[null,{"$f":"OFFSET(Datos!$B$1,MATCH(A208,Datos!$A$2:$A$34,0),0)","v":{"$error":"#N/A"}},null,"",null,{"$f":"OFFSET(Datos!$G$1,MATCH(E208,Datos!$H$2:$H$1121,0),0)","v":{"$error":"#N/A"}},null,"",null,"",null,{"$error":"#N/A"}]
[null,{"$f":"OFFSET(Datos!$B$1,MATCH(A209,Datos!$A$2:$A$34,0),0)","v":{"$error":"#N/A"}},null,"",null,{"$f":"OFFSET(Datos!$G$1,MATCH(E209,Datos!$H$2:$H$1121,0),0)","v":{"$error":"#N/A"}},null,"",null,"",null,{"$error":"#N/A"}]
[null,{"$f":"OFFSET(Datos!$B$1,MATCH(A210,Datos!$A$2:$A$34,0),0)","v":{"$error":"#N/A"}},null,"",null,{"$f":"OFFSET(Datos!$G$1,MATCH(E210,Datos!$H$2:$H$1121,0),0)","v":{"$error":"#N/A"}},null,"",null,"",null,{"$error":"#N/A"}]
[null,{"$f":"OFFSET(Datos!$B$1,MATCH(A211,Datos!$A$2:$A$34,0),0)","v":{"$error":"#N/A"}},null,"",null,{"$f":"OFFSET(Datos!$G$1,MATCH(E211,Datos!$H$2:$H$1121,0),0)","v":{"$error":"#N/A"}},null,"",null,"",null,{"$error":"#N/A"}]
[null,{"$f":"OFFSET(Datos!$B$1,MATCH(A212,Datos!$A$2:$A$34,0),0)","v":{"$error":"#N/A"}},null,"",null,{"$f":"OFFSET(Datos!$G$1,MATCH(E212,Datos!$H$2:$H$1121,0),0)","v":{"$error":"#N/A"}},null,"",null,"",null,{"$error":"#N/A"}]
[null,{"$f":"OFFSET(Datos!$B$1,MATCH(A213,Datos!$A$2:$A$34,0),0)","v":{"$error":"#N/A"}},null,"",null,{"$f":"OFFSET(Datos!$G$1,MATCH(E213,Datos!$H$2:$H$1121,0),0)","v":{"$error":"#N/A"}},null,"",null,"",null,{"$error":"#N/A"}]
[null,{"$f":"OFFSET(Datos!$B$1,MATCH(A214,Datos!$A$2:$A$34,0),0)","v":{"$error":"#N/A"}},null,"",null,{"$f":"OFFSET(Datos!$G$1,MATCH(E214,Datos!$H$2:$H$1121,0),0)","v":{"$error":"#N/A"}},null,"",null,"",null,{"$error":"#N/A"}]
[null,{"$f":"OFFSET(Datos!$B$1,MATCH(A215,Datos!$A$2:$A$34,0),0)","v":{"$error":"#N/A"}},null,"",null,{"$f":"OFFSET(Datos!$G$1,MATCH(E215,Datos!$H$2:$H$1121,0),0)","v":{"$error":"#N/A"}},null,"",null,"",null,{"$error":"#N/A"}]
[null,{"$f":"OFFSET(Datos!$B$1,MATCH(A216,Datos!$A$2:$A$34,0),0)","v":{"$error":"#N/A"}},null,"",null,{"$f":"OFFSET(Datos!$G$1,MATCH(E216,Datos!$H$2:$H$1121,0),0)","v":{"$error":"#N/A"}},null,"",null,"",null,{"$error":"#N/A"}]
[null,{"$f":"OFFSET(Datos!$B$1,MATCH(A217,Datos!$A$2:$A$34,0),0)","v":{"$error":"#N/A"}},null,"",null,{"$f":"OFFSET(Datos!$G$1,MATCH(E217,Datos!$H$2:$H$1121,0),0)","v":{"$error":"#N/A"}},null,"",null,"",null,{"$error":"#N/A"}]
[null,{"$f":"OFFSET(Datos!$B$1,MATCH(A218,Datos!$A$2:$A$34,0),0)","v":{"$error":"#N/A"}},null,"",null,{"$f":"OFFSET(Datos!$G$1,MATCH(E218,Datos!$H$2:$H$1121,0),0)","v":{"$error":"#N/A"}},null,"",null,"",null,{"$error":"#N/A"}]
[null,{"$f":"OFFSET(Datos!$B$1,MATCH(A219,Datos!$A$2:$A$34,0),0)","v":{"$error":"#N/A"}},null,"",null,{"$f":"OFFSET(Datos!$G$1,MATCH(E219,Datos!$H$2:$H$1121,0),0)","v":{"$error":"#N/A"}},null,"",null,"",null,{"$error":"#N/A"}]
[null,{"$f":"OFFSET(Datos!$B$1,MATCH(A220,Datos!$A$2:$A$34,0),0)","v":{"$error":"#N/A"}},null,"",null,{"$f":"OFFSET(Datos!$G$1,MATCH(E220,Datos!$H$2:$H$1121,0),0)","v":{"$error":"#N/A"}},null,"",null,"",null,{"$error":"#N/A"}]
[null,{"$f":"OFFSET(Datos!$B$1,MATCH(A221,Datos!$A$2:$A$34,0),0)","v":{"$error":"#N/A"}},null,"",null,{"$f":"OFFSET(Datos!$G$1,MATCH(E221,Datos!$H$2:$H$1121,0),0)","v":{"$error":"#N/A"}},null,"",null,"",null,{"$error":"#N/A"}]
[null,{"$f":"OFFSET(Datos!$B$1,MATCH(A222,Datos!$A$2:$A$34,0),0)","v":{"$error":"#N/A"}},null,"",null,{"$f":"OFFSET(Datos!$G$1,MATCH(E222,Datos!$H$2:$H$1121,0),0)","v":{"$error":"#N/A"}},null,"",null,"",null,{"$error":"#N/A"}]
[null,{"$f":"OFFSET(Datos!$B$1,MATCH(A223,Datos!$A$2:$A$34,0),0)","v":{"$error":"#N/A"}},null,"",null,{"$f":"OFFSET(Datos!$G$1,MATCH(E223,Datos!$H$2:$H$1121,0),0)","v":{"$error":"#N/A"}},null,"",null,"",null,{"$error":"#N/A"}]
[null,{"$f":"OFFSET(Datos!$B$1,MATCH(A224,Datos!$A$2:$A$34,0),0)","v":{"$error":"#N/A"}},null,"",null,{"$f":"OFFSET(Datos!$G$1,MATCH(E224,Datos!$H$2:$H$1121,0),0)","v":{"$error":"#N/A"}},null,"",null,"",null,{"$error":"#N/A"}]
[null,{"$f":"OFFSET(Datos!$B$1,MATCH(A225,Datos!$A$2:$A$34,0),0)","v":{"$error":"#N/A"}},null,"",null,{"$f":"OFFSET(Datos!$G$1,MATCH(E225,Datos!$H$2:$H$1121,0),0)","v":{"$error":"#N/A"}},null,"",null,"",null,{"$error":"#N/A"}]
[null,{"$f":"OFFSET(Datos!$B$1,MATCH(A226,Datos!$A$2:$A$34,0),0)","v":{"$error":"#N/A"}},null,"",null,{"$f":"OFFSET(Datos!$G$1,MATCH(E226,Datos!$H$2:$H$1121,0),0)","v":{"$error":"#N/A"}},null,"",null,"",null,{"$error":"#N/A"}]
[null,{"$f":"OFFSET(Datos!$B$1,MATCH(A227,Datos!$A$2:$A$34,0),0)","v":{"$error":"#N/A"}},null,"",null,{"$f":"OFFSET(Datos!$G$1,MATCH(E227,Datos!$H$2:$H$1121,0),0)","v":{"$error":"#N/A"}},null,"",null,"",null,{"$error":"#N/A"}]
[null,{"$f":"OFFSET(Datos!$B$1,MATCH(A228,Datos!$A$2:$A$34,0),0)","v":{"$error":"#N/A"}},null,"",null,{"$f":"OFFSET(Datos!$G$1,MATCH(E228,Datos!$H$2:$H$1121,0),0)","v":{"$error":"#N/A"}},null,"",null,"",null,{"$error":"#N/A"}]
[null,{"$f":"OFFSET(Datos!$B$1,MATCH(A229,Datos!$A$2:$A$34,0),0)","v":{"$error":"#N/A"}},null,"",null,{"$f":"OFFSET(Datos!$G$1,MATCH(E229,Datos!$H$2:$H$1121,0),0)","v":{"$error":"#N/A"}},null,"",null,"",null,{"$error":"#N/A"}]
[null,{"$f":"OFFSET(Datos!$B$1,MATCH(A230,Datos!$A$2:$A$34,0),0)","v":{"$error":"#N/A"}},null,"",null,{"$f":"OFFSET(Datos!$G$1,MATCH(E230,Datos!$H$2:$H$1121,0),0)","v":{"$error":"#N/A"}},null,"",null,"",null,{"$error":"#N/A"}]
[null,{"$f":"OFFSET(Datos!$B$1,MATCH(A231,Datos!$A$2:$A$34,0),0)","v":{"$error":"#N/A"}},null,"",null,{"$f":"OFFSET(Datos!$G$1,MATCH(E231,Datos!$H$2:$H$1121,0),0)","v":{"$error":"#N/A"}},null,"",null,"",null,{"$error":"#N/A"}]
[null,{"$f":"OFFSET(Datos!$B$1,MATCH(A232,Datos!$A$2:$A$34,0),0)","v":{"$error":"#N/A"}},null,"",null,{"$f":"OFFSET(Datos!$G$1,MATCH(E232,Datos!$H$2:$H$1121,0),0)","v":{"$error":"#N/A"}},null,"",null,"",null,{"$error":"#N/A"}]
[null,{"$f":"OFFSET(Datos!$B$1,MATCH(A233,Datos!$A$2:$A$34,0),0)","v":{"$error":"#N/A"}},null,"",null,{"$f":"OFFSET(Datos!$G$1,MATCH(E233,Datos!$H$2:$H$1121,0),0)","v":{"$error":"#N/A"}},null,"",null,"",null,{"$error":"#N/A"}]
[null,{"$f":"OFFSET(Datos!$B$1,MATCH(A234,Datos!$A$2:$A$34,0),0)","v":{"$error":"#N/A"}},null,"",null,{"$f":"OFFSET(Datos!$G$1,MATCH(E234,Datos!$H$2:$H$1121,0),0)","v":{"$error":"#N/A"}},null,"",null,"",null,{"$error":"#N/A"}]
[null,{"$f":"OFFSET(Datos!$B$1,MATCH(A235,Datos!$A$2:$A$34,0),0)","v":{"$error":"#N/A"}},null,"",null,{"$f":"OFFSET(Datos!$G$1,MATCH(E235,Datos!$H$2:$H$1121,0),0)","v":{"$error":"#N/A"}},null,"",null,"",null,{"$error":"#N/A"}]
[null,{"$f":"OFFSET(Datos!$B$1,MATCH(A236,Datos!$A$2:$A$34,0),0)","v":{"$error":"#N/A"}},null,"",null,{"$f":"OFFSET(Datos!$G$1,MATCH(E236,Datos!$H$2:$H$1121,0),0)","v":{"$error":"#N/A"}},null,"",null,"",null,{"$error":"#N/A"}]
[null,{"$f":"OFFSET(Datos!$B$1,MATCH(A237,Datos!$A$2:$A$34,0),0)","v":{"$error":"#N/A"}},null,"",null,{"$f":"OFFSET(Datos!$G$1,MATCH(E237,Datos!$H$2:$H$1121,0),0)","v":{"$error":"#N/A"}},null,"",null,"",null,{"$error":"#N/A"}]
[null,{"$f":"OFFSET(Datos!$B$1,MATCH(A238,Datos!$A$2:$A$34,0),0)","v":{"$error":"#N/A"}},null,"",null,{"$f":"OFFSET(Datos!$G$1,MATCH(E238,Datos!$H$2:$H$1121,0),0)","v":{"$error":"#N/A"}},null,"",null,"",null,{"$error":"#N/A"}]
[null,{"$f":"OFFSET(Datos!$B$1,MATCH(A239,Datos!$A$2:$A$34,0),0)","v":{"$error":"#N/A"}},null,"",null,{"$f":"OFFSET(Datos!$G$1,MATCH(E239,Datos!$H$2:$H$1121,0),0)","v":{"$error":"#N/A"}},null,"",null,"",null,{"$error":"#N/A"}]
[null,{"$f":"OFFSET(Datos!$B$1,MATCH(A240,Datos!$A$2:$A$34,0),0)","v":{"$error":"#N/A"}},null,"",null,{"$f":"OFFSET(Datos!$G$1,MATCH(E240,Datos!$H$2:$H$1121,0),0)","v":{"$error":"#N/A"}},null,"",null,"",null,{"$error":"#N/A"}]
[null,{"$f":"OFFSET(Datos!$B$1,MATCH(A241,Datos!$A$2:$A$34,0),0)","v":{"$error":"#N/A"}},null,"",null,{"$f":"OFFSET(Datos!$G$1,MATCH(E241,Datos!$H$2:$H$1121,0),0)","v":{"$error":"#N/A"}},null,"",null,"",null,{"$error":"#N/A"}]
[null,{"$f":"OFFSET(Datos!$B$1,MATCH(A242,Datos!$A$2:$A$34,0),0)","v":{"$error":"#N/A"}},null,"",null,{"$f":"OFFSET(Datos!$G$1,MATCH(E242,Datos!$H$2:$H$1121,0),0)","v":{"$error":"#N/A"}},null,"",null,"",null,{"$error":"#N/A"}]
[null,{"$f":"OFFSET(Datos!$B$1,MATCH(A243,Datos!$A$2:$A$34,0),0)","v":{"$error":"#N/A"}},null,"",null,{"$f":"OFFSET(Datos!$G$1,MATCH(E243,Datos!$H$2:$H$1121,0),0)","v":{"$error":"#N/A"}},null,"",null,"",null,{"$error":"#N/A"}]
[null,{"$f":"OFFSET(Datos!$B$1,MATCH(A244,Datos!$A$2:$A$34,0),0)","v":{"$error":"#N/A"}},null,"",null,{"$f":"OFFSET(Datos!$G$1,MATCH(E244,Datos!$H$2:$H$1121,0),0)","v":{"$error":"#N/A"}},null,"",null,"",null,{"$error":"#N/A"}]
[null,{"$f":"OFFSET(Datos!$B$1,MATCH(A245,Datos!$A$2:$A$34,0),0)","v":{"$error":"#N/A"}},null,"",null,{"$f":"OFFSET(Datos!$G$1,MATCH(E245,Datos!$H$2:$H$1121,0),0)","v":{"$error":"#N/A"}},null,"",null,"",null,{"$error":"#N/A"}]
[null,{"$f":"OFFSET(Datos!$B$1,MATCH(A246,Datos!$A$2:$A$34,0),0)","v":{"$error":"#N/A"}},null,"",null,{"$f":"OFFSET(Datos!$G$1,MATCH(E246,Datos!$H$2:$H$1121,0),0)","v":{"$error":"#N/A"}},null,"",null,"",null,{"$error":"#N/A"}]
[null,{"$f":"OFFSET(Datos!$B$1,MATCH(A247,Datos!$A$2:$A$34,0),0)","v":{"$error":"#N/A"}},null,"",null,{"$f":"OFFSET(Datos!$G$1,MATCH(E247,Datos!$H$2:$H$1121,0),0)","v":{"$error":"#N/A"}},null,"",null,"",null,{"$error":"#N/A"}]
[null,{"$f":"OFFSET(Datos!$B$1,MATCH(A248,Datos!$A$2:$A$34,0),0)","v":{"$error":"#N/A"}},null,"",null,{"$f":"OFFSET(Datos!$G$1,MATCH(E248,Datos!$H$2:$H$1121,0),0)","v":{"$error":"#N/A"}},null,"",null,"",null,{"$error":"#N/A"}]
[null,{"$f":"OFFSET(Datos!$B$1,MATCH(A249,Datos!$A$2:$A$34,0),0)","v":{"$error":"#N/A"}},null,"",null,{"$f":"OFFSET(Datos!$G$1,MATCH(E249,Datos!$H$2:$H$1121,0),0)","v":{"$error":"#N/A"}},null,"",null,"",null,{"$error":"#N/A"}]
[null,{"$f":"OFFSET(Datos!$B$1,MATCH(A250,Datos!$A$2:$A$34,0),0)","v":{"$error":"#N/A"}},null,"",null,{"$f":"OFFSET(Datos!$G$1,MATCH(E250,Datos!$H$2:$H$1121,0),0)","v":{"$error":"#N/A"}},null,"",null,"",null,{"$error":"#N/A"}]
[null,{"$f":"OFFSET(Datos!$B$1,MATCH(A251,Datos!$A$2:$A$34,0),0)","v":{"$error":"#N/A"}},null,"",null,{"$f":"OFFSET(Datos!$G$1,MATCH(E251,Datos!$H$2:$H$1121,0),0)","v":{"$error":"#N/A"}},null,"",null,"",null,{"$error":"#N/A"}]
[null,{"$f":"OFFSET(Datos!$B$1,MATCH(A252,Datos!$A$2:$A$34,0),0)","v":{"$error":"#N/A"}},null,"",null,{"$f":"OFFSET(Datos!$G$1,MATCH(E252,Datos!$H$2:$H$1121,0),0)","v":{"$error":"#N/A"}},null,"",null,"",null,{"$error":"#N/A"}]
[null,{"$f":"OFFSET(Datos!$B$1,MATCH(A253,Datos!$A$2:$A$34,0),0)","v":{"$error":"#N/A"}},null,"",null,{"$f":"OFFSET(Datos!$G$1,MATCH(E253,Datos!$H$2:$H$1121,0),0)","v":{"$error":"#N/A"}},null,"",null,"",null,{"$error":"#N/A"}]
[null,{"$f":"OFFSET(Datos!$B$1,MATCH(A254,Datos!$A$2:$A$34,0),0)","v":{"$error":"#N/A"}},null,"",null,{"$f":"OFFSET(Datos!$G$1,MATCH(E254,Datos!$H$2:$H$1121,0),0)","v":{"$error":"#N/A"}},null,"",null,"",null,{"$error":"#N/A"}]
[null,{"$f":"OFFSET(Datos!$B$1,MATCH(A255,Datos!$A$2:$A$34,0),0)","v":{"$error":"#N/A"}},null,"",null,{"$f":"OFFSET(Datos!$G$1,MATCH(E255,Datos!$H$2:$H$1121,0),0)","v":{"$error":"#N/A"}},null,"",null,"",null,{"$error":"#N/A"}]
[null,{"$f":"OFFSET(Datos!$B$1,MATCH(A256,Datos!$A$2:$A$34,0),0)","v":{"$error":"#N/A"}},null,"",null,{"$f":"OFFSET(Datos!$G$1,MATCH(E256,Datos!$H$2:$H$1121,0),0)","v":{"$error":"#N/A"}},null,"",null,"",null,{"$error":"#N/A"}]
[null,{"$f":"OFFSET(Datos!$B$1,MATCH(A257,Datos!$A$2:$A$34,0),0)","v":{"$error":"#N/A"}},null,"",null,{"$f":"OFFSET(Datos!$G$1,MATCH(E257,Datos!$H$2:$H$1121,0),0)","v":{"$error":"#N/A"}},null,"",null,"",null,{"$error":"#N/A"}]
[null,{"$f":"OFFSET(Datos!$B$1,MATCH(A258,Datos!$A$2:$A$34,0),0)","v":{"$error":"#N/A"}},null,"",null,{"$f":"OFFSET(Datos!$G$1,MATCH(E258,Datos!$H$2:$H$1121,0),0)","v":{"$error":"#N/A"}},null,"",null,"",null,{"$error":"#N/A"}]
[null,{"$f":"OFFSET(Datos!$B$1,MATCH(A259,Datos!$A$2:$A$34,0),0)","v":{"$error":"#N/A"}},null,{"$f":"MID(C259,1,1)","v":""},null,{"$f":"OFFSET(Datos!$G$1,MATCH(E259,Datos!$H$2:$H$1121,0),0)","v":{"$error":"#N/A"}},null,{"$f":"MID(G259,1,2)","v":""},null,{"$f":"MID(I259,1,2)","v":""},null,{"$f":"CONCATENATE(B259,D259,F259,H259,J259,K259)","v":{"$error":"#N/A"}}]
[null,{"$f":"OFFSET(Datos!$B$1,MATCH(A260,Datos!$A$2:$A$34,0),0)","v":{"$error":"#N/A"}},null,"",null,{"$f":"OFFSET(Datos!$G$1,MATCH(E260,Datos!$H$2:$H$1121,0),0)","v":{"$error":"#N/A"}},null,"",null,"",null,{"$error":"#N/A"}]
[null,{"$f":"OFFSET(Datos!$B$1,MATCH(A261,Datos!$A$2:$A$34,0),0)","v":{"$error":"#N/A"}},null,"",null,{"$f":"OFFSET(Datos!$G$1,MATCH(E261,Datos!$H$2:$H$1121,0),0)","v":{"$error":"#N/A"}},null,"",null,"",null,{"$error":"#N/A"}]
[null,{"$f":"OFFSET(Datos!$B$1,MATCH(A262,Datos!$A$2:$A$34,0),0)","v":{"$error":"#N/A"}},null,"",null,{"$f":"OFFSET(Datos!$G$1,MATCH(E262,Datos!$H$2:$H$1121,0),0)","v":{"$error":"#N/A"}},null,"",null,"",null,{"$error":"#N/A"}]
[null,{"$f":"OFFSET(Datos!$B$1,MATCH(A263,Datos!$A$2:$A$34,0),0)","v":{"$error":"#N/A"}},null,"",null,{"$f":"OFFSET(Datos!$G$1,MATCH(E263,Datos!$H$2:$H$1121,0),0)","v":{"$error":"#N/A"}},null,"",null,"",null,{"$error":"#N/A"}]
[null,{"$f":"OFFSET(Datos!$B$1,MATCH(A264,Datos!$A$2:$A$34,0),0)","v":{"$error":"#N/A"}},null,"",null,{"$f":"OFFSET(Datos!$G$1,MATCH(E264,Datos!$H$2:$H$1121,0),0)","v":{"$error":"#N/A"}},null,"",null,"",null,{"$error":"#N/A"}]
[null,{"$f":"OFFSET(Datos!$B$1,MATCH(A265,Datos!$A$2:$A$34,0),0)","v":{"$error":"#N/A"}},null,"",null,{"$f":"OFFSET(Datos!$G$1,MATCH(E265,Datos!$H$2:$H$1121,0),0)","v":{"$error":"#N/A"}},null,"",null,"",null,{"$error":"#N/A"}]
[null,{"$f":"OFFSET(Datos!$B$1,MATCH(A266,Datos!$A$2:$A$34,0),0)","v":{"$error":"#N/A"}},null,"",null,{"$f":"OFFSET(Datos!$G$1,MATCH(E266,Datos!$H$2:$H$1121,0),0)","v":{"$error":"#N/A"}},null,"",null,"",null,{"$error":"#N/A"}]
[null,{"$f":"OFFSET(Datos!$B$1,MATCH(A267,Datos!$A$2:$A$34,0),0)","v":{"$error":"#N/A"}},null,"",null,{"$f":"OFFSET(Datos!$G$1,MATCH(E267,Datos!$H$2:$H$1121,0),0)","v":{"$error":"#N/A"}},null,"",null,"",null,{"$error":"#N/A"}]
[null,{"$f":"OFFSET(Datos!$B$1,MATCH(A268,Datos!$A$2:$A$34,0),0)","v":{"$error":"#N/A"}},null,"",null,{"$f":"OFFSET(Datos!$G$1,MATCH(E268,Datos!$H$2:$H$1121,0),0)","v":{"$error":"#N/A"}},null,"",null,"",null,{"$error":"#N/A"}]
[null,{"$f":"OFFSET(Datos!$B$1,MATCH(A269,Datos!$A$2:$A$34,0),0)","v":{"$error":"#N/A"}},null,"",null,{"$f":"OFFSET(Datos!$G$1,MATCH(E269,Datos!$H$2:$H$1121,0),0)","v":{"$error":"#N/A"}},null,"",null,"",null,{"$error":"#N/A"}]
[null,{"$f":"OFFSET(Datos!$B$1,MATCH(A270,Datos!$A$2:$A$34,0),0)","v":{"$error":"#N/A"}},null,"",null,{"$f":"OFFSET(Datos!$G$1,MATCH(E270,Datos!$H$2:$H$1121,0),0)","v":{"$error":"#N/A"}},null,"",null,"",null,{"$error":"#N/A"}]
[null,{"$f":"OFFSET(Datos!$B$1,MATCH(A271,Datos!$A$2:$A$34,0),0)","v":{"$error":"#N/A"}},null,"",null,{"$f":"OFFSET(Datos!$G$1,MATCH(E271,Datos!$H$2:$H$1121,0),0)","v":{"$error":"#N/A"}},null,"",null,"",null,{"$error":"#N/A"}]
[null,{"$f":"OFFSET(Datos!$B$1,MATCH(A272,Datos!$A$2:$A$34,0),0)","v":{"$error":"#N/A"}},null,"",null,{"$f":"OFFSET(Datos!$G$1,MATCH(E272,Datos!$H$2:$H$1121,0),0)","v":{"$error":"#N/A"}},null,"",null,"",null,{"$error":"#N/A"}]
[null,{"$f":"OFFSET(Datos!$B$1,MATCH(A273,Datos!$A$2:$A$34,0),0)","v":{"$error":"#N/A"}},null,"",null,{"$f":"OFFSET(Datos!$G$1,MATCH(E273,Datos!$H$2:$H$1121,0),0)","v":{"$error":"#N/A"}},null,"",null,"",null,{"$error":"#N/A"}]
[null,{"$f":"OFFSET(Datos!$B$1,MATCH(A274,Datos!$A$2:$A$34,0),0)","v":{"$error":"#N/A"}},null,"",null,{"$f":"OFFSET(Datos!$G$1,MATCH(E274,Datos!$H$2:$H$1121,0),0)","v":{"$error":"#N/A"}},null,"",null,"",null,{"$error":"#N/A"}]
[null,{"$f":"OFFSET(Datos!$B$1,MATCH(A275,Datos!$A$2:$A$34,0),0)","v":{"$error":"#N/A"}},null,"",null,{"$f":"OFFSET(Datos!$G$1,MATCH(E275,Datos!$H$2:$H$1121,0),0)","v":{"$error":"#N/A"}},null,"",null,"",null,{"$error":"#N/A"}]
[null,{"$f":"OFFSET(Datos!$B$1,MATCH(A276,Datos!$A$2:$A$34,0),0)","v":{"$error":"#N/A"}},null,"",null,{"$f":"OFFSET(Datos!$G$1,MATCH(E276,Datos!$H$2:$H$1121,0),0)","v":{"$error":"#N/A"}},null,"",null,"",null,{"$error":"#N/A"}]
[null,{"$f":"OFFSET(Datos!$B$1,MATCH(A277,Datos!$A$2:$A$34,0),0)","v":{"$error":"#N/A"}},null,"",null,{"$f":"OFFSET(Datos!$G$1,MATCH(E277,Datos!$H$2:$H$1121,0),0)","v":{"$error":"#N/A"}},null,"",null,"",null,{"$error":"#N/A"}]
[null,{"$f":"OFFSET(Datos!$B$1,MATCH(A278,Datos!$A$2:$A$34,0),0)","v":{"$error":"#N/A"}},null,"",null,{"$f":"OFFSET(Datos!$G$1,MATCH(E278,Datos!$H$2:$H$1121,0),0)","v":{"$error":"#N/A"}},null,"",null,"",null,{"$error":"#N/A"}]
[null,{"$f":"OFFSET(Datos!$B$1,MATCH(A279,Datos!$A$2:$A$34,0),0)","v":{"$error":"#N/A"}},null,"",null,{"$f":"OFFSET(Datos!$G$1,MATCH(E279,Datos!$H$2:$H$1121,0),0)","v":{"$error":"#N/A"}},null,"",null,"",null,{"$error":"#N/A"}]
[null,{"$f":"OFFSET(Datos!$B$1,MATCH(A280,Datos!$A$2:$A$34,0),0)","v":{"$error":"#N/A"}},null,"",null,{"$f":"OFFSET(Datos!$G$1,MATCH(E280,Datos!$H$2:$H$1121,0),0)","v":{"$error":"#N/A"}},null,"",null,"",null,{"$error":"#N/A"}]
[null,{"$f":"OFFSET(Datos!$B$1,MATCH(A281,Datos!$A$2:$A$34,0),0)","v":{"$error":"#N/A"}},null,"",null,{"$f":"OFFSET(Datos!$G$1,MATCH(E281,Datos!$H$2:$H$1121,0),0)","v":{"$error":"#N/A"}},null,"",null,"",null,{"$error":"#N/A"}]
[null,{"$f":"OFFSET(Datos!$B$1,MATCH(A282,Datos!$A$2:$A$34,0),0)","v":{"$error":"#N/A"}},null,"",null,{"$f":"OFFSET(Datos!$G$1,MATCH(E282,Datos!$H$2:$H$1121,0),0)","v":{"$error":"#N/A"}},null,"",null,"",null,{"$error":"#N/A"}]
[null,{"$f":"OFFSET(Datos!$B$1,MATCH(A283,Datos!$A$2:$A$34,0),0)","v":{"$error":"#N/A"}},null,"",null,{"$f":"OFFSET(Datos!$G$1,MATCH(E283,Datos!$H$2:$H$1121,0),0)","v":{"$error":"#N/A"}},null,"",null,"",null,{"$error":"#N/A"}]
[null,{"$f":"OFFSET(Datos!$B$1,MATCH(A284,Datos!$A$2:$A$34,0),0)","v":{"$error":"#N/A"}},null,"",null,{"$f":"OFFSET(Datos!$G$1,MATCH(E284,Datos!$H$2:$H$1121,0),0)","v":{"$error":"#N/A"}},null,"",null,"",null,{"$error":"#N/A"}]
[null,{"$f":"OFFSET(Datos!$B$1,MATCH(A285,Datos!$A$2:$A$34,0),0)","v":{"$error":"#N/A"}},null,"",null,{"$f":"OFFSET(Datos!$G$1,MATCH(E285,Datos!$H$2:$H$1121,0),0)","v":{"$error":"#N/A"}},null,"",null,"",null,{"$error":"#N/A"}]
[null,{"$f":"OFFSET(Datos!$B$1,MATCH(A286,Datos!$A$2:$A$34,0),0)","v":{"$error":"#N/A"}},null,"",null,{"$f":"OFFSET(Datos!$G$1,MATCH(E286,Datos!$H$2:$H$1121,0),0)","v":{"$error":"#N/A"}},null,"",null,"",null,{"$error":"#N/A"}]
[null,{"$f":"OFFSET(Datos!$B$1,MATCH(A287,Datos!$A$2:$A$34,0),0)","v":{"$error":"#N/A"}},null,"",null,{"$f":"OFFSET(Datos!$G$1,MATCH(E287,Datos!$H$2:$H$1121,0),0)","v":{"$error":"#N/A"}},null,"",null,"",null,{"$error":"#N/A"}]
[null,{"$f":"OFFSET(Datos!$B$1,MATCH(A288,Datos!$A$2:$A$34,0),0)","v":{"$error":"#N/A"}},null,"",null,{"$f":"OFFSET(Datos!$G$1,MATCH(E288,Datos!$H$2:$H$1121,0),0)","v":{"$error":"#N/A"}},null,"",null,"",null,{"$error":"#N/A"}]
[null,{"$f":"OFFSET(Datos!$B$1,MATCH(A289,Datos!$A$2:$A$34,0),0)","v":{"$error":"#N/A"}},null,"",null,{"$f":"OFFSET(Datos!$G$1,MATCH(E289,Datos!$H$2:$H$1121,0),0)","v":{"$error":"#N/A"}},null,"",null,"",null,{"$error":"#N/A"}]
[null,{"$f":"OFFSET(Datos!$B$1,MATCH(A290,Datos!$A$2:$A$34,0),0)","v":{"$error":"#N/A"}},null,"",null,{"$f":"OFFSET(Datos!$G$1,MATCH(E290,Datos!$H$2:$H$1121,0),0)","v":{"$error":"#N/A"}},null,"",null,"",null,{"$error":"#N/A"}]
[null,{"$f":"OFFSET(Datos!$B$1,MATCH(A291,Datos!$A$2:$A$34,0),0)","v":{"$error":"#N/A"}},null,"",null,{"$f":"OFFSET(Datos!$G$1,MATCH(E291,Datos!$H$2:$H$1121,0),0)","v":{"$error":"#N/A"}},null,"",null,"",null,{"$error":"#N/A"}]
[null,{"$f":"OFFSET(Datos!$B$1,MATCH(A292,Datos!$A$2:$A$34,0),0)","v":{"$error":"#N/A"}},null,"",null,{"$f":"OFFSET(Datos!$G$1,MATCH(E292,Datos!$H$2:$H$1121,0),0)","v":{"$error":"#N/A"}},null,"",null,"",null,{"$error":"#N/A"}]
[null,{"$f":"OFFSET(Datos!$B$1,MATCH(A293,Datos!$A$2:$A$34,0),0)","v":{"$error":"#N/A"}},null,"",null,{"$f":"OFFSET(Datos!$G$1,MATCH(E293,Datos!$H$2:$H$1121,0),0)","v":{"$error":"#N/A"}},null,"",null,"",null,{"$error":"#N/A"}]
[null,{"$f":"OFFSET(Datos!$B$1,MATCH(A294,Datos!$A$2:$A$34,0),0)","v":{"$error":"#N/A"}},null,"",null,{"$f":"OFFSET(Datos!$G$1,MATCH(E294,Datos!$H$2:$H$1121,0),0)","v":{"$error":"#N/A"}},null,"",null,"",null,{"$error":"#N/A"}]
[null,{"$f":"OFFSET(Datos!$B$1,MATCH(A295,Datos!$A$2:$A$34,0),0)","v":{"$error":"#N/A"}},null,"",null,{"$f":"OFFSET(Datos!$G$1,MATCH(E295,Datos!$H$2:$H$1121,0),0)","v":{"$error":"#N/A"}},null,"",null,"",null,{"$error":"#N/A"}]
[null,{"$f":"OFFSET(Datos!$B$1,MATCH(A296,Datos!$A$2:$A$34,0),0)","v":{"$error":"#N/A"}},null,"",null,{"$f":"OFFSET(Datos!$G$1,MATCH(E296,Datos!$H$2:$H$1121,0),0)","v":{"$error":"#N/A"}},null,"",null,"",null,{"$error":"#N/A"}]
[null,{"$f":"OFFSET(Datos!$B$1,MATCH(A297,Datos!$A$2:$A$34,0),0)","v":{"$error":"#N/A"}},null,"",null,{"$f":"OFFSET(Datos!$G$1,MATCH(E297,Datos!$H$2:$H$1121,0),0)","v":{"$error":"#N/A"}},null,"",null,"",null,{"$error":"#N/A"}]
[null,{"$f":"OFFSET(Datos!$B$1,MATCH(A298,Datos!$A$2:$A$34,0),0)","v":{"$error":"#N/A"}},null,"",null,{"$f":"OFFSET(Datos!$G$1,MATCH(E298,Datos!$H$2:$H$1121,0),0)","v":{"$error":"#N/A"}},null,"",null,"",null,{"$error":"#N/A"}]
[null,{"$f":"OFFSET(Datos!$B$1,MATCH(A299,Datos!$A$2:$A$34,0),0)","v":{"$error":"#N/A"}},null,"",null,{"$f":"OFFSET(Datos!$G$1,MATCH(E299,Datos!$H$2:$H$1121,0),0)","v":{"$error":"#N/A"}},null,"",null,"",null,{"$error":"#N/A"}]
[null,{"$f":"OFFSET(Datos!$B$1,MATCH(A300,Datos!$A$2:$A$34,0),0)","v":{"$error":"#N/A"}},null,"",null,{"$f":"OFFSET(Datos!$G$1,MATCH(E300,Datos!$H$2:$H$1121,0),0)","v":{"$error":"#N/A"}},null,"",null,"",null,{"$error":"#N/A"}]
[null,{"$f":"OFFSET(Datos!$B$1,MATCH(A301,Datos!$A$2:$A$34,0),0)","v":{"$error":"#N/A"}},null,"",null,{"$f":"OFFSET(Datos!$G$1,MATCH(E301,Datos!$H$2:$H$1121,0),0)","v":{"$error":"#N/A"}},null,"",null,"",null,{"$error":"#N/A"}]
[null,{"$f":"OFFSET(Datos!$B$1,MATCH(A302,Datos!$A$2:$A$34,0),0)","v":{"$error":"#N/A"}},null,"",null,{"$f":"OFFSET(Datos!$G$1,MATCH(E302,Datos!$H$2:$H$1121,0),0)","v":{"$error":"#N/A"}},null,"",null,"",null,{"$error":"#N/A"}]
[null,{"$f":"OFFSET(Datos!$B$1,MATCH(A303,Datos!$A$2:$A$34,0),0)","v":{"$error":"#N/A"}},null,"",null,{"$f":"OFFSET(Datos!$G$1,MATCH(E303,Datos!$H$2:$H$1121,0),0)","v":{"$error":"#N/A"}},null,"",null,"",null,{"$error":"#N/A"}]
[null,{"$f":"OFFSET(Datos!$B$1,MATCH(A304,Datos!$A$2:$A$34,0),0)","v":{"$error":"#N/A"}},null,"",null,{"$f":"OFFSET(Datos!$G$1,MATCH(E304,Datos!$H$2:$H$1121,0),0)","v":{"$error":"#N/A"}},null,"",null,"",null,{"$error":"#N/A"}]
[null,{"$f":"OFFSET(Datos!$B$1,MATCH(A305,Datos!$A$2:$A$34,0),0)","v":{"$error":"#N/A"}},null,"",null,{"$f":"OFFSET(Datos!$G$1,MATCH(E305,Datos!$H$2:$H$1121,0),0)","v":{"$error":"#N/A"}},null,"",null,"",null,{"$error":"#N/A"}]
[null,{"$f":"OFFSET(Datos!$B$1,MATCH(A306,Datos!$A$2:$A$34,0),0)","v":{"$error":"#N/A"}},null,"",null,{"$f":"OFFSET(Datos!$G$1,MATCH(E306,Datos!$H$2:$H$1121,0),0)","v":{"$error":"#N/A"}},null,"",null,"",null,{"$error":"#N/A"}]
[null,{"$f":"OFFSET(Datos!$B$1,MATCH(A307,Datos!$A$2:$A$34,0),0)","v":{"$error":"#N/A"}},null,"",null,{"$f":"OFFSET(Datos!$G$1,MATCH(E307,Datos!$H$2:$H$1121,0),0)","v":{"$error":"#N/A"}},null,"",null,"",null,{"$error":"#N/A"}]
[null,{"$f":"OFFSET(Datos!$B$1,MATCH(A308,Datos!$A$2:$A$34,0),0)","v":{"$error":"#N/A"}},null,"",null,{"$f":"OFFSET(Datos!$G$1,MATCH(E308,Datos!$H$2:$H$1121,0),0)","v":{"$error":"#N/A"}},null,"",null,"",null,{"$error":"#N/A"}]
[null,{"$f":"OFFSET(Datos!$B$1,MATCH(A309,Datos!$A$2:$A$34,0),0)","v":{"$error":"#N/A"}},null,"",null,{"$f":"OFFSET(Datos!$G$1,MATCH(E309,Datos!$H$2:$H$1121,0),0)","v":{"$error":"#N/A"}},null,"",null,"",null,{"$error":"#N/A"}]
[null,{"$f":"OFFSET(Datos!$B$1,MATCH(A310,Datos!$A$2:$A$34,0),0)","v":{"$error":"#N/A"}},null,"",null,{"$f":"OFFSET(Datos!$G$1,MATCH(E310,Datos!$H$2:$H$1121,0),0)","v":{"$error":"#N/A"}},null,"",null,"",null,{"$error":"#N/A"}]
[null,{"$f":"OFFSET(Datos!$B$1,MATCH(A311,Datos!$A$2:$A$34,0),0)","v":{"$error":"#N/A"}},null,"",null,{"$f":"OFFSET(Datos!$G$1,MATCH(E311,Datos!$H$2:$H$1121,0),0)","v":{"$error":"#N/A"}},null,"",null,"",null,{"$error":"#N/A"}]
[null,{"$f":"OFFSET(Datos!$B$1,MATCH(A312,Datos!$A$2:$A$34,0),0)","v":{"$error":"#N/A"}},null,"",null,{"$f":"OFFSET(Datos!$G$1,MATCH(E312,Datos!$H$2:$H$1121,0),0)","v":{"$error":"#N/A"}},null,"",null,"",null,{"$error":"#N/A"}]
[null,{"$f":"OFFSET(Datos!$B$1,MATCH(A313,Datos!$A$2:$A$34,0),0)","v":{"$error":"#N/A"}},null,"",null,{"$f":"OFFSET(Datos!$G$1,MATCH(E313,Datos!$H$2:$H$1121,0),0)","v":{"$error":"#N/A"}},null,"",null,"",null,{"$error":"#N/A"}]
[null,{"$f":"OFFSET(Datos!$B$1,MATCH(A314,Datos!$A$2:$A$34,0),0)","v":{"$error":"#N/A"}},null,"",null,{"$f":"OFFSET(Datos!$G$1,MATCH(E314,Datos!$H$2:$H$1121,0),0)","v":{"$error":"#N/A"}},null,"",null,"",null,{"$error":"#N/A"}]
[null,{"$f":"OFFSET(Datos!$B$1,MATCH(A315,Datos!$A$2:$A$34,0),0)","v":{"$error":"#N/A"}},null,"",null,{"$f":"OFFSET(Datos!$G$1,MATCH(E315,Datos!$H$2:$H$1121,0),0)","v":{"$error":"#N/A"}},null,"",null,"",null,{"$error":"#N/A"}]
[null,{"$f":"OFFSET(Datos!$B$1,MATCH(A316,Datos!$A$2:$A$34,0),0)","v":{"$error":"#N/A"}},null,"",null,{"$f":"OFFSET(Datos!$G$1,MATCH(E316,Datos!$H$2:$H$1121,0),0)","v":{"$error":"#N/A"}},null,"",null,"",null,{"$error":"#N/A"}]
[null,{"$f":"OFFSET(Datos!$B$1,MATCH(A317,Datos!$A$2:$A$34,0),0)","v":{"$error":"#N/A"}},null,"",null,{"$f":"OFFSET(Datos!$G$1,MATCH(E317,Datos!$H$2:$H$1121,0),0)","v":{"$error":"#N/A"}},null,"",null,"",null,{"$error":"#N/A"}]
[null,{"$f":"OFFSET(Datos!$B$1,MATCH(A318,Datos!$A$2:$A$34,0),0)","v":{"$error":"#N/A"}},null,"",null,{"$f":"OFFSET(Datos!$G$1,MATCH(E318,Datos!$H$2:$H$1121,0),0)","v":{"$error":"#N/A"}},null,"",null,"",null,{"$error":"#N/A"}]
[null,{"$f":"OFFSET(Datos!$B$1,MATCH(A319,Datos!$A$2:$A$34,0),0)","v":{"$error":"#N/A"}},null,"",null,{"$f":"OFFSET(Datos!$G$1,MATCH(E319,Datos!$H$2:$H$1121,0),0)","v":{"$error":"#N/A"}},null,"",null,"",null,{"$error":"#N/A"}]
[null,{"$f":"OFFSET(Datos!$B$1,MATCH(A320,Datos!$A$2:$A$34,0),0)","v":{"$error":"#N/A"}},null,"",null,{"$f":"OFFSET(Datos!$G$1,MATCH(E320,Datos!$H$2:$H$1121,0),0)","v":{"$error":"#N/A"}},null,"",null,"",null,{"$error":"#N/A"}]
[null,{"$f":"OFFSET(Datos!$B$1,MATCH(A321,Datos!$A$2:$A$34,0),0)","v":{"$error":"#N/A"}},null,"",null,{"$f":"OFFSET(Datos!$G$1,MATCH(E321,Datos!$H$2:$H$1121,0),0)","v":{"$error":"#N/A"}},null,"",null,"",null,{"$error":"#N/A"}]
[null,{"$f":"OFFSET(Datos!$B$1,MATCH(A322,Datos!$A$2:$A$34,0),0)","v":{"$error":"#N/A"}},null,"",null,{"$f":"OFFSET(Datos!$G$1,MATCH(E322,Datos!$H$2:$H$1121,0),0)","v":{"$error":"#N/A"}},null,"",null,"",null,{"$error":"#N/A"}]
[null,{"$f":"OFFSET(Datos!$B$1,MATCH(A323,Datos!$A$2:$A$34,0),0)","v":{"$error":"#N/A"}},null,{"$f":"MID(C323,1,1)","v":""},null,{"$f":"OFFSET(Datos!$G$1,MATCH(E323,Datos!$H$2:$H$1121,0),0)","v":{"$error":"#N/A"}},null,{"$f":"MID(G323,1,2)","v":""},null,{"$f":"MID(I323,1,2)","v":""},null,{"$f":"CONCATENATE(B323,D323,F323,H323,J323,K323)","v":{"$error":"#N/A"}}]
[null,{"$f":"OFFSET(Datos!$B$1,MATCH(A324,Datos!$A$2:$A$34,0),0)","v":{"$error":"#N/A"}},null,"",null,{"$f":"OFFSET(Datos!$G$1,MATCH(E324,Datos!$H$2:$H$1121,0),0)","v":{"$error":"#N/A"}},null,"",null,"",null,{"$error":"#N/A"}]
[null,{"$f":"OFFSET(Datos!$B$1,MATCH(A325,Datos!$A$2:$A$34,0),0)","v":{"$error":"#N/A"}},null,"",null,{"$f":"OFFSET(Datos!$G$1,MATCH(E325,Datos!$H$2:$H$1121,0),0)","v":{"$error":"#N/A"}},null,"",null,"",null,{"$error":"#N/A"}]
[null,{"$f":"OFFSET(Datos!$B$1,MATCH(A326,Datos!$A$2:$A$34,0),0)","v":{"$error":"#N/A"}},null,"",null,{"$f":"OFFSET(Datos!$G$1,MATCH(E326,Datos!$H$2:$H$1121,0),0)","v":{"$error":"#N/A"}},null,"",null,"",null,{"$error":"#N/A"}]
[null,{"$f":"OFFSET(Datos!$B$1,MATCH(A327,Datos!$A$2:$A$34,0),0)","v":{"$error":"#N/A"}},null,"",null,{"$f":"OFFSET(Datos!$G$1,MATCH(E327,Datos!$H$2:$H$1121,0),0)","v":{"$error":"#N/A"}},null,"",null,"",null,{"$error":"#N/A"}]
[null,{"$f":"OFFSET(Datos!$B$1,MATCH(A328,Datos!$A$2:$A$34,0),0)","v":{"$error":"#N/A"}},null,"",null,{"$f":"OFFSET(Datos!$G$1,MATCH(E328,Datos!$H$2:$H$1121,0),0)","v":{"$error":"#N/A"}},null,"",null,"",null,{"$error":"#N/A"}]
[null,{"$f":"OFFSET(Datos!$B$1,MATCH(A329,Datos!$A$2:$A$34,0),0)","v":{"$error":"#N/A"}},null,"",null,{"$f":"OFFSET(Datos!$G$1,MATCH(E329,Datos!$H$2:$H$1121,0),0)","v":{"$error":"#N/A"}},null,"",null,"",null,{"$error":"#N/A"}]
[null,{"$f":"OFFSET(Datos!$B$1,MATCH(A330,Datos!$A$2:$A$34,0),0)","v":{"$error":"#N/A"}},null,"",null,{"$f":"OFFSET(Datos!$G$1,MATCH(E330,Datos!$H$2:$H$1121,0),0)","v":{"$error":"#N/A"}},null,"",null,"",null,{"$error":"#N/A"}]
[null,{"$f":"OFFSET(Datos!$B$1,MATCH(A331,Datos!$A$2:$A$34,0),0)","v":{"$error":"#N/A"}},null,"",null,{"$f":"OFFSET(Datos!$G$1,MATCH(E331,Datos!$H$2:$H$1121,0),0)","v":{"$error":"#N/A"}},null,"",null,"",null,{"$error":"#N/A"}]
[null,{"$f":"OFFSET(Datos!$B$1,MATCH(A332,Datos!$A$2:$A$34,0),0)","v":{"$error":"#N/A"}},null,"",null,{"$f":"OFFSET(Datos!$G$1,MATCH(E332,Datos!$H$2:$H$1121,0),0)","v":{"$error":"#N/A"}},null,"",null,"",null,{"$error":"#N/A"}]
[null,{"$f":"OFFSET(Datos!$B$1,MATCH(A333,Datos!$A$2:$A$34,0),0)","v":{"$error":"#N/A"}},null,"",null,{"$f":"OFFSET(Datos!$G$1,MATCH(E333,Datos!$H$2:$H$1121,0),0)","v":{"$error":"#N/A"}},null,"",null,"",null,{"$error":"#N/A"}]
[null,{"$f":"OFFSET(Datos!$B$1,MATCH(A334,Datos!$A$2:$A$34,0),0)","v":{"$error":"#N/A"}},null,"",null,{"$f":"OFFSET(Datos!$G$1,MATCH(E334,Datos!$H$2:$H$1121,0),0)","v":{"$error":"#N/A"}},null,"",null,"",null,{"$error":"#N/A"}]
[null,{"$f":"OFFSET(Datos!$B$1,MATCH(A335,Datos!$A$2:$A$34,0),0)","v":{"$error":"#N/A"}},null,"",null,{"$f":"OFFSET(Datos!$G$1,MATCH(E335,Datos!$H$2:$H$1121,0),0)","v":{"$error":"#N/A"}},null,"",null,"",null,{"$error":"#N/A"}]
[null,{"$f":"OFFSET(Datos!$B$1,MATCH(A336,Datos!$A$2:$A$34,0),0)","v":{"$error":"#N/A"}},null,"",null,{"$f":"OFFSET(Datos!$G$1,MATCH(E336,Datos!$H$2:$H$1121,0),0)","v":{"$error":"#N/A"}},null,"",null,"",null,{"$error":"#N/A"}]
[null,{"$f":"OFFSET(Datos!$B$1,MATCH(A337,Datos!$A$2:$A$34,0),0)","v":{"$error":"#N/A"}},null,"",null,{"$f":"OFFSET(Datos!$G$1,MATCH(E337,Datos!$H$2:$H$1121,0),0)","v":{"$error":"#N/A"}},null,"",null,"",null,{"$error":"#N/A"}]
[null,{"$f":"OFFSET(Datos!$B$1,MATCH(A338,Datos!$A$2:$A$34,0),0)","v":{"$error":"#N/A"}},null,"",null,{"$f":"OFFSET(Datos!$G$1,MATCH(E338,Datos!$H$2:$H$1121,0),0)","v":{"$error":"#N/A"}},null,"",null,"",null,{"$error":"#N/A"}]
[null,{"$f":"OFFSET(Datos!$B$1,MATCH(A339,Datos!$A$2:$A$34,0),0)","v":{"$error":"#N/A"}},null,"",null,{"$f":"OFFSET(Datos!$G$1,MATCH(E339,Datos!$H$2:$H$1121,0),0)","v":{"$error":"#N/A"}},null,"",null,"",null,{"$error":"#N/A"}]
[null,{"$f":"OFFSET(Datos!$B$1,MATCH(A340,Datos!$A$2:$A$34,0),0)","v":{"$error":"#N/A"}},null,"",null,{"$f":"OFFSET(Datos!$G$1,MATCH(E340,Datos!$H$2:$H$1121,0),0)","v":{"$error":"#N/A"}},null,"",null,"",null,{"$error":"#N/A"}]
[null,{"$f":"OFFSET(Datos!$B$1,MATCH(A341,Datos!$A$2:$A$34,0),0)","v":{"$error":"#N/A"}},null,"",null,{"$f":"OFFSET(Datos!$G$1,MATCH(E341,Datos!$H$2:$H$1121,0),0)","v":{"$error":"#N/A"}},null,"",null,"",null,{"$error":"#N/A"}]
[null,{"$f":"OFFSET(Datos!$B$1,MATCH(A342,Datos!$A$2:$A$34,0),0)","v":{"$error":"#N/A"}},null,"",null,{"$f":"OFFSET(Datos!$G$1,MATCH(E342,Datos!$H$2:$H$1121,0),0)","v":{"$error":"#N/A"}},null,"",null,"",null,{"$error":"#N/A"}]
[null,{"$f":"OFFSET(Datos!$B$1,MATCH(A343,Datos!$A$2:$A$34,0),0)","v":{"$error":"#N/A"}},null,"",null,{"$f":"OFFSET(Datos!$G$1,MATCH(E343,Datos!$H$2:$H$1121,0),0)","v":{"$error":"#N/A"}},null,"",null,"",null,{"$error":"#N/A"}]
[null,{"$f":"OFFSET(Datos!$B$1,MATCH(A344,Datos!$A$2:$A$34,0),0)","v":{"$error":"#N/A"}},null,"",null,{"$f":"OFFSET(Datos!$G$1,MATCH(E344,Datos!$H$2:$H$1121,0),0)","v":{"$error":"#N/A"}},null,"",null,"",null,{"$error":"#N/A"}]
[null,{"$f":"OFFSET(Datos!$B$1,MATCH(A345,Datos!$A$2:$A$34,0),0)","v":{"$error":"#N/A"}},null,"",null,{"$f":"OFFSET(Datos!$G$1,MATCH(E345,Datos!$H$2:$H$1121,0),0)","v":{"$error":"#N/A"}},null,"",null,"",null,{"$error":"#N/A"}]
[null,{"$f":"OFFSET(Datos!$B$1,MATCH(A346,Datos!$A$2:$A$34,0),0)","v":{"$error":"#N/A"}},null,"",null,{"$f":"OFFSET(Datos!$G$1,MATCH(E346,Datos!$H$2:$H$1121,0),0)","v":{"$error":"#N/A"}},null,"",null,"",null,{"$error":"#N/A"}]
[null,{"$f":"OFFSET(Datos!$B$1,MATCH(A347,Datos!$A$2:$A$34,0),0)","v":{"$error":"#N/A"}},null,"",null,{"$f":"OFFSET(Datos!$G$1,MATCH(E347,Datos!$H$2:$H$1121,0),0)","v":{"$error":"#N/A"}},null,"",null,"",null,{"$error":"#N/A"}]
[null,{"$f":"OFFSET(Datos!$B$1,MATCH(A348,Datos!$A$2:$A$34,0),0)","v":{"$error":"#N/A"}},null,"",null,{"$f":"OFFSET(Datos!$G$1,MATCH(E348,Datos!$H$2:$H$1121,0),0)","v":{"$error":"#N/A"}},null,"",null,"",null,{"$error":"#N/A"}]
[null,{"$f":"OFFSET(Datos!$B$1,MATCH(A349,Datos!$A$2:$A$34,0),0)","v":{"$error":"#N/A"}},null,"",null,{"$f":"OFFSET(Datos!$G$1,MATCH(E349,Datos!$H$2:$H$1121,0),0)","v":{"$error":"#N/A"}},null,"",null,"",null,{"$error":"#N/A"}]
[null,{"$f":"OFFSET(Datos!$B$1,MATCH(A350,Datos!$A$2:$A$34,0),0)","v":{"$error":"#N/A"}},null,"",null,{"$f":"OFFSET(Datos!$G$1,MATCH(E350,Datos!$H$2:$H$1121,0),0)","v":{"$error":"#N/A"}},null,"",null,"",null,{"$error":"#N/A"}]
[null,{"$f":"OFFSET(Datos!$B$1,MATCH(A351,Datos!$A$2:$A$34,0),0)","v":{"$error":"#N/A"}},null,"",null,{"$f":"OFFSET(Datos!$G$1,MATCH(E351,Datos!$H$2:$H$1121,0),0)","v":{"$error":"#N/A"}},null,"",null,"",null,{"$error":"#N/A"}]
[null,{"$f":"OFFSET(Datos!$B$1,MATCH(A352,Datos!$A$2:$A$34,0),0)","v":{"$error":"#N/A"}},null,"",null,{"$f":"OFFSET(Datos!$G$1,MATCH(E352,Datos!$H$2:$H$1121,0),0)","v":{"$error":"#N/A"}},null,"",null,"",null,{"$error":"#N/A"}]
[null,{"$f":"OFFSET(Datos!$B$1,MATCH(A353,Datos!$A$2:$A$34,0),0)","v":{"$error":"#N/A"}},null,"",null,{"$f":"OFFSET(Datos!$G$1,MATCH(E353,Datos!$H$2:$H$1121,0),0)","v":{"$error":"#N/A"}},null,"",null,"",null,{"$error":"#N/A"}]
[null,{"$f":"OFFSET(Datos!$B$1,MATCH(A354,Datos!$A$2:$A$34,0),0)","v":{"$error":"#N/A"}},null,"",null,{"$f":"OFFSET(Datos!$G$1,MATCH(E354,Datos!$H$2:$H$1121,0),0)","v":{"$error":"#N/A"}},null,"",null,"",null,{"$error":"#N/A"}]
[null,{"$f":"OFFSET(Datos!$B$1,MATCH(A355,Datos!$A$2:$A$34,0),0)","v":{"$error":"#N/A"}},null,"",null,{"$f":"OFFSET(Datos!$G$1,MATCH(E355,Datos!$H$2:$H$1121,0),0)","v":{"$error":"#N/A"}},null,"",null,"",null,{"$error":"#N/A"}]
[null,{"$f":"OFFSET(Datos!$B$1,MATCH(A356,Datos!$A$2:$A$34,0),0)","v":{"$error":"#N/A"}},null,"",null,{"$f":"OFFSET(Datos!$G$1,MATCH(E356,Datos!$H$2:$H$1121,0),0)","v":{"$error":"#N/A"}},null,"",null,"",null,{"$error":"#N/A"}]
[null,{"$f":"OFFSET(Datos!$B$1,MATCH(A357,Datos!$A$2:$A$34,0),0)","v":{"$error":"#N/A"}},null,"",null,{"$f":"OFFSET(Datos!$G$1,MATCH(E357,Datos!$H$2:$H$1121,0),0)","v":{"$error":"#N/A"}},null,"",null,"",null,{"$error":"#N/A"}]
[null,{"$f":"OFFSET(Datos!$B$1,MATCH(A358,Datos!$A$2:$A$34,0),0)","v":{"$error":"#N/A"}},null,"",null,{"$f":"OFFSET(Datos!$G$1,MATCH(E358,Datos!$H$2:$H$1121,0),0)","v":{"$error":"#N/A"}},null,"",null,"",null,{"$error":"#N/A"}]
[null,{"$f":"OFFSET(Datos!$B$1,MATCH(A359,Datos!$A$2:$A$34,0),0)","v":{"$error":"#N/A"}},null,"",null,{"$f":"OFFSET(Datos!$G$1,MATCH(E359,Datos!$H$2:$H$1121,0),0)","v":{"$error":"#N/A"}},null,"",null,"",null,{"$error":"#N/A"}]
[null,{"$f":"OFFSET(Datos!$B$1,MATCH(A360,Datos!$A$2:$A$34,0),0)","v":{"$error":"#N/A"}},null,"",null,{"$f":"OFFSET(Datos!$G$1,MATCH(E360,Datos!$H$2:$H$1121,0),0)","v":{"$error":"#N/A"}},null,"",null,"",null,{"$error":"#N/A"}]
[null,{"$f":"OFFSET(Datos!$B$1,MATCH(A361,Datos!$A$2:$A$34,0),0)","v":{"$error":"#N/A"}},null,"",null,{"$f":"OFFSET(Datos!$G$1,MATCH(E361,Datos!$H$2:$H$1121,0),0)","v":{"$error":"#N/A"}},null,"",null,"",null,{"$error":"#N/A"}]
[null,{"$f":"OFFSET(Datos!$B$1,MATCH(A362,Datos!$A$2:$A$34,0),0)","v":{"$error":"#N/A"}},null,"",null,{"$f":"OFFSET(Datos!$G$1,MATCH(E362,Datos!$H$2:$H$1121,0),0)","v":{"$error":"#N/A"}},null,"",null,"",null,{"$error":"#N/A"}]
[null,{"$f":"OFFSET(Datos!$B$1,MATCH(A363,Datos!$A$2:$A$34,0),0)","v":{"$error":"#N/A"}},null,"",null,{"$f":"OFFSET(Datos!$G$1,MATCH(E363,Datos!$H$2:$H$1121,0),0)","v":{"$error":"#N/A"}},null,"",null,"",null,{"$error":"#N/A"}]
[null,{"$f":"OFFSET(Datos!$B$1,MATCH(A364,Datos!$A$2:$A$34,0),0)","v":{"$error":"#N/A"}},null,"",null,{"$f":"OFFSET(Datos!$G$1,MATCH(E364,Datos!$H$2:$H$1121,0),0)","v":{"$error":"#N/A"}},null,"",null,"",null,{"$error":"#N/A"}]
[null,{"$f":"OFFSET(Datos!$B$1,MATCH(A365,Datos!$A$2:$A$34,0),0)","v":{"$error":"#N/A"}},null,"",null,{"$f":"OFFSET(Datos!$G$1,MATCH(E365,Datos!$H$2:$H$1121,0),0)","v":{"$error":"#N/A"}},null,"",null,"",null,{"$error":"#N/A"}]
[null,{"$f":"OFFSET(Datos!$B$1,MATCH(A366,Datos!$A$2:$A$34,0),0)","v":{"$error":"#N/A"}},null,"",null,{"$f":"OFFSET(Datos!$G$1,MATCH(E366,Datos!$H$2:$H$1121,0),0)","v":{"$error":"#N/A"}},null,"",null,"",null,{"$error":"#N/A"}]
[null,{"$f":"OFFSET(Datos!$B$1,MATCH(A367,Datos!$A$2:$A$34,0),0)","v":{"$error":"#N/A"}},null,"",null,{"$f":"OFFSET(Datos!$G$1,MATCH(E367,Datos!$H$2:$H$1121,0),0)","v":{"$error":"#N/A"}},null,"",null,"",null,{"$error":"#N/A"}]
[null,{"$f":"OFFSET(Datos!$B$1,MATCH(A368,Datos!$A$2:$A$34,0),0)","v":{"$error":"#N/A"}},null,"",null,{"$f":"OFFSET(Datos!$G$1,MATCH(E368,Datos!$H$2:$H$1121,0),0)","v":{"$error":"#N/A"}},null,"",null,"",null,{"$error":"#N/A"}]
[null,{"$f":"OFFSET(Datos!$B$1,MATCH(A369,Datos!$A$2:$A$34,0),0)","v":{"$error":"#N/A"}},null,"",null,{"$f":"OFFSET(Datos!$G$1,MATCH(E369,Datos!$H$2:$H$1121,0),0)","v":{"$error":"#N/A"}},null,"",null,"",null,{"$error":"#N/A"}]
[null,{"$f":"OFFSET(Datos!$B$1,MATCH(A370,Datos!$A$2:$A$34,0),0)","v":{"$error":"#N/A"}},null,"",null,{"$f":"OFFSET(Datos!$G$1,MATCH(E370,Datos!$H$2:$H$1121,0),0)","v":{"$error":"#N/A"}},null,"",null,"",null,{"$error":"#N/A"}]
[null,{"$f":"OFFSET(Datos!$B$1,MATCH(A371,Datos!$A$2:$A$34,0),0)","v":{"$error":"#N/A"}},null,"",null,{"$f":"OFFSET(Datos!$G$1,MATCH(E371,Datos!$H$2:$H$1121,0),0)","v":{"$error":"#N/A"}},null,"",null,"",null,{"$error":"#N/A"}]
[null,{"$f":"OFFSET(Datos!$B$1,MATCH(A372,Datos!$A$2:$A$34,0),0)","v":{"$error":"#N/A"}},null,"",null,{"$f":"OFFSET(Datos!$G$1,MATCH(E372,Datos!$H$2:$H$1121,0),0)","v":{"$error":"#N/A"}},null,"",null,"",null,{"$error":"#N/A"}]
[null,{"$f":"OFFSET(Datos!$B$1,MATCH(A373,Datos!$A$2:$A$34,0),0)","v":{"$error":"#N/A"}},null,"",null,{"$f":"OFFSET(Datos!$G$1,MATCH(E373,Datos!$H$2:$H$1121,0),0)","v":{"$error":"#N/A"}},null,"",null,"",null,{"$error":"#N/A"}]
[null,{"$f":"OFFSET(Datos!$B$1,MATCH(A374,Datos!$A$2:$A$34,0),0)","v":{"$error":"#N/A"}},null,"",null,{"$f":"OFFSET(Datos!$G$1,MATCH(E374,Datos!$H$2:$H$1121,0),0)","v":{"$error":"#N/A"}},null,"",null,"",null,{"$error":"#N/A"}]
[null,{"$f":"OFFSET(Datos!$B$1,MATCH(A375,Datos!$A$2:$A$34,0),0)","v":{"$error":"#N/A"}},null,"",null,{"$f":"OFFSET(Datos!$G$1,MATCH(E375,Datos!$H$2:$H$1121,0),0)","v":{"$error":"#N/A"}},null,"",null,"",null,{"$error":"#N/A"}]
[null,{"$f":"OFFSET(Datos!$B$1,MATCH(A376,Datos!$A$2:$A$34,0),0)","v":{"$error":"#N/A"}},null,"",null,{"$f":"OFFSET(Datos!$G$1,MATCH(E376,Datos!$H$2:$H$1121,0),0)","v":{"$error":"#N/A"}},null,"",null,"",null,{"$error":"#N/A"}]
[null,{"$f":"OFFSET(Datos!$B$1,MATCH(A377,Datos!$A$2:$A$34,0),0)","v":{"$error":"#N/A"}},null,"",null,{"$f":"OFFSET(Datos!$G$1,MATCH(E377,Datos!$H$2:$H$1121,0),0)","v":{"$error":"#N/A"}},null,"",null,"",null,{"$error":"#N/A"}]
[null,{"$f":"OFFSET(Datos!$B$1,MATCH(A378,Datos!$A$2:$A$34,0),0)","v":{"$error":"#N/A"}},null,"",null,{"$f":"OFFSET(Datos!$G$1,MATCH(E378,Datos!$H$2:$H$1121,0),0)","v":{"$error":"#N/A"}},null,"",null,"",null,{"$error":"#N/A"}]
[null,{"$f":"OFFSET(Datos!$B$1,MATCH(A379,Datos!$A$2:$A$34,0),0)","v":{"$error":"#N/A"}},null,"",null,{"$f":"OFFSET(Datos!$G$1,MATCH(E379,Datos!$H$2:$H$1121,0),0)","v":{"$error":"#N/A"}},null,"",null,"",null,{"$error":"#N/A"}]
[null,{"$f":"OFFSET(Datos!$B$1,MATCH(A380,Datos!$A$2:$A$34,0),0)","v":{"$error":"#N/A"}},null,"",null,{"$f":"OFFSET(Datos!$G$1,MATCH(E380,Datos!$H$2:$H$1121,0),0)","v":{"$error":"#N/A"}},null,"",null,"",null,{"$error":"#N/A"}]
[null,{"$f":"OFFSET(Datos!$B$1,MATCH(A381,Datos!$A$2:$A$34,0),0)","v":{"$error":"#N/A"}},null,"",null,{"$f":"OFFSET(Datos!$G$1,MATCH(E381,Datos!$H$2:$H$1121,0),0)","v":{"$error":"#N/A"}},null,"",null,"",null,{"$error":"#N/A"}]
[null,{"$f":"OFFSET(Datos!$B$1,MATCH(A382,Datos!$A$2:$A$34,0),0)","v":{"$error":"#N/A"}},null,"",null,{"$f":"OFFSET(Datos!$G$1,MATCH(E382,Datos!$H$2:$H$1121,0),0)","v":{"$error":"#N/A"}},null,"",null,"",null,{"$error":"#N/A"}]
[null,{"$f":"OFFSET(Datos!$B$1,MATCH(A383,Datos!$A$2:$A$34,0),0)","v":{"$error":"#N/A"}},null,"",null,{"$f":"OFFSET(Datos!$G$1,MATCH(E383,Datos!$H$2:$H$1121,0),0)","v":{"$error":"#N/A"}},null,"",null,"",null,{"$error":"#N/A"}]
[null,{"$f":"OFFSET(Datos!$B$1,MATCH(A384,Datos!$A$2:$A$34,0),0)","v":{"$error":"#N/A"}},null,"",null,{"$f":"OFFSET(Datos!$G$1,MATCH(E384,Datos!$H$2:$H$1121,0),0)","v":{"$error":"#N/A"}},null,"",null,"",null,{"$error":"#N/A"}]
[null,{"$f":"OFFSET(Datos!$B$1,MATCH(A385,Datos!$A$2:$A$34,0),0)","v":{"$error":"#N/A"}},null,"",null,{"$f":"OFFSET(Datos!$G$1,MATCH(E385,Datos!$H$2:$H$1121,0),0)","v":{"$error":"#N/A"}},null,"",null,"",null,{"$error":"#N/A"}]
[null,{"$f":"OFFSET(Datos!$B$1,MATCH(A386,Datos!$A$2:$A$34,0),0)","v":{"$error":"#N/A"}},null,"",null,{"$f":"OFFSET(Datos!$G$1,MATCH(E386,Datos!$H$2:$H$1121,0),0)","v":{"$error":"#N/A"}},null,"",null,"",null,{"$error":"#N/A"}]
[null,{"$f":"OFFSET(Datos!$B$1,MATCH(A387,Datos!$A$2:$A$34,0),0)","v":{"$error":"#N/A"}},null,{"$f":"MID(C387,1,1)","v":""},null,{"$f":"OFFSET(Datos!$G$1,MATCH(E387,Datos!$H$2:$H$1121,0),0)","v":{"$error":"#N/A"}},null,{"$f":"MID(G387,1,2)","v":""},null,{"$f":"MID(I387,1,2)","v":""},null,{"$f":"CONCATENATE(B387,D387,F387,H387,J387,K387)","v":{"$error":"#N/A"}}]
[null,{"$f":"OFFSET(Datos!$B$1,MATCH(A388,Datos!$A$2:$A$34,0),0)","v":{"$error":"#N/A"}},null,"",null,{"$f":"OFFSET(Datos!$G$1,MATCH(E388,Datos!$H$2:$H$1121,0),0)","v":{"$error":"#N/A"}},null,"",null,"",null,{"$error":"#N/A"}]
[null,{"$f":"OFFSET(Datos!$B$1,MATCH(A389,Datos!$A$2:$A$34,0),0)","v":{"$error":"#N/A"}},null,"",null,{"$f":"OFFSET(Datos!$G$1,MATCH(E389,Datos!$H$2:$H$1121,0),0)","v":{"$error":"#N/A"}},null,"",null,"",null,{"$error":"#N/A"}]
[null,{"$f":"OFFSET(Datos!$B$1,MATCH(A390,Datos!$A$2:$A$34,0),0)","v":{"$error":"#N/A"}},null,"",null,{"$f":"OFFSET(Datos!$G$1,MATCH(E390,Datos!$H$2:$H$1121,0),0)","v":{"$error":"#N/A"}},null,"",null,"",null,{"$error":"#N/A"}]
[null,{"$f":"OFFSET(Datos!$B$1,MATCH(A391,Datos!$A$2:$A$34,0),0)","v":{"$error":"#N/A"}},null,"",null,{"$f":"OFFSET(Datos!$G$1,MATCH(E391,Datos!$H$2:$H$1121,0),0)","v":{"$error":"#N/A"}},null,"",null,"",null,{"$error":"#N/A"}]
[null,{"$f":"OFFSET(Datos!$B$1,MATCH(A392,Datos!$A$2:$A$34,0),0)","v":{"$error":"#N/A"}},null,"",null,{"$f":"OFFSET(Datos!$G$1,MATCH(E392,Datos!$H$2:$H$1121,0),0)","v":{"$error":"#N/A"}},null,"",null,"",null,{"$error":"#N/A"}]
[null,{"$f":"OFFSET(Datos!$B$1,MATCH(A393,Datos!$A$2:$A$34,0),0)","v":{"$error":"#N/A"}},null,"",null,{"$f":"OFFSET(Datos!$G$1,MATCH(E393,Datos!$H$2:$H$1121,0),0)","v":{"$error":"#N/A"}},null,"",null,"",null,{"$error":"#N/A"}]
[null,{"$f":"OFFSET(Datos!$B$1,MATCH(A394,Datos!$A$2:$A$34,0),0)","v":{"$error":"#N/A"}},null,"",null,{"$f":"OFFSET(Datos!$G$1,MATCH(E394,Datos!$H$2:$H$1121,0),0)","v":{"$error":"#N/A"}},null,"",null,"",null,{"$error":"#N/A"}]
[null,{"$f":"OFFSET(Datos!$B$1,MATCH(A395,Datos!$A$2:$A$34,0),0)","v":{"$error":"#N/A"}},null,"",null,{"$f":"OFFSET(Datos!$G$1,MATCH(E395,Datos!$H$2:$H$1121,0),0)","v":{"$error":"#N/A"}},null,"",null,"",null,{"$error":"#N/A"}]
[null,{"$f":"OFFSET(Datos!$B$1,MATCH(A396,Datos!$A$2:$A$34,0),0)","v":{"$error":"#N/A"}},null,"",null,{"$f":"OFFSET(Datos!$G$1,MATCH(E396,Datos!$H$2:$H$1121,0),0)","v":{"$error":"#N/A"}},null,"",null,"",null,{"$error":"#N/A"}]
[null,{"$f":"OFFSET(Datos!$B$1,MATCH(A397,Datos!$A$2:$A$34,0),0)","v":{"$error":"#N/A"}},null,"",null,{"$f":"OFFSET(Datos!$G$1,MATCH(E397,Datos!$H$2:$H$1121,0),0)","v":{"$error":"#N/A"}},null,"",null,"",null,{"$error":"#N/A"}]
[null,{"$f":"OFFSET(Datos!$B$1,MATCH(A398,Datos!$A$2:$A$34,0),0)","v":{"$error":"#N/A"}},null,"",null,{"$f":"OFFSET(Datos!$G$1,MATCH(E398,Datos!$H$2:$H$1121,0),0)","v":{"$error":"#N/A"}},null,"",null,"",null,{"$error":"#N/A"}]
[null,{"$f":"OFFSET(Datos!$B$1,MATCH(A399,Datos!$A$2:$A$34,0),0)","v":{"$error":"#N/A"}},null,"",null,{"$f":"OFFSET(Datos!$G$1,MATCH(E399,Datos!$H$2:$H$1121,0),0)","v":{"$error":"#N/A"}},null,"",null,"",null,{"$error":"#N/A"}]
[null,{"$f":"OFFSET(Datos!$B$1,MATCH(A400,Datos!$A$2:$A$34,0),0)","v":{"$error":"#N/A"}},null,"",null,{"$f":"OFFSET(Datos!$G$1,MATCH(E400,Datos!$H$2:$H$1121,0),0)","v":{"$error":"#N/A"}},null,"",null,"",null,{"$error":"#N/A"}]
[null,{"$f":"OFFSET(Datos!$B$1,MATCH(A401,Datos!$A$2:$A$34,0),0)","v":{"$error":"#N/A"}},null,"",null,{"$f":"OFFSET(Datos!$G$1,MATCH(E401,Datos!$H$2:$H$1121,0),0)","v":{"$error":"#N/A"}},null,"",null,"",null,{"$error":"#N/A"}]
[null,{"$f":"OFFSET(Datos!$B$1,MATCH(A402,Datos!$A$2:$A$34,0),0)","v":{"$error":"#N/A"}},null,"",null,{"$f":"OFFSET(Datos!$G$1,MATCH(E402,Datos!$H$2:$H$1121,0),0)","v":{"$error":"#N/A"}},null,"",null,"",null,{"$error":"#N/A"}]
[null,{"$f":"OFFSET(Datos!$B$1,MATCH(A403,Datos!$A$2:$A$34,0),0)","v":{"$error":"#N/A"}},null,"",null,{"$f":"OFFSET(Datos!$G$1,MATCH(E403,Datos!$H$2:$H$1121,0),0)","v":{"$error":"#N/A"}},null,"",null,"",null,{"$error":"#N/A"}]
[null,{"$f":"OFFSET(Datos!$B$1,MATCH(A404,Datos!$A$2:$A$34,0),0)","v":{"$error":"#N/A"}},null,"",null,{"$f":"OFFSET(Datos!$G$1,MATCH(E404,Datos!$H$2:$H$1121,0),0)","v":{"$error":"#N/A"}},null,"",null,"",null,{"$error":"#N/A"}]
[null,{"$f":"OFFSET(Datos!$B$1,MATCH(A405,Datos!$A$2:$A$34,0),0)","v":{"$error":"#N/A"}},null,"",null,{"$f":"OFFSET(Datos!$G$1,MATCH(E405,Datos!$H$2:$H$1121,0),0)","v":{"$error":"#N/A"}},null,"",null,"",null,{"$error":"#N/A"}]
[null,{"$f":"OFFSET(Datos!$B$1,MATCH(A406,Datos!$A$2:$A$34,0),0)","v":{"$error":"#N/A"}},null,"",null,{"$f":"OFFSET(Datos!$G$1,MATCH(E406,Datos!$H$2:$H$1121,0),0)","v":{"$error":"#N/A"}},null,"",null,"",null,{"$error":"#N/A"}]
[null,{"$f":"OFFSET(Datos!$B$1,MATCH(A407,Datos!$A$2:$A$34,0),0)","v":{"$error":"#N/A"}},null,"",null,{"$f":"OFFSET(Datos!$G$1,MATCH(E407,Datos!$H$2:$H$1121,0),0)","v":{"$error":"#N/A"}},null,"",null,"",null,{"$error":"#N/A"}]
[null,{"$f":"OFFSET(Datos!$B$1,MATCH(A408,Datos!$A$2:$A$34,0),0)","v":{"$error":"#N/A"}},null,"",null,{"$f":"OFFSET(Datos!$G$1,MATCH(E408,Datos!$H$2:$H$1121,0),0)","v":{"$error":"#N/A"}},null,"",null,"",null,{"$error":"#N/A"}]
[null,{"$f":"OFFSET(Datos!$B$1,MATCH(A409,Datos!$A$2:$A$34,0),0)","v":{"$error":"#N/A"}},null,"",null,{"$f":"OFFSET(Datos!$G$1,MATCH(E409,Datos!$H$2:$H$1121,0),0)","v":{"$error":"#N/A"}},null,"",null,"",null,{"$error":"#N/A"}]
[null,{"$f":"OFFSET(Datos!$B$1,MATCH(A410,Datos!$A$2:$A$34,0),0)","v":{"$error":"#N/A"}},null,"",null,{"$f":"OFFSET(Datos!$G$1,MATCH(E410,Datos!$H$2:$H$1121,0),0)","v":{"$error":"#N/A"}},null,"",null,"",null,{"$error":"#N/A"}]
[null,{"$f":"OFFSET(Datos!$B$1,MATCH(A411,Datos!$A$2:$A$34,0),0)","v":{"$error":"#N/A"}},null,"",null,{"$f":"OFFSET(Datos!$G$1,MATCH(E411,Datos!$H$2:$H$1121,0),0)","v":{"$error":"#N/A"}},null,"",null,"",null,{"$error":"#N/A"}]
[null,{"$f":"OFFSET(Datos!$B$1,MATCH(A412,Datos!$A$2:$A$34,0),0)","v":{"$error":"#N/A"}},null,"",null,{"$f":"OFFSET(Datos!$G$1,MATCH(E412,Datos!$H$2:$H$1121,0),0)","v":{"$error":"#N/A"}},null,"",null,"",null,{"$error":"#N/A"}]
[null,{"$f":"OFFSET(Datos!$B$1,MATCH(A413,Datos!$A$2:$A$34,0),0)","v":{"$error":"#N/A"}},null,"",null,{"$f":"OFFSET(Datos!$G$1,MATCH(E413,Datos!$H$2:$H$1121,0),0)","v":{"$error":"#N/A"}},null,"",null,"",null,{"$error":"#N/A"}]
[null,{"$f":"OFFSET(Datos!$B$1,MATCH(A414,Datos!$A$2:$A$34,0),0)","v":{"$error":"#N/A"}},null,"",null,{"$f":"OFFSET(Datos!$G$1,MATCH(E414,Datos!$H$2:$H$1121,0),0)","v":{"$error":"#N/A"}},null,"",null,"",null,{"$error":"#N/A"}]
[null,{"$f":"OFFSET(Datos!$B$1,MATCH(A415,Datos!$A$2:$A$34,0),0)","v":{"$error":"#N/A"}},null,"",null,{"$f":"OFFSET(Datos!$G$1,MATCH(E415,Datos!$H$2:$H$1121,0),0)","v":{"$error":"#N/A"}},null,"",null,"",null,{"$error":"#N/A"}]
[null,{"$f":"OFFSET(Datos!$B$1,MATCH(A416,Datos!$A$2:$A$34,0),0)","v":{"$error":"#N/A"}},null,"",null,{"$f":"OFFSET(Datos!$G$1,MATCH(E416,Datos!$H$2:$H$1121,0),0)","v":{"$error":"#N/A"}},null,"",null,"",null,{"$error":"#N/A"}]
[null,{"$f":"OFFSET(Datos!$B$1,MATCH(A417,Datos!$A$2:$A$34,0),0)","v":{"$error":"#N/A"}},null,"",null,{"$f":"OFFSET(Datos!$G$1,MATCH(E417,Datos!$H$2:$H$1121,0),0)","v":{"$error":"#N/A"}},null,"",null,"",null,{"$error":"#N/A"}]
[null,{"$f":"OFFSET(Datos!$B$1,MATCH(A418,Datos!$A$2:$A$34,0),0)","v":{"$error":"#N/A"}},null,"",null,{"$f":"OFFSET(Datos!$G$1,MATCH(E418,Datos!$H$2:$H$1121,0),0)","v":{"$error":"#N/A"}},null,"",null,"",null,{"$error":"#N/A"}]
[null,{"$f":"OFFSET(Datos!$B$1,MATCH(A419,Datos!$A$2:$A$34,0),0)","v":{"$error":"#N/A"}},null,"",null,{"$f":"OFFSET(Datos!$G$1,MATCH(E419,Datos!$H$2:$H$1121,0),0)","v":{"$error":"#N/A"}},null,"",null,"",null,{"$error":"#N/A"}]
[null,{"$f":"OFFSET(Datos!$B$1,MATCH(A420,Datos!$A$2:$A$34,0),0)","v":{"$error":"#N/A"}},null,"",null,{"$f":"OFFSET(Datos!$G$1,MATCH(E420,Datos!$H$2:$H$1121,0),0)","v":{"$error":"#N/A"}},null,"",null,"",null,{"$error":"#N/A"}]
[null,{"$f":"OFFSET(Datos!$B$1,MATCH(A421,Datos!$A$2:$A$34,0),0)","v":{"$error":"#N/A"}},null,"",null,{"$f":"OFFSET(Datos!$G$1,MATCH(E421,Datos!$H$2:$H$1121,0),0)","v":{"$error":"#N/A"}},null,"",null,"",null,{"$error":"#N/A"}]
[null,{"$f":"OFFSET(Datos!$B$1,MATCH(A422,Datos!$A$2:$A$34,0),0)","v":{"$error":"#N/A"}},null,"",null,{"$f":"OFFSET(Datos!$G$1,MATCH(E422,Datos!$H$2:$H$1121,0),0)","v":{"$error":"#N/A"}},null,"",null,"",null,{"$error":"#N/A"}]
[null,{"$f":"OFFSET(Datos!$B$1,MATCH(A423,Datos!$A$2:$A$34,0),0)","v":{"$error":"#N/A"}},null,"",null,{"$f":"OFFSET(Datos!$G$1,MATCH(E423,Datos!$H$2:$H$1121,0),0)","v":{"$error":"#N/A"}},null,"",null,"",null,{"$error":"#N/A"}]
[null,{"$f":"OFFSET(Datos!$B$1,MATCH(A424,Datos!$A$2:$A$34,0),0)","v":{"$error":"#N/A"}},null,"",null,{"$f":"OFFSET(Datos!$G$1,MATCH(E424,Datos!$H$2:$H$1121,0),0)","v":{"$error":"#N/A"}},null,"",null,"",null,{"$error":"#N/A"}]
[null,{"$f":"OFFSET(Datos!$B$1,MATCH(A425,Datos!$A$2:$A$34,0),0)","v":{"$error":"#N/A"}},null,"",null,{"$f":"OFFSET(Datos!$G$1,MATCH(E425,Datos!$H$2:$H$1121,0),0)","v":{"$error":"#N/A"}},null,"",null,"",null,{"$error":"#N/A"}]
[null,{"$f":"OFFSET(Datos!$B$1,MATCH(A426,Datos!$A$2:$A$34,0),0)","v":{"$error":"#N/A"}},null,"",null,{"$f":"OFFSET(Datos!$G$1,MATCH(E426,Datos!$H$2:$H$1121,0),0)","v":{"$error":"#N/A"}},null,"",null,"",null,{"$error":"#N/A"}]
[null,{"$f":"OFFSET(Datos!$B$1,MATCH(A427,Datos!$A$2:$A$34,0),0)","v":{"$error":"#N/A"}},null,"",null,{"$f":"OFFSET(Datos!$G$1,MATCH(E427,Datos!$H$2:$H$1121,0),0)","v":{"$error":"#N/A"}},null,"",null,"",null,{"$error":"#N/A"}]
[null,{"$f":"OFFSET(Datos!$B$1,MATCH(A428,Datos!$A$2:$A$34,0),0)","v":{"$error":"#N/A"}},null,"",null,{"$f":"OFFSET(Datos!$G$1,MATCH(E428,Datos!$H$2:$H$1121,0),0)","v":{"$error":"#N/A"}},null,"",null,"",null,{"$error":"#N/A"}]
[null,{"$f":"OFFSET(Datos!$B$1,MATCH(A429,Datos!$A$2:$A$34,0),0)","v":{"$error":"#N/A"}},null,"",null,{"$f":"OFFSET(Datos!$G$1,MATCH(E429,Datos!$H$2:$H$1121,0),0)","v":{"$error":"#N/A"}},null,"",null,"",null,{"$error":"#N/A"}]
[null,{"$f":"OFFSET(Datos!$B$1,MATCH(A430,Datos!$A$2:$A$34,0),0)","v":{"$error":"#N/A"}},null,"",null,{"$f":"OFFSET(Datos!$G$1,MATCH(E430,Datos!$H$2:$H$1121,0),0)","v":{"$error":"#N/A"}},null,"",null,"",null,{"$error":"#N/A"}]
[null,{"$f":"OFFSET(Datos!$B$1,MATCH(A431,Datos!$A$2:$A$34,0),0)","v":{"$error":"#N/A"}},null,"",null,{"$f":"OFFSET(Datos!$G$1,MATCH(E431,Datos!$H$2:$H$1121,0),0)","v":{"$error":"#N/A"}},null,"",null,"",null,{"$error":"#N/A"}]
[null,{"$f":"OFFSET(Datos!$B$1,MATCH(A432,Datos!$A$2:$A$34,0),0)","v":{"$error":"#N/A"}},null,"",null,{"$f":"OFFSET(Datos!$G$1,MATCH(E432,Datos!$H$2:$H$1121,0),0)","v":{"$error":"#N/A"}},null,"",null,"",null,{"$error":"#N/A"}]
[null,{"$f":"OFFSET(Datos!$B$1,MATCH(A433,Datos!$A$2:$A$34,0),0)","v":{"$error":"#N/A"}},null,"",null,{"$f":"OFFSET(Datos!$G$1,MATCH(E433,Datos!$H$2:$H$1121,0),0)","v":{"$error":"#N/A"}},null,"",null,"",null,{"$error":"#N/A"}]
[null,{"$f":"OFFSET(Datos!$B$1,MATCH(A434,Datos!$A$2:$A$34,0),0)","v":{"$error":"#N/A"}},null,"",null,{"$f":"OFFSET(Datos!$G$1,MATCH(E434,Datos!$H$2:$H$1121,0),0)","v":{"$error":"#N/A"}},null,"",null,"",null,{"$error":"#N/A"}]
[null,{"$f":"OFFSET(Datos!$B$1,MATCH(A435,Datos!$A$2:$A$34,0),0)","v":{"$error":"#N/A"}},null,"",null,{"$f":"OFFSET(Datos!$G$1,MATCH(E435,Datos!$H$2:$H$1121,0),0)","v":{"$error":"#N/A"}},null,"",null,"",null,{"$error":"#N/A"}]
[null,{"$f":"OFFSET(Datos!$B$1,MATCH(A436,Datos!$A$2:$A$34,0),0)","v":{"$error":"#N/A"}},null,"",null,{"$f":"OFFSET(Datos!$G$1,MATCH(E436,Datos!$H$2:$H$1121,0),0)","v":{"$error":"#N/A"}},null,"",null,"",null,{"$error":"#N/A"}]
[null,{"$f":"OFFSET(Datos!$B$1,MATCH(A437,Datos!$A$2:$A$34,0),0)","v":{"$error":"#N/A"}},null,"",null,{"$f":"OFFSET(Datos!$G$1,MATCH(E437,Datos!$H$2:$H$1121,0),0)","v":{"$error":"#N/A"}},null,"",null,"",null,{"$error":"#N/A"}]
[null,{"$f":"OFFSET(Datos!$B$1,MATCH(A438,Datos!$A$2:$A$34,0),0)","v":{"$error":"#N/A"}},null,"",null,{"$f":"OFFSET(Datos!$G$1,MATCH(E438,Datos!$H$2:$H$1121,0),0)","v":{"$error":"#N/A"}},null,"",null,"",null,{"$error":"#N/A"}]
[null,{"$f":"OFFSET(Datos!$B$1,MATCH(A439,Datos!$A$2:$A$34,0),0)","v":{"$error":"#N/A"}},null,"",null,{"$f":"OFFSET(Datos!$G$1,MATCH(E439,Datos!$H$2:$H$1121,0),0)","v":{"$error":"#N/A"}},null,"",null,"",null,{"$error":"#N/A"}]
[null,{"$f":"OFFSET(Datos!$B$1,MATCH(A440,Datos!$A$2:$A$34,0),0)","v":{"$error":"#N/A"}},null,"",null,{"$f":"OFFSET(Datos!$G$1,MATCH(E440,Datos!$H$2:$H$1121,0),0)","v":{"$error":"#N/A"}},null,"",null,"",null,{"$error":"#N/A"}]
[null,{"$f":"OFFSET(Datos!$B$1,MATCH(A441,Datos!$A$2:$A$34,0),0)","v":{"$error":"#N/A"}},null,"",null,{"$f":"OFFSET(Datos!$G$1,MATCH(E441,Datos!$H$2:$H$1121,0),0)","v":{"$error":"#N/A"}},null,"",null,"",null,{"$error":"#N/A"}]
[null,{"$f":"OFFSET(Datos!$B$1,MATCH(A442,Datos!$A$2:$A$34,0),0)","v":{"$error":"#N/A"}},null,"",null,{"$f":"OFFSET(Datos!$G$1,MATCH(E442,Datos!$H$2:$H$1121,0),0)","v":{"$error":"#N/A"}},null,"",null,"",null,{"$error":"#N/A"}]
[null,{"$f":"OFFSET(Datos!$B$1,MATCH(A443,Datos!$A$2:$A$34,0),0)","v":{"$error":"#N/A"}},null,"",null,{"$f":"OFFSET(Datos!$G$1,MATCH(E443,Datos!$H$2:$H$1121,0),0)","v":{"$error":"#N/A"}},null,"",null,"",null,{"$error":"#N/A"}]
[null,{"$f":"OFFSET(Datos!$B$1,MATCH(A444,Datos!$A$2:$A$34,0),0)","v":{"$error":"#N/A"}},null,"",null,{"$f":"OFFSET(Datos!$G$1,MATCH(E444,Datos!$H$2:$H$1121,0),0)","v":{"$error":"#N/A"}},null,"",null,"",null,{"$error":"#N/A"}]
[null,{"$f":"OFFSET(Datos!$B$1,MATCH(A445,Datos!$A$2:$A$34,0),0)","v":{"$error":"#N/A"}},null,"",null,{"$f":"OFFSET(Datos!$G$1,MATCH(E445,Datos!$H$2:$H$1121,0),0)","v":{"$error":"#N/A"}},null,"",null,"",null,{"$error":"#N/A"}]
[null,{"$f":"OFFSET(Datos!$B$1,MATCH(A446,Datos!$A$2:$A$34,0),0)","v":{"$error":"#N/A"}},null,"",null,{"$f":"OFFSET(Datos!$G$1,MATCH(E446,Datos!$H$2:$H$1121,0),0)","v":{"$error":"#N/A"}},null,"",null,"",null,{"$error":"#N/A"}]
[null,{"$f":"OFFSET(Datos!$B$1,MATCH(A447,Datos!$A$2:$A$34,0),0)","v":{"$error":"#N/A"}},null,"",null,{"$f":"OFFSET(Datos!$G$1,MATCH(E447,Datos!$H$2:$H$1121,0),0)","v":{"$error":"#N/A"}},null,"",null,"",null,{"$error":"#N/A"}]
[null,{"$f":"OFFSET(Datos!$B$1,MATCH(A448,Datos!$A$2:$A$34,0),0)","v":{"$error":"#N/A"}},null,"",null,{"$f":"OFFSET(Datos!$G$1,MATCH(E448,Datos!$H$2:$H$1121,0),0)","v":{"$error":"#N/A"}},null,"",null,"",null,{"$error":"#N/A"}]
[null,{"$f":"OFFSET(Datos!$B$1,MATCH(A449,Datos!$A$2:$A$34,0),0)","v":{"$error":"#N/A"}},null,"",null,{"$f":"OFFSET(Datos!$G$1,MATCH(E449,Datos!$H$2:$H$1121,0),0)","v":{"$error":"#N/A"}},null,"",null,"",null,{"$error":"#N/A"}]
[null,{"$f":"OFFSET(Datos!$B$1,MATCH(A450,Datos!$A$2:$A$34,0),0)","v":{"$error":"#N/A"}},null,"",null,{"$f":"OFFSET(Datos!$G$1,MATCH(E450,Datos!$H$2:$H$1121,0),0)","v":{"$error":"#N/A"}},null,"",null,"",null,{"$error":"#N/A"}]
[null,{"$f":"OFFSET(Datos!$B$1,MATCH(A451,Datos!$A$2:$A$34,0),0)","v":{"$error":"#N/A"}},null,{"$f":"MID(C451,1,1)","v":""},null,{"$f":"OFFSET(Datos!$G$1,MATCH(E451,Datos!$H$2:$H$1121,0),0)","v":{"$error":"#N/A"}},null,{"$f":"MID(G451,1,2)","v":""},null,{"$f":"MID(I451,1,2)","v":""},null,{"$f":"CONCATENATE(B451,D451,F451,H451,J451,K451)","v":{"$error":"#N/A"}}]
[null,{"$f":"OFFSET(Datos!$B$1,MATCH(A452,Datos!$A$2:$A$34,0),0)","v":{"$error":"#N/A"}},null,"",null,{"$f":"OFFSET(Datos!$G$1,MATCH(E452,Datos!$H$2:$H$1121,0),0)","v":{"$error":"#N/A"}},null,"",null,"",null,{"$error":"#N/A"}]
[null,{"$f":"OFFSET(Datos!$B$1,MATCH(A453,Datos!$A$2:$A$34,0),0)","v":{"$error":"#N/A"}},null,"",null,{"$f":"OFFSET(Datos!$G$1,MATCH(E453,Datos!$H$2:$H$1121,0),0)","v":{"$error":"#N/A"}},null,"",null,"",null,{"$error":"#N/A"}]
[null,{"$f":"OFFSET(Datos!$B$1,MATCH(A454,Datos!$A$2:$A$34,0),0)","v":{"$error":"#N/A"}},null,"",null,{"$f":"OFFSET(Datos!$G$1,MATCH(E454,Datos!$H$2:$H$1121,0),0)","v":{"$error":"#N/A"}},null,"",null,"",null,{"$error":"#N/A"}]
[null,{"$f":"OFFSET(Datos!$B$1,MATCH(A455,Datos!$A$2:$A$34,0),0)","v":{"$error":"#N/A"}},null,"",null,{"$f":"OFFSET(Datos!$G$1,MATCH(E455,Datos!$H$2:$H$1121,0),0)","v":{"$error":"#N/A"}},null,"",null,"",null,{"$error":"#N/A"}]
[null,{"$f":"OFFSET(Datos!$B$1,MATCH(A456,Datos!$A$2:$A$34,0),0)","v":{"$error":"#N/A"}},null,"",null,{"$f":"OFFSET(Datos!$G$1,MATCH(E456,Datos!$H$2:$H$1121,0),0)","v":{"$error":"#N/A"}},null,"",null,"",null,{"$error":"#N/A"}]
[null,{"$f":"OFFSET(Datos!$B$1,MATCH(A457,Datos!$A$2:$A$34,0),0)","v":{"$error":"#N/A"}},null,"",null,{"$f":"OFFSET(Datos!$G$1,MATCH(E457,Datos!$H$2:$H$1121,0),0)","v":{"$error":"#N/A"}},null,"",null,"",null,{"$error":"#N/A"}]
[null,{"$f":"OFFSET(Datos!$B$1,MATCH(A458,Datos!$A$2:$A$34,0),0)","v":{"$error":"#N/A"}},null,"",null,{"$f":"OFFSET(Datos!$G$1,MATCH(E458,Datos!$H$2:$H$1121,0),0)","v":{"$error":"#N/A"}},null,"",null,"",null,{"$error":"#N/A"}]
[null,{"$f":"OFFSET(Datos!$B$1,MATCH(A459,Datos!$A$2:$A$34,0),0)","v":{"$error":"#N/A"}},null,"",null,{"$f":"OFFSET(Datos!$G$1,MATCH(E459,Datos!$H$2:$H$1121,0),0)","v":{"$error":"#N/A"}},null,"",null,"",null,{"$error":"#N/A"}]
[null,{"$f":"OFFSET(Datos!$B$1,MATCH(A460,Datos!$A$2:$A$34,0),0)","v":{"$error":"#N/A"}},null,"",null,{"$f":"OFFSET(Datos!$G$1,MATCH(E460,Datos!$H$2:$H$1121,0),0)","v":{"$error":"#N/A"}},null,"",null,"",null,{"$error":"#N/A"}]
[null,{"$f":"OFFSET(Datos!$B$1,MATCH(A461,Datos!$A$2:$A$34,0),0)","v":{"$error":"#N/A"}},null,"",null,{"$f":"OFFSET(Datos!$G$1,MATCH(E461,Datos!$H$2:$H$1121,0),0)","v":{"$error":"#N/A"}},null,"",null,"",null,{"$error":"#N/A"}]
[null,{"$f":"OFFSET(Datos!$B$1,MATCH(A462,Datos!$A$2:$A$34,0),0)","v":{"$error":"#N/A"}},null,"",null,{"$f":"OFFSET(Datos!$G$1,MATCH(E462,Datos!$H$2:$H$1121,0),0)","v":{"$error":"#N/A"}},null,"",null,"",null,{"$error":"#N/A"}]
[null,{"$f":"OFFSET(Datos!$B$1,MATCH(A463,Datos!$A$2:$A$34,0),0)","v":{"$error":"#N/A"}},null,"",null,{"$f":"OFFSET(Datos!$G$1,MATCH(E463,Datos!$H$2:$H$1121,0),0)","v":{"$error":"#N/A"}},null,"",null,"",null,{"$error":"#N/A"}]
[null,{"$f":"OFFSET(Datos!$B$1,MATCH(A464,Datos!$A$2:$A$34,0),0)","v":{"$error":"#N/A"}},null,"",null,{"$f":"OFFSET(Datos!$G$1,MATCH(E464,Datos!$H$2:$H$1121,0),0)","v":{"$error":"#N/A"}},null,"",null,"",null,{"$error":"#N/A"}]
[null,{"$f":"OFFSET(Datos!$B$1,MATCH(A465,Datos!$A$2:$A$34,0),0)","v":{"$error":"#N/A"}},null,"",null,{"$f":"OFFSET(Datos!$G$1,MATCH(E465,Datos!$H$2:$H$1121,0),0)","v":{"$error":"#N/A"}},null,"",null,"",null,{"$error":"#N/A"}]
[null,{"$f":"OFFSET(Datos!$B$1,MATCH(A466,Datos!$A$2:$A$34,0),0)","v":{"$error":"#N/A"}},null,"",null,{"$f":"OFFSET(Datos!$G$1,MATCH(E466,Datos!$H$2:$H$1121,0),0)","v":{"$error":"#N/A"}},null,"",null,"",null,{"$error":"#N/A"}]
[null,{"$f":"OFFSET(Datos!$B$1,MATCH(A467,Datos!$A$2:$A$34,0),0)","v":{"$error":"#N/A"}},null,"",null,{"$f":"OFFSET(Datos!$G$1,MATCH(E467,Datos!$H$2:$H$1121,0),0)","v":{"$error":"#N/A"}},null,"",null,"",null,{"$error":"#N/A"}]
[null,{"$f":"OFFSET(Datos!$B$1,MATCH(A468,Datos!$A$2:$A$34,0),0)","v":{"$error":"#N/A"}},null,"",null,{"$f":"OFFSET(Datos!$G$1,MATCH(E468,Datos!$H$2:$H$1121,0),0)","v":{"$error":"#N/A"}},null,"",null,"",null,{"$error":"#N/A"}]
[null,{"$f":"OFFSET(Datos!$B$1,MATCH(A469,Datos!$A$2:$A$34,0),0)","v":{"$error":"#N/A"}},null,"",null,{"$f":"OFFSET(Datos!$G$1,MATCH(E469,Datos!$H$2:$H$1121,0),0)","v":{"$error":"#N/A"}},null,"",null,"",null,{"$error":"#N/A"}]
[null,{"$f":"OFFSET(Datos!$B$1,MATCH(A470,Datos!$A$2:$A$34,0),0)","v":{"$error":"#N/A"}},null,"",null,{"$f":"OFFSET(Datos!$G$1,MATCH(E470,Datos!$H$2:$H$1121,0),0)","v":{"$error":"#N/A"}},null,"",null,"",null,{"$error":"#N/A"}]
[null,{"$f":"OFFSET(Datos!$B$1,MATCH(A471,Datos!$A$2:$A$34,0),0)","v":{"$error":"#N/A"}},null,"",null,{"$f":"OFFSET(Datos!$G$1,MATCH(E471,Datos!$H$2:$H$1121,0),0)","v":{"$error":"#N/A"}},null,"",null,"",null,{"$error":"#N/A"}]
[null,{"$f":"OFFSET(Datos!$B$1,MATCH(A472,Datos!$A$2:$A$34,0),0)","v":{"$error":"#N/A"}},null,"",null,{"$f":"OFFSET(Datos!$G$1,MATCH(E472,Datos!$H$2:$H$1121,0),0)","v":{"$error":"#N/A"}},null,"",null,"",null,{"$error":"#N/A"}]
[null,{"$f":"OFFSET(Datos!$B$1,MATCH(A473,Datos!$A$2:$A$34,0),0)","v":{"$error":"#N/A"}},null,"",null,{"$f":"OFFSET(Datos!$G$1,MATCH(E473,Datos!$H$2:$H$1121,0),0)","v":{"$error":"#N/A"}},null,"",null,"",null,{"$error":"#N/A"}]
[null,{"$f":"OFFSET(Datos!$B$1,MATCH(A474,Datos!$A$2:$A$34,0),0)","v":{"$error":"#N/A"}},null,"",null,{"$f":"OFFSET(Datos!$G$1,MATCH(E474,Datos!$H$2:$H$1121,0),0)","v":{"$error":"#N/A"}},null,"",null,"",null,{"$error":"#N/A"}]
[null,{"$f":"OFFSET(Datos!$B$1,MATCH(A475,Datos!$A$2:$A$34,0),0)","v":{"$error":"#N/A"}},null,"",null,{"$f":"OFFSET(Datos!$G$1,MATCH(E475,Datos!$H$2:$H$1121,0),0)","v":{"$error":"#N/A"}},null,"",null,"",null,{"$error":"#N/A"}]
[null,{"$f":"OFFSET(Datos!$B$1,MATCH(A476,Datos!$A$2:$A$34,0),0)","v":{"$error":"#N/A"}},null,"",null,{"$f":"OFFSET(Datos!$G$1,MATCH(E476,Datos!$H$2:$H$1121,0),0)","v":{"$error":"#N/A"}},null,"",null,"",null,{"$error":"#N/A"}]
[null,{"$f":"OFFSET(Datos!$B$1,MATCH(A477,Datos!$A$2:$A$34,0),0)","v":{"$error":"#N/A"}},null,"",null,{"$f":"OFFSET(Datos!$G$1,MATCH(E477,Datos!$H$2:$H$1121,0),0)","v":{"$error":"#N/A"}},null,"",null,"",null,{"$error":"#N/A"}]
[null,{"$f":"OFFSET(Datos!$B$1,MATCH(A478,Datos!$A$2:$A$34,0),0)","v":{"$error":"#N/A"}},null,"",null,{"$f":"OFFSET(Datos!$G$1,MATCH(E478,Datos!$H$2:$H$1121,0),0)","v":{"$error":"#N/A"}},null,"",null,"",null,{"$error":"#N/A"}]
[null,{"$f":"OFFSET(Datos!$B$1,MATCH(A479,Datos!$A$2:$A$34,0),0)","v":{"$error":"#N/A"}},null,"",null,{"$f":"OFFSET(Datos!$G$1,MATCH(E479,Datos!$H$2:$H$1121,0),0)","v":{"$error":"#N/A"}},null,"",null,"",null,{"$error":"#N/A"}]
[null,{"$f":"OFFSET(Datos!$B$1,MATCH(A480,Datos!$A$2:$A$34,0),0)","v":{"$error":"#N/A"}},null,"",null,{"$f":"OFFSET(Datos!$G$1,MATCH(E480,Datos!$H$2:$H$1121,0),0)","v":{"$error":"#N/A"}},null,"",null,"",null,{"$error":"#N/A"}]
[null,{"$f":"OFFSET(Datos!$B$1,MATCH(A481,Datos!$A$2:$A$34,0),0)","v":{"$error":"#N/A"}},null,"",null,{"$f":"OFFSET(Datos!$G$1,MATCH(E481,Datos!$H$2:$H$1121,0),0)","v":{"$error":"#N/A"}},null,"",null,"",null,{"$error":"#N/A"}]
[null,{"$f":"OFFSET(Datos!$B$1,MATCH(A482,Datos!$A$2:$A$34,0),0)","v":{"$error":"#N/A"}},null,"",null,{"$f":"OFFSET(Datos!$G$1,MATCH(E482,Datos!$H$2:$H$1121,0),0)","v":{"$error":"#N/A"}},null,"",null,"",null,{"$error":"#N/A"}]
[null,{"$f":"OFFSET(Datos!$B$1,MATCH(A483,Datos!$A$2:$A$34,0),0)","v":{"$error":"#N/A"}},null,"",null,{"$f":"OFFSET(Datos!$G$1,MATCH(E483,Datos!$H$2:$H$1121,0),0)","v":{"$error":"#N/A"}},null,"",null,"",null,{"$error":"#N/A"}]
[null,{"$f":"OFFSET(Datos!$B$1,MATCH(A484,Datos!$A$2:$A$34,0),0)","v":{"$error":"#N/A"}},null,"",null,{"$f":"OFFSET(Datos!$G$1,MATCH(E484,Datos!$H$2:$H$1121,0),0)","v":{"$error":"#N/A"}},null,"",null,"",null,{"$error":"#N/A"}]
[null,{"$f":"OFFSET(Datos!$B$1,MATCH(A485,Datos!$A$2:$A$34,0),0)","v":{"$error":"#N/A"}},null,"",null,{"$f":"OFFSET(Datos!$G$1,MATCH(E485,Datos!$H$2:$H$1121,0),0)","v":{"$error":"#N/A"}},null,"",null,"",null,{"$error":"#N/A"}]
[null,{"$f":"OFFSET(Datos!$B$1,MATCH(A486,Datos!$A$2:$A$34,0),0)","v":{"$error":"#N/A"}},null,"",null,{"$f":"OFFSET(Datos!$G$1,MATCH(E486,Datos!$H$2:$H$1121,0),0)","v":{"$error":"#N/A"}},null,"",null,"",null,{"$error":"#N/A"}]
[null,{"$f":"OFFSET(Datos!$B$1,MATCH(A487,Datos!$A$2:$A$34,0),0)","v":{"$error":"#N/A"}},null,"",null,{"$f":"OFFSET(Datos!$G$1,MATCH(E487,Datos!$H$2:$H$1121,0),0)","v":{"$error":"#N/A"}},null,"",null,"",null,{"$error":"#N/A"}]
[null,{"$f":"OFFSET(Datos!$B$1,MATCH(A488,Datos!$A$2:$A$34,0),0)","v":{"$error":"#N/A"}},null,"",null,{"$f":"OFFSET(Datos!$G$1,MATCH(E488,Datos!$H$2:$H$1121,0),0)","v":{"$error":"#N/A"}},null,"",null,"",null,{"$error":"#N/A"}]
[null,{"$f":"OFFSET(Datos!$B$1,MATCH(A489,Datos!$A$2:$A$34,0),0)","v":{"$error":"#N/A"}},null,"",null,{"$f":"OFFSET(Datos!$G$1,MATCH(E489,Datos!$H$2:$H$1121,0),0)","v":{"$error":"#N/A"}},null,"",null,"",null,{"$error":"#N/A"}]
[null,{"$f":"OFFSET(Datos!$B$1,MATCH(A490,Datos!$A$2:$A$34,0),0)","v":{"$error":"#N/A"}},null,"",null,{"$f":"OFFSET(Datos!$G$1,MATCH(E490,Datos!$H$2:$H$1121,0),0)","v":{"$error":"#N/A"}},null,"",null,"",null,{"$error":"#N/A"}]
[null,{"$f":"OFFSET(Datos!$B$1,MATCH(A491,Datos!$A$2:$A$34,0),0)","v":{"$error":"#N/A"}},null,"",null,{"$f":"OFFSET(Datos!$G$1,MATCH(E491,Datos!$H$2:$H$1121,0),0)","v":{"$error":"#N/A"}},null,"",null,"",null,{"$error":"#N/A"}]
[null,{"$f":"OFFSET(Datos!$B$1,MATCH(A492,Datos!$A$2:$A$34,0),0)","v":{"$error":"#N/A"}},null,"",null,{"$f":"OFFSET(Datos!$G$1,MATCH(E492,Datos!$H$2:$H$1121,0),0)","v":{"$error":"#N/A"}},null,"",null,"",null,{"$error":"#N/A"}]
[null,{"$f":"OFFSET(Datos!$B$1,MATCH(A493,Datos!$A$2:$A$34,0),0)","v":{"$error":"#N/A"}},null,"",null,{"$f":"OFFSET(Datos!$G$1,MATCH(E493,Datos!$H$2:$H$1121,0),0)","v":{"$error":"#N/A"}},null,"",null,"",null,{"$error":"#N/A"}]
[null,{"$f":"OFFSET(Datos!$B$1,MATCH(A494,Datos!$A$2:$A$34,0),0)","v":{"$error":"#N/A"}},null,"",null,{"$f":"OFFSET(Datos!$G$1,MATCH(E494,Datos!$H$2:$H$1121,0),0)","v":{"$error":"#N/A"}},null,"",null,"",null,{"$error":"#N/A"}]
[null,{"$f":"OFFSET(Datos!$B$1,MATCH(A495,Datos!$A$2:$A$34,0),0)","v":{"$error":"#N/A"}},null,"",null,{"$f":"OFFSET(Datos!$G$1,MATCH(E495,Datos!$H$2:$H$1121,0),0)","v":{"$error":"#N/A"}},null,"",null,"",null,{"$error":"#N/A"}]
[null,{"$f":"OFFSET(Datos!$B$1,MATCH(A496,Datos!$A$2:$A$34,0),0)","v":{"$error":"#N/A"}},null,"",null,{"$f":"OFFSET(Datos!$G$1,MATCH(E496,Datos!$H$2:$H$1121,0),0)","v":{"$error":"#N/A"}},null,"",null,"",null,{"$error":"#N/A"}]
[null,{"$f":"OFFSET(Datos!$B$1,MATCH(A497,Datos!$A$2:$A$34,0),0)","v":{"$error":"#N/A"}},null,"",null,{"$f":"OFFSET(Datos!$G$1,MATCH(E497,Datos!$H$2:$H$1121,0),0)","v":{"$error":"#N/A"}},null,"",null,"",null,{"$error":"#N/A"}]
[null,{"$f":"OFFSET(Datos!$B$1,MATCH(A498,Datos!$A$2:$A$34,0),0)","v":{"$error":"#N/A"}},null,"",null,{"$f":"OFFSET(Datos!$G$1,MATCH(E498,Datos!$H$2:$H$1121,0),0)","v":{"$error":"#N/A"}},null,"",null,"",null,{"$error":"#N/A"}]
[null,{"$f":"OFFSET(Datos!$B$1,MATCH(A499,Datos!$A$2:$A$34,0),0)","v":{"$error":"#N/A"}},null,"",null,{"$f":"OFFSET(Datos!$G$1,MATCH(E499,Datos!$H$2:$H$1121,0),0)","v":{"$error":"#N/A"}},null,"",null,"",null,{"$error":"#N/A"}]
[null,{"$f":"OFFSET(Datos!$B$1,MATCH(A500,Datos!$A$2:$A$34,0),0)","v":{"$error":"#N/A"}},null,"",null,{"$f":"OFFSET(Datos!$G$1,MATCH(E500,Datos!$H$2:$H$1121,0),0)","v":{"$error":"#N/A"}},null,"",null,"",null,{"$error":"#N/A"}]
[null,{"$f":"OFFSET(Datos!$B$1,MATCH(A501,Datos!$A$2:$A$34,0),0)","v":{"$error":"#N/A"}},null,"",null,{"$f":"OFFSET(Datos!$G$1,MATCH(E501,Datos!$H$2:$H$1121,0),0)","v":{"$error":"#N/A"}},null,"",null,"",null,{"$error":"#N/A"}]
[null,{"$f":"OFFSET(Datos!$B$1,MATCH(A502,Datos!$A$2:$A$34,0),0)","v":{"$error":"#N/A"}},null,"",null,{"$f":"OFFSET(Datos!$G$1,MATCH(E502,Datos!$H$2:$H$1121,0),0)","v":{"$error":"#N/A"}},null,"",null,"",null,{"$error":"#N/A"}]
[null,{"$f":"OFFSET(Datos!$B$1,MATCH(A503,Datos!$A$2:$A$34,0),0)","v":{"$error":"#N/A"}},null,"",null,{"$f":"OFFSET(Datos!$G$1,MATCH(E503,Datos!$H$2:$H$1121,0),0)","v":{"$error":"#N/A"}},null,"",null,"",null,{"$error":"#N/A"}]
[null,{"$f":"OFFSET(Datos!$B$1,MATCH(A504,Datos!$A$2:$A$34,0),0)","v":{"$error":"#N/A"}},null,"",null,{"$f":"OFFSET(Datos!$G$1,MATCH(E504,Datos!$H$2:$H$1121,0),0)","v":{"$error":"#N/A"}},null,"",null,"",null,{"$error":"#N/A"}]
[null,{"$f":"OFFSET(Datos!$B$1,MATCH(A505,Datos!$A$2:$A$34,0),0)","v":{"$error":"#N/A"}},null,"",null,{"$f":"OFFSET(Datos!$G$1,MATCH(E505,Datos!$H$2:$H$1121,0),0)","v":{"$error":"#N/A"}},null,"",null,"",null,{"$error":"#N/A"}]
[null,{"$f":"OFFSET(Datos!$B$1,MATCH(A506,Datos!$A$2:$A$34,0),0)","v":{"$error":"#N/A"}},null,"",null,{"$f":"OFFSET(Datos!$G$1,MATCH(E506,Datos!$H$2:$H$1121,0),0)","v":{"$error":"#N/A"}},null,"",null,"",null,{"$error":"#N/A"}]
[null,{"$f":"OFFSET(Datos!$B$1,MATCH(A507,Datos!$A$2:$A$34,0),0)","v":{"$error":"#N/A"}},null,"",null,{"$f":"OFFSET(Datos!$G$1,MATCH(E507,Datos!$H$2:$H$1121,0),0)","v":{"$error":"#N/A"}},null,"",null,"",null,{"$error":"#N/A"}]
[null,{"$f":"OFFSET(Datos!$B$1,MATCH(A508,Datos!$A$2:$A$34,0),0)","v":{"$error":"#N/A"}},null,"",null,{"$f":"OFFSET(Datos!$G$1,MATCH(E508,Datos!$H$2:$H$1121,0),0)","v":{"$error":"#N/A"}},null,"",null,"",null,{"$error":"#N/A"}]
[null,{"$f":"OFFSET(Datos!$B$1,MATCH(A509,Datos!$A$2:$A$34,0),0)","v":{"$error":"#N/A"}},null,"",null,{"$f":"OFFSET(Datos!$G$1,MATCH(E509,Datos!$H$2:$H$1121,0),0)","v":{"$error":"#N/A"}},null,"",null,"",null,{"$error":"#N/A"}]
[null,{"$f":"OFFSET(Datos!$B$1,MATCH(A510,Datos!$A$2:$A$34,0),0)","v":{"$error":"#N/A"}},null,"",null,{"$f":"OFFSET(Datos!$G$1,MATCH(E510,Datos!$H$2:$H$1121,0),0)","v":{"$error":"#N/A"}},null,"",null,"",null,{"$error":"#N/A"}]
[null,{"$f":"OFFSET(Datos!$B$1,MATCH(A511,Datos!$A$2:$A$34,0),0)","v":{"$error":"#N/A"}},null,"",null,{"$f":"OFFSET(Datos!$G$1,MATCH(E511,Datos!$H$2:$H$1121,0),0)","v":{"$error":"#N/A"}},null,"",null,"",null,{"$error":"#N/A"}]
[null,{"$f":"OFFSET(Datos!$B$1,MATCH(A512,Datos!$A$2:$A$34,0),0)","v":{"$error":"#N/A"}},null,"",null,{"$f":"OFFSET(Datos!$G$1,MATCH(E512,Datos!$H$2:$H$1121,0),0)","v":{"$error":"#N/A"}},null,"",null,"",null,{"$error":"#N/A"}]
[null,{"$f":"OFFSET(Datos!$B$1,MATCH(A513,Datos!$A$2:$A$34,0),0)","v":{"$error":"#N/A"}},null,"",null,{"$f":"OFFSET(Datos!$G$1,MATCH(E513,Datos!$H$2:$H$1121,0),0)","v":{"$error":"#N/A"}},null,"",null,"",null,{"$error":"#N/A"}]
[null,{"$f":"OFFSET(Datos!$B$1,MATCH(A514,Datos!$A$2:$A$34,0),0)","v":{"$error":"#N/A"}},null,"",null,{"$f":"OFFSET(Datos!$G$1,MATCH(E514,Datos!$H$2:$H$1121,0),0)","v":{"$error":"#N/A"}},null,"",null,"",null,{"$error":"#N/A"}]
[null,{"$f":"OFFSET(Datos!$B$1,MATCH(A515,Datos!$A$2:$A$34,0),0)","v":{"$error":"#N/A"}},null,{"$f":"MID(C515,1,1)","v":""},null,{"$f":"OFFSET(Datos!$G$1,MATCH(E515,Datos!$H$2:$H$1121,0),0)","v":{"$error":"#N/A"}},null,{"$f":"MID(G515,1,2)","v":""},null,{"$f":"MID(I515,1,2)","v":""},null,{"$f":"CONCATENATE(B515,D515,F515,H515,J515,K515)","v":{"$error":"#N/A"}}]
[null,{"$f":"OFFSET(Datos!$B$1,MATCH(A516,Datos!$A$2:$A$34,0),0)","v":{"$error":"#N/A"}},null,"",null,{"$f":"OFFSET(Datos!$G$1,MATCH(E516,Datos!$H$2:$H$1121,0),0)","v":{"$error":"#N/A"}},null,"",null,"",null,{"$error":"#N/A"}]
[null,{"$f":"OFFSET(Datos!$B$1,MATCH(A517,Datos!$A$2:$A$34,0),0)","v":{"$error":"#N/A"}},null,"",null,{"$f":"OFFSET(Datos!$G$1,MATCH(E517,Datos!$H$2:$H$1121,0),0)","v":{"$error":"#N/A"}},null,"",null,"",null,{"$error":"#N/A"}]
[null,{"$f":"OFFSET(Datos!$B$1,MATCH(A518,Datos!$A$2:$A$34,0),0)","v":{"$error":"#N/A"}},null,"",null,{"$f":"OFFSET(Datos!$G$1,MATCH(E518,Datos!$H$2:$H$1121,0),0)","v":{"$error":"#N/A"}},null,"",null,"",null,{"$error":"#N/A"}]
[null,{"$f":"OFFSET(Datos!$B$1,MATCH(A519,Datos!$A$2:$A$34,0),0)","v":{"$error":"#N/A"}},null,"",null,{"$f":"OFFSET(Datos!$G$1,MATCH(E519,Datos!$H$2:$H$1121,0),0)","v":{"$error":"#N/A"}},null,"",null,"",null,{"$error":"#N/A"}]
[null,{"$f":"OFFSET(Datos!$B$1,MATCH(A520,Datos!$A$2:$A$34,0),0)","v":{"$error":"#N/A"}},null,"",null,{"$f":"OFFSET(Datos!$G$1,MATCH(E520,Datos!$H$2:$H$1121,0),0)","v":{"$error":"#N/A"}},null,"",null,"",null,{"$error":"#N/A"}]
[null,{"$f":"OFFSET(Datos!$B$1,MATCH(A521,Datos!$A$2:$A$34,0),0)","v":{"$error":"#N/A"}},null,"",null,{"$f":"OFFSET(Datos!$G$1,MATCH(E521,Datos!$H$2:$H$1121,0),0)","v":{"$error":"#N/A"}},null,"",null,"",null,{"$error":"#N/A"}]
[null,{"$f":"OFFSET(Datos!$B$1,MATCH(A522,Datos!$A$2:$A$34,0),0)","v":{"$error":"#N/A"}},null,"",null,{"$f":"OFFSET(Datos!$G$1,MATCH(E522,Datos!$H$2:$H$1121,0),0)","v":{"$error":"#N/A"}},null,"",null,"",null,{"$error":"#N/A"}]
[null,{"$f":"OFFSET(Datos!$B$1,MATCH(A523,Datos!$A$2:$A$34,0),0)","v":{"$error":"#N/A"}},null,"",null,{"$f":"OFFSET(Datos!$G$1,MATCH(E523,Datos!$H$2:$H$1121,0),0)","v":{"$error":"#N/A"}},null,"",null,"",null,{"$error":"#N/A"}]
[null,{"$f":"OFFSET(Datos!$B$1,MATCH(A524,Datos!$A$2:$A$34,0),0)","v":{"$error":"#N/A"}},null,"",null,{"$f":"OFFSET(Datos!$G$1,MATCH(E524,Datos!$H$2:$H$1121,0),0)","v":{"$error":"#N/A"}},null,"",null,"",null,{"$error":"#N/A"}]
[null,{"$f":"OFFSET(Datos!$B$1,MATCH(A525,Datos!$A$2:$A$34,0),0)","v":{"$error":"#N/A"}},null,"",null,{"$f":"OFFSET(Datos!$G$1,MATCH(E525,Datos!$H$2:$H$1121,0),0)","v":{"$error":"#N/A"}},null,"",null,"",null,{"$error":"#N/A"}]
[null,{"$f":"OFFSET(Datos!$B$1,MATCH(A526,Datos!$A$2:$A$34,0),0)","v":{"$error":"#N/A"}},null,"",null,{"$f":"OFFSET(Datos!$G$1,MATCH(E526,Datos!$H$2:$H$1121,0),0)","v":{"$error":"#N/A"}},null,"",null,"",null,{"$error":"#N/A"}]
[null,{"$f":"OFFSET(Datos!$B$1,MATCH(A527,Datos!$A$2:$A$34,0),0)","v":{"$error":"#N/A"}},null,"",null,{"$f":"OFFSET(Datos!$G$1,MATCH(E527,Datos!$H$2:$H$1121,0),0)","v":{"$error":"#N/A"}},null,"",null,"",null,{"$error":"#N/A"}]
[null,{"$f":"OFFSET(Datos!$B$1,MATCH(A528,Datos!$A$2:$A$34,0),0)","v":{"$error":"#N/A"}},null,"",null,{"$f":"OFFSET(Datos!$G$1,MATCH(E528,Datos!$H$2:$H$1121,0),0)","v":{"$error":"#N/A"}},null,"",null,"",null,{"$error":"#N/A"}]
[null,{"$f":"OFFSET(Datos!$B$1,MATCH(A529,Datos!$A$2:$A$34,0),0)","v":{"$error":"#N/A"}},null,"",null,{"$f":"OFFSET(Datos!$G$1,MATCH(E529,Datos!$H$2:$H$1121,0),0)","v":{"$error":"#N/A"}},null,"",null,"",null,{"$error":"#N/A"}]
[null,{"$f":"OFFSET(Datos!$B$1,MATCH(A530,Datos!$A$2:$A$34,0),0)","v":{"$error":"#N/A"}},null,"",null,{"$f":"OFFSET(Datos!$G$1,MATCH(E530,Datos!$H$2:$H$1121,0),0)","v":{"$error":"#N/A"}},null,"",null,"",null,{"$error":"#N/A"}]
[null,{"$f":"OFFSET(Datos!$B$1,MATCH(A531,Datos!$A$2:$A$34,0),0)","v":{"$error":"#N/A"}},null,"",null,{"$f":"OFFSET(Datos!$G$1,MATCH(E531,Datos!$H$2:$H$1121,0),0)","v":{"$error":"#N/A"}},null,"",null,"",null,{"$error":"#N/A"}]
[null,{"$f":"OFFSET(Datos!$B$1,MATCH(A532,Datos!$A$2:$A$34,0),0)","v":{"$error":"#N/A"}},null,"",null,{"$f":"OFFSET(Datos!$G$1,MATCH(E532,Datos!$H$2:$H$1121,0),0)","v":{"$error":"#N/A"}},null,"",null,"",null,{"$error":"#N/A"}]
[null,{"$f":"OFFSET(Datos!$B$1,MATCH(A533,Datos!$A$2:$A$34,0),0)","v":{"$error":"#N/A"}},null,"",null,{"$f":"OFFSET(Datos!$G$1,MATCH(E533,Datos!$H$2:$H$1121,0),0)","v":{"$error":"#N/A"}},null,"",null,"",null,{"$error":"#N/A"}]
[null,{"$f":"OFFSET(Datos!$B$1,MATCH(A534,Datos!$A$2:$A$34,0),0)","v":{"$error":"#N/A"}},null,"",null,{"$f":"OFFSET(Datos!$G$1,MATCH(E534,Datos!$H$2:$H$1121,0),0)","v":{"$error":"#N/A"}},null,"",null,"",null,{"$error":"#N/A"}]
[null,{"$f":"OFFSET(Datos!$B$1,MATCH(A535,Datos!$A$2:$A$34,0),0)","v":{"$error":"#N/A"}},null,"",null,{"$f":"OFFSET(Datos!$G$1,MATCH(E535,Datos!$H$2:$H$1121,0),0)","v":{"$error":"#N/A"}},null,"",null,"",null,{"$error":"#N/A"}]
[null,{"$f":"OFFSET(Datos!$B$1,MATCH(A536,Datos!$A$2:$A$34,0),0)","v":{"$error":"#N/A"}},null,"",null,{"$f":"OFFSET(Datos!$G$1,MATCH(E536,Datos!$H$2:$H$1121,0),0)","v":{"$error":"#N/A"}},null,"",null,"",null,{"$error":"#N/A"}]
[null,{"$f":"OFFSET(Datos!$B$1,MATCH(A537,Datos!$A$2:$A$34,0),0)","v":{"$error":"#N/A"}},null,"",null,{"$f":"OFFSET(Datos!$G$1,MATCH(E537,Datos!$H$2:$H$1121,0),0)","v":{"$error":"#N/A"}},null,"",null,"",null,{"$error":"#N/A"}]
[null,{"$f":"OFFSET(Datos!$B$1,MATCH(A538,Datos!$A$2:$A$34,0),0)","v":{"$error":"#N/A"}},null,"",null,{"$f":"OFFSET(Datos!$G$1,MATCH(E538,Datos!$H$2:$H$1121,0),0)","v":{"$error":"#N/A"}},null,"",null,"",null,{"$error":"#N/A"}]
[null,{"$f":"OFFSET(Datos!$B$1,MATCH(A539,Datos!$A$2:$A$34,0),0)","v":{"$error":"#N/A"}},null,"",null,{"$f":"OFFSET(Datos!$G$1,MATCH(E539,Datos!$H$2:$H$1121,0),0)","v":{"$error":"#N/A"}},null,"",null,"",null,{"$error":"#N/A"}]
[null,{"$f":"OFFSET(Datos!$B$1,MATCH(A540,Datos!$A$2:$A$34,0),0)","v":{"$error":"#N/A"}},null,"",null,{"$f":"OFFSET(Datos!$G$1,MATCH(E540,Datos!$H$2:$H$1121,0),0)","v":{"$error":"#N/A"}},null,"",null,"",null,{"$error":"#N/A"}]
[null,{"$f":"OFFSET(Datos!$B$1,MATCH(A541,Datos!$A$2:$A$34,0),0)","v":{"$error":"#N/A"}},null,"",null,{"$f":"OFFSET(Datos!$G$1,MATCH(E541,Datos!$H$2:$H$1121,0),0)","v":{"$error":"#N/A"}},null,"",null,"",null,{"$error":"#N/A"}]
[null,{"$f":"OFFSET(Datos!$B$1,MATCH(A542,Datos!$A$2:$A$34,0),0)","v":{"$error":"#N/A"}},null,"",null,{"$f":"OFFSET(Datos!$G$1,MATCH(E542,Datos!$H$2:$H$1121,0),0)","v":{"$error":"#N/A"}},null,"",null,"",null,{"$error":"#N/A"}]
[null,{"$f":"OFFSET(Datos!$B$1,MATCH(A543,Datos!$A$2:$A$34,0),0)","v":{"$error":"#N/A"}},null,"",null,{"$f":"OFFSET(Datos!$G$1,MATCH(E543,Datos!$H$2:$H$1121,0),0)","v":{"$error":"#N/A"}},null,"",null,"",null,{"$error":"#N/A"}]
[null,{"$f":"OFFSET(Datos!$B$1,MATCH(A544,Datos!$A$2:$A$34,0),0)","v":{"$error":"#N/A"}},null,"",null,{"$f":"OFFSET(Datos!$G$1,MATCH(E544,Datos!$H$2:$H$1121,0),0)","v":{"$error":"#N/A"}},null,"",null,"",null,{"$error":"#N/A"}]
[null,{"$f":"OFFSET(Datos!$B$1,MATCH(A545,Datos!$A$2:$A$34,0),0)","v":{"$error":"#N/A"}},null,"",null,{"$f":"OFFSET(Datos!$G$1,MATCH(E545,Datos!$H$2:$H$1121,0),0)","v":{"$error":"#N/A"}},null,"",null,"",null,{"$error":"#N/A"}]
[null,{"$f":"OFFSET(Datos!$B$1,MATCH(A546,Datos!$A$2:$A$34,0),0)","v":{"$error":"#N/A"}},null,"",null,{"$f":"OFFSET(Datos!$G$1,MATCH(E546,Datos!$H$2:$H$1121,0),0)","v":{"$error":"#N/A"}},null,"",null,"",null,{"$error":"#N/A"}]
[null,{"$f":"OFFSET(Datos!$B$1,MATCH(A547,Datos!$A$2:$A$34,0),0)","v":{"$error":"#N/A"}},null,"",null,{"$f":"OFFSET(Datos!$G$1,MATCH(E547,Datos!$H$2:$H$1121,0),0)","v":{"$error":"#N/A"}},null,"",null,"",null,{"$error":"#N/A"}]
[null,{"$f":"OFFSET(Datos!$B$1,MATCH(A548,Datos!$A$2:$A$34,0),0)","v":{"$error":"#N/A"}},null,"",null,{"$f":"OFFSET(Datos!$G$1,MATCH(E548,Datos!$H$2:$H$1121,0),0)","v":{"$error":"#N/A"}},null,"",null,"",null,{"$error":"#N/A"}]
[null,{"$f":"OFFSET(Datos!$B$1,MATCH(A549,Datos!$A$2:$A$34,0),0)","v":{"$error":"#N/A"}},null,"",null,{"$f":"OFFSET(Datos!$G$1,MATCH(E549,Datos!$H$2:$H$1121,0),0)","v":{"$error":"#N/A"}},null,"",null,"",null,{"$error":"#N/A"}]
[null,{"$f":"OFFSET(Datos!$B$1,MATCH(A550,Datos!$A$2:$A$34,0),0)","v":{"$error":"#N/A"}},null,"",null,{"$f":"OFFSET(Datos!$G$1,MATCH(E550,Datos!$H$2:$H$1121,0),0)","v":{"$error":"#N/A"}},null,"",null,"",null,{"$error":"#N/A"}]
[null,{"$f":"OFFSET(Datos!$B$1,MATCH(A551,Datos!$A$2:$A$34,0),0)","v":{"$error":"#N/A"}},null,"",null,{"$f":"OFFSET(Datos!$G$1,MATCH(E551,Datos!$H$2:$H$1121,0),0)","v":{"$error":"#N/A"}},null,"",null,"",null,{"$error":"#N/A"}]
[null,{"$f":"OFFSET(Datos!$B$1,MATCH(A552,Datos!$A$2:$A$34,0),0)","v":{"$error":"#N/A"}},null,"",null,{"$f":"OFFSET(Datos!$G$1,MATCH(E552,Datos!$H$2:$H$1121,0),0)","v":{"$error":"#N/A"}},null,"",null,"",null,{"$error":"#N/A"}]
[null,{"$f":"OFFSET(Datos!$B$1,MATCH(A553,Datos!$A$2:$A$34,0),0)","v":{"$error":"#N/A"}},null,"",null,{"$f":"OFFSET(Datos!$G$1,MATCH(E553,Datos!$H$2:$H$1121,0),0)","v":{"$error":"#N/A"}},null,"",null,"",null,{"$error":"#N/A"}]
[null,{"$f":"OFFSET(Datos!$B$1,MATCH(A554,Datos!$A$2:$A$34,0),0)","v":{"$error":"#N/A"}},null,"",null,{"$f":"OFFSET(Datos!$G$1,MATCH(E554,Datos!$H$2:$H$1121,0),0)","v":{"$error":"#N/A"}},null,"",null,"",null,{"$error":"#N/A"}]
[null,{"$f":"OFFSET(Datos!$B$1,MATCH(A555,Datos!$A$2:$A$34,0),0)","v":{"$error":"#N/A"}},null,"",null,{"$f":"OFFSET(Datos!$G$1,MATCH(E555,Datos!$H$2:$H$1121,0),0)","v":{"$error":"#N/A"}},null,"",null,"",null,{"$error":"#N/A"}]
[null,{"$f":"OFFSET(Datos!$B$1,MATCH(A556,Datos!$A$2:$A$34,0),0)","v":{"$error":"#N/A"}},null,"",null,{"$f":"OFFSET(Datos!$G$1,MATCH(E556,Datos!$H$2:$H$1121,0),0)","v":{"$error":"#N/A"}},null,"",null,"",null,{"$error":"#N/A"}]
[null,{"$f":"OFFSET(Datos!$B$1,MATCH(A557,Datos!$A$2:$A$34,0),0)","v":{"$error":"#N/A"}},null,"",null,{"$f":"OFFSET(Datos!$G$1,MATCH(E557,Datos!$H$2:$H$1121,0),0)","v":{"$error":"#N/A"}},null,"",null,"",null,{"$error":"#N/A"}]
[null,{"$f":"OFFSET(Datos!$B$1,MATCH(A558,Datos!$A$2:$A$34,0),0)","v":{"$error":"#N/A"}},null,"",null,{"$f":"OFFSET(Datos!$G$1,MATCH(E558,Datos!$H$2:$H$1121,0),0)","v":{"$error":"#N/A"}},null,"",null,"",null,{"$error":"#N/A"}]
[null,{"$f":"OFFSET(Datos!$B$1,MATCH(A559,Datos!$A$2:$A$34,0),0)","v":{"$error":"#N/A"}},null,"",null,{"$f":"OFFSET(Datos!$G$1,MATCH(E559,Datos!$H$2:$H$1121,0),0)","v":{"$error":"#N/A"}},null,"",null,"",null,{"$error":"#N/A"}]
[null,{"$f":"OFFSET(Datos!$B$1,MATCH(A560,Datos!$A$2:$A$34,0),0)","v":{"$error":"#N/A"}},null,"",null,{"$f":"OFFSET(Datos!$G$1,MATCH(E560,Datos!$H$2:$H$1121,0),0)","v":{"$error":"#N/A"}},null,"",null,"",null,{"$error":"#N/A"}]
[null,{"$f":"OFFSET(Datos!$B$1,MATCH(A561,Datos!$A$2:$A$34,0),0)","v":{"$error":"#N/A"}},null,"",null,{"$f":"OFFSET(Datos!$G$1,MATCH(E561,Datos!$H$2:$H$1121,0),0)","v":{"$error":"#N/A"}},null,"",null,"",null,{"$error":"#N/A"}]
[null,{"$f":"OFFSET(Datos!$B$1,MATCH(A562,Datos!$A$2:$A$34,0),0)","v":{"$error":"#N/A"}},null,"",null,{"$f":"OFFSET(Datos!$G$1,MATCH(E562,Datos!$H$2:$H$1121,0),0)","v":{"$error":"#N/A"}},null,"",null,"",null,{"$error":"#N/A"}]
[null,{"$f":"OFFSET(Datos!$B$1,MATCH(A563,Datos!$A$2:$A$34,0),0)","v":{"$error":"#N/A"}},null,"",null,{"$f":"OFFSET(Datos!$G$1,MATCH(E563,Datos!$H$2:$H$1121,0),0)","v":{"$error":"#N/A"}},null,"",null,"",null,{"$error":"#N/A"}]
[null,{"$f":"OFFSET(Datos!$B$1,MATCH(A564,Datos!$A$2:$A$34,0),0)","v":{"$error":"#N/A"}},null,"",null,{"$f":"OFFSET(Datos!$G$1,MATCH(E564,Datos!$H$2:$H$1121,0),0)","v":{"$error":"#N/A"}},null,"",null,"",null,{"$error":"#N/A"}]
[null,{"$f":"OFFSET(Datos!$B$1,MATCH(A565,Datos!$A$2:$A$34,0),0)","v":{"$error":"#N/A"}},null,"",null,{"$f":"OFFSET(Datos!$G$1,MATCH(E565,Datos!$H$2:$H$1121,0),0)","v":{"$error":"#N/A"}},null,"",null,"",null,{"$error":"#N/A"}]
[null,{"$f":"OFFSET(Datos!$B$1,MATCH(A566,Datos!$A$2:$A$34,0),0)","v":{"$error":"#N/A"}},null,"",null,{"$f":"OFFSET(Datos!$G$1,MATCH(E566,Datos!$H$2:$H$1121,0),0)","v":{"$error":"#N/A"}},null,"",null,"",null,{"$error":"#N/A"}]
[null,{"$f":"OFFSET(Datos!$B$1,MATCH(A567,Datos!$A$2:$A$34,0),0)","v":{"$error":"#N/A"}},null,"",null,{"$f":"OFFSET(Datos!$G$1,MATCH(E567,Datos!$H$2:$H$1121,0),0)","v":{"$error":"#N/A"}},null,"",null,"",null,{"$error":"#N/A"}]
[null,{"$f":"OFFSET(Datos!$B$1,MATCH(A568,Datos!$A$2:$A$34,0),0)","v":{"$error":"#N/A"}},null,"",null,{"$f":"OFFSET(Datos!$G$1,MATCH(E568,Datos!$H$2:$H$1121,0),0)","v":{"$error":"#N/A"}},null,"",null,"",null,{"$error":"#N/A"}]
[null,{"$f":"OFFSET(Datos!$B$1,MATCH(A569,Datos!$A$2:$A$34,0),0)","v":{"$error":"#N/A"}},null,"",null,{"$f":"OFFSET(Datos!$G$1,MATCH(E569,Datos!$H$2:$H$1121,0),0)","v":{"$error":"#N/A"}},null,"",null,"",null,{"$error":"#N/A"}]
[null,{"$f":"OFFSET(Datos!$B$1,MATCH(A570,Datos!$A$2:$A$34,0),0)","v":{"$error":"#N/A"}},null,"",null,{"$f":"OFFSET(Datos!$G$1,MATCH(E570,Datos!$H$2:$H$1121,0),0)","v":{"$error":"#N/A"}},null,"",null,"",null,{"$error":"#N/A"}]
[null,{"$f":"OFFSET(Datos!$B$1,MATCH(A571,Datos!$A$2:$A$34,0),0)","v":{"$error":"#N/A"}},null,"",null,{"$f":"OFFSET(Datos!$G$1,MATCH(E571,Datos!$H$2:$H$1121,0),0)","v":{"$error":"#N/A"}},null,"",null,"",null,{"$error":"#N/A"}]
[null,{"$f":"OFFSET(Datos!$B$1,MATCH(A572,Datos!$A$2:$A$34,0),0)","v":{"$error":"#N/A"}},null,"",null,{"$f":"OFFSET(Datos!$G$1,MATCH(E572,Datos!$H$2:$H$1121,0),0)","v":{"$error":"#N/A"}},null,"",null,"",null,{"$error":"#N/A"}]
[null,{"$f":"OFFSET(Datos!$B$1,MATCH(A573,Datos!$A$2:$A$34,0),0)","v":{"$error":"#N/A"}},null,"",null,{"$f":"OFFSET(Datos!$G$1,MATCH(E573,Datos!$H$2:$H$1121,0),0)","v":{"$error":"#N/A"}},null,"",null,"",null,{"$error":"#N/A"}]
[null,{"$f":"OFFSET(Datos!$B$1,MATCH(A574,Datos!$A$2:$A$34,0),0)","v":{"$error":"#N/A"}},null,"",null,{"$f":"OFFSET(Datos!$G$1,MATCH(E574,Datos!$H$2:$H$1121,0),0)","v":{"$error":"#N/A"}},null,"",null,"",null,{"$error":"#N/A"}]
[null,{"$f":"OFFSET(Datos!$B$1,MATCH(A575,Datos!$A$2:$A$34,0),0)","v":{"$error":"#N/A"}},null,"",null,{"$f":"OFFSET(Datos!$G$1,MATCH(E575,Datos!$H$2:$H$1121,0),0)","v":{"$error":"#N/A"}},null,"",null,"",null,{"$error":"#N/A"}]
[null,{"$f":"OFFSET(Datos!$B$1,MATCH(A576,Datos!$A$2:$A$34,0),0)","v":{"$error":"#N/A"}},null,"",null,{"$f":"OFFSET(Datos!$G$1,MATCH(E576,Datos!$H$2:$H$1121,0),0)","v":{"$error":"#N/A"}},null,"",null,"",null,{"$error":"#N/A"}]
[null,{"$f":"OFFSET(Datos!$B$1,MATCH(A577,Datos!$A$2:$A$34,0),0)","v":{"$error":"#N/A"}},null,"",null,{"$f":"OFFSET(Datos!$G$1,MATCH(E577,Datos!$H$2:$H$1121,0),0)","v":{"$error":"#N/A"}},null,"",null,"",null,{"$error":"#N/A"}]
[null,{"$f":"OFFSET(Datos!$B$1,MATCH(A578,Datos!$A$2:$A$34,0),0)","v":{"$error":"#N/A"}},null,"",null,{"$f":"OFFSET(Datos!$G$1,MATCH(E578,Datos!$H$2:$H$1121,0),0)","v":{"$error":"#N/A"}},null,"",null,"",null,{"$error":"#N/A"}]
[null,{"$f":"OFFSET(Datos!$B$1,MATCH(A579,Datos!$A$2:$A$34,0),0)","v":{"$error":"#N/A"}},null,{"$f":"MID(C579,1,1)","v":""},null,{"$f":"OFFSET(Datos!$G$1,MATCH(E579,Datos!$H$2:$H$1121,0),0)","v":{"$error":"#N/A"}},null,{"$f":"MID(G579,1,2)","v":""},null,{"$f":"MID(I579,1,2)","v":""},null,{"$f":"CONCATENATE(B579,D579,F579,H579,J579,K579)","v":{"$error":"#N/A"}}]
[null,{"$f":"OFFSET(Datos!$B$1,MATCH(A580,Datos!$A$2:$A$34,0),0)","v":{"$error":"#N/A"}},null,"",null,{"$f":"OFFSET(Datos!$G$1,MATCH(E580,Datos!$H$2:$H$1121,0),0)","v":{"$error":"#N/A"}},null,"",null,"",null,{"$error":"#N/A"}]
[null,{"$f":"OFFSET(Datos!$B$1,MATCH(A581,Datos!$A$2:$A$34,0),0)","v":{"$error":"#N/A"}},null,"",null,{"$f":"OFFSET(Datos!$G$1,MATCH(E581,Datos!$H$2:$H$1121,0),0)","v":{"$error":"#N/A"}},null,"",null,"",null,{"$error":"#N/A"}]
[null,{"$f":"OFFSET(Datos!$B$1,MATCH(A582,Datos!$A$2:$A$34,0),0)","v":{"$error":"#N/A"}},null,"",null,{"$f":"OFFSET(Datos!$G$1,MATCH(E582,Datos!$H$2:$H$1121,0),0)","v":{"$error":"#N/A"}},null,"",null,"",null,{"$error":"#N/A"}]
[null,{"$f":"OFFSET(Datos!$B$1,MATCH(A583,Datos!$A$2:$A$34,0),0)","v":{"$error":"#N/A"}},null,"",null,{"$f":"OFFSET(Datos!$G$1,MATCH(E583,Datos!$H$2:$H$1121,0),0)","v":{"$error":"#N/A"}},null,"",null,"",null,{"$error":"#N/A"}]
[null,{"$f":"OFFSET(Datos!$B$1,MATCH(A584,Datos!$A$2:$A$34,0),0)","v":{"$error":"#N/A"}},null,"",null,{"$f":"OFFSET(Datos!$G$1,MATCH(E584,Datos!$H$2:$H$1121,0),0)","v":{"$error":"#N/A"}},null,"",null,"",null,{"$error":"#N/A"}]
[null,{"$f":"OFFSET(Datos!$B$1,MATCH(A585,Datos!$A$2:$A$34,0),0)","v":{"$error":"#N/A"}},null,"",null,{"$f":"OFFSET(Datos!$G$1,MATCH(E585,Datos!$H$2:$H$1121,0),0)","v":{"$error":"#N/A"}},null,"",null,"",null,{"$error":"#N/A"}]
[null,{"$f":"OFFSET(Datos!$B$1,MATCH(A586,Datos!$A$2:$A$34,0),0)","v":{"$error":"#N/A"}},null,"",null,{"$f":"OFFSET(Datos!$G$1,MATCH(E586,Datos!$H$2:$H$1121,0),0)","v":{"$error":"#N/A"}},null,"",null,"",null,{"$error":"#N/A"}]
[null,{"$f":"OFFSET(Datos!$B$1,MATCH(A587,Datos!$A$2:$A$34,0),0)","v":{"$error":"#N/A"}},null,"",null,{"$f":"OFFSET(Datos!$G$1,MATCH(E587,Datos!$H$2:$H$1121,0),0)","v":{"$error":"#N/A"}},null,"",null,"",null,{"$error":"#N/A"}]
[null,{"$f":"OFFSET(Datos!$B$1,MATCH(A588,Datos!$A$2:$A$34,0),0)","v":{"$error":"#N/A"}},null,"",null,{"$f":"OFFSET(Datos!$G$1,MATCH(E588,Datos!$H$2:$H$1121,0),0)","v":{"$error":"#N/A"}},null,"",null,"",null,{"$error":"#N/A"}]
[null,{"$f":"OFFSET(Datos!$B$1,MATCH(A589,Datos!$A$2:$A$34,0),0)","v":{"$error":"#N/A"}},null,"",null,{"$f":"OFFSET(Datos!$G$1,MATCH(E589,Datos!$H$2:$H$1121,0),0)","v":{"$error":"#N/A"}},null,"",null,"",null,{"$error":"#N/A"}]
[null,{"$f":"OFFSET(Datos!$B$1,MATCH(A590,Datos!$A$2:$A$34,0),0)","v":{"$error":"#N/A"}},null,"",null,{"$f":"OFFSET(Datos!$G$1,MATCH(E590,Datos!$H$2:$H$1121,0),0)","v":{"$error":"#N/A"}},null,"",null,"",null,{"$error":"#N/A"}]
[null,{"$f":"OFFSET(Datos!$B$1,MATCH(A591,Datos!$A$2:$A$34,0),0)","v":{"$error":"#N/A"}},null,"",null,{"$f":"OFFSET(Datos!$G$1,MATCH(E591,Datos!$H$2:$H$1121,0),0)","v":{"$error":"#N/A"}},null,"",null,"",null,{"$error":"#N/A"}]
[null,{"$f":"OFFSET(Datos!$B$1,MATCH(A592,Datos!$A$2:$A$34,0),0)","v":{"$error":"#N/A"}},null,"",null,{"$f":"OFFSET(Datos!$G$1,MATCH(E592,Datos!$H$2:$H$1121,0),0)","v":{"$error":"#N/A"}},null,"",null,"",null,{"$error":"#N/A"}]
[null,{"$f":"OFFSET(Datos!$B$1,MATCH(A593,Datos!$A$2:$A$34,0),0)","v":{"$error":"#N/A"}},null,"",null,{"$f":"OFFSET(Datos!$G$1,MATCH(E593,Datos!$H$2:$H$1121,0),0)","v":{"$error":"#N/A"}},null,"",null,"",null,{"$error":"#N/A"}]
[null,{"$f":"OFFSET(Datos!$B$1,MATCH(A594,Datos!$A$2:$A$34,0),0)","v":{"$error":"#N/A"}},null,"",null,{"$f":"OFFSET(Datos!$G$1,MATCH(E594,Datos!$H$2:$H$1121,0),0)","v":{"$error":"#N/A"}},null,"",null,"",null,{"$error":"#N/A"}]
[null,{"$f":"OFFSET(Datos!$B$1,MATCH(A595,Datos!$A$2:$A$34,0),0)","v":{"$error":"#N/A"}},null,"",null,{"$f":"OFFSET(Datos!$G$1,MATCH(E595,Datos!$H$2:$H$1121,0),0)","v":{"$error":"#N/A"}},null,"",null,"",null,{"$error":"#N/A"}]
[null,{"$f":"OFFSET(Datos!$B$1,MATCH(A596,Datos!$A$2:$A$34,0),0)","v":{"$error":"#N/A"}},null,"",null,{"$f":"OFFSET(Datos!$G$1,MATCH(E596,Datos!$H$2:$H$1121,0),0)","v":{"$error":"#N/A"}},null,"",null,"",null,{"$error":"#N/A"}]
[null,{"$f":"OFFSET(Datos!$B$1,MATCH(A597,Datos!$A$2:$A$34,0),0)","v":{"$error":"#N/A"}},null,"",null,{"$f":"OFFSET(Datos!$G$1,MATCH(E597,Datos!$H$2:$H$1121,0),0)","v":{"$error":"#N/A"}},null,"",null,"",null,{"$error":"#N/A"}]
[null,{"$f":"OFFSET(Datos!$B$1,MATCH(A598,Datos!$A$2:$A$34,0),0)","v":{"$error":"#N/A"}},null,"",null,{"$f":"OFFSET(Datos!$G$1,MATCH(E598,Datos!$H$2:$H$1121,0),0)","v":{"$error":"#N/A"}},null,"",null,"",null,{"$error":"#N/A"}]
[null,{"$f":"OFFSET(Datos!$B$1,MATCH(A599,Datos!$A$2:$A$34,0),0)","v":{"$error":"#N/A"}},null,"",null,{"$f":"OFFSET(Datos!$G$1,MATCH(E599,Datos!$H$2:$H$1121,0),0)","v":{"$error":"#N/A"}},null,"",null,"",null,{"$error":"#N/A"}]
[null,{"$f":"OFFSET(Datos!$B$1,MATCH(A600,Datos!$A$2:$A$34,0),0)","v":{"$error":"#N/A"}},null,"",null,{"$f":"OFFSET(Datos!$G$1,MATCH(E600,Datos!$H$2:$H$1121,0),0)","v":{"$error":"#N/A"}},null,"",null,"",null,{"$error":"#N/A"}]
[null,{"$f":"OFFSET(Datos!$B$1,MATCH(A601,Datos!$A$2:$A$34,0),0)","v":{"$error":"#N/A"}},null,"",null,{"$f":"OFFSET(Datos!$G$1,MATCH(E601,Datos!$H$2:$H$1121,0),0)","v":{"$error":"#N/A"}},null,"",null,"",null,{"$error":"#N/A"}]
[null,{"$f":"OFFSET(Datos!$B$1,MATCH(A602,Datos!$A$2:$A$34,0),0)","v":{"$error":"#N/A"}},null,"",null,{"$f":"OFFSET(Datos!$G$1,MATCH(E602,Datos!$H$2:$H$1121,0),0)","v":{"$error":"#N/A"}},null,"",null,"",null,{"$error":"#N/A"}]
[null,{"$f":"OFFSET(Datos!$B$1,MATCH(A603,Datos!$A$2:$A$34,0),0)","v":{"$error":"#N/A"}},null,"",null,{"$f":"OFFSET(Datos!$G$1,MATCH(E603,Datos!$H$2:$H$1121,0),0)","v":{"$error":"#N/A"}},null,"",null,"",null,{"$error":"#N/A"}]
[null,{"$f":"OFFSET(Datos!$B$1,MATCH(A604,Datos!$A$2:$A$34,0),0)","v":{"$error":"#N/A"}},null,"",null,{"$f":"OFFSET(Datos!$G$1,MATCH(E604,Datos!$H$2:$H$1121,0),0)","v":{"$error":"#N/A"}},null,"",null,"",null,{"$error":"#N/A"}]
[null,{"$f":"OFFSET(Datos!$B$1,MATCH(A605,Datos!$A$2:$A$34,0),0)","v":{"$error":"#N/A"}},null,"",null,{"$f":"OFFSET(Datos!$G$1,MATCH(E605,Datos!$H$2:$H$1121,0),0)","v":{"$error":"#N/A"}},null,"",null,"",null,{"$error":"#N/A"}]
[null,{"$f":"OFFSET(Datos!$B$1,MATCH(A606,Datos!$A$2:$A$34,0),0)","v":{"$error":"#N/A"}},null,"",null,{"$f":"OFFSET(Datos!$G$1,MATCH(E606,Datos!$H$2:$H$1121,0),0)","v":{"$error":"#N/A"}},null,"",null,"",null,{"$error":"#N/A"}]
[null,{"$f":"OFFSET(Datos!$B$1,MATCH(A607,Datos!$A$2:$A$34,0),0)","v":{"$error":"#N/A"}},null,"",null,{"$f":"OFFSET(Datos!$G$1,MATCH(E607,Datos!$H$2:$H$1121,0),0)","v":{"$error":"#N/A"}},null,"",null,"",null,{"$error":"#N/A"}]
[null,{"$f":"OFFSET(Datos!$B$1,MATCH(A608,Datos!$A$2:$A$34,0),0)","v":{"$error":"#N/A"}},null,"",null,{"$f":"OFFSET(Datos!$G$1,MATCH(E608,Datos!$H$2:$H$1121,0),0)","v":{"$error":"#N/A"}},null,"",null,"",null,{"$error":"#N/A"}]
[null,{"$f":"OFFSET(Datos!$B$1,MATCH(A609,Datos!$A$2:$A$34,0),0)","v":{"$error":"#N/A"}},null,"",null,{"$f":"OFFSET(Datos!$G$1,MATCH(E609,Datos!$H$2:$H$1121,0),0)","v":{"$error":"#N/A"}},null,"",null,"",null,{"$error":"#N/A"}]
[null,{"$f":"OFFSET(Datos!$B$1,MATCH(A610,Datos!$A$2:$A$34,0),0)","v":{"$error":"#N/A"}},null,"",null,{"$f":"OFFSET(Datos!$G$1,MATCH(E610,Datos!$H$2:$H$1121,0),0)","v":{"$error":"#N/A"}},null,"",null,"",null,{"$error":"#N/A"}]
[null,{"$f":"OFFSET(Datos!$B$1,MATCH(A611,Datos!$A$2:$A$34,0),0)","v":{"$error":"#N/A"}},null,"",null,{"$f":"OFFSET(Datos!$G$1,MATCH(E611,Datos!$H$2:$H$1121,0),0)","v":{"$error":"#N/A"}},null,"",null,"",null,{"$error":"#N/A"}]
[null,{"$f":"OFFSET(Datos!$B$1,MATCH(A612,Datos!$A$2:$A$34,0),0)","v":{"$error":"#N/A"}},null,"",null,{"$f":"OFFSET(Datos!$G$1,MATCH(E612,Datos!$H$2:$H$1121,0),0)","v":{"$error":"#N/A"}},null,"",null,"",null,{"$error":"#N/A"}]
[null,{"$f":"OFFSET(Datos!$B$1,MATCH(A613,Datos!$A$2:$A$34,0),0)","v":{"$error":"#N/A"}},null,"",null,{"$f":"OFFSET(Datos!$G$1,MATCH(E613,Datos!$H$2:$H$1121,0),0)","v":{"$error":"#N/A"}},null,"",null,"",null,{"$error":"#N/A"}]
[null,{"$f":"OFFSET(Datos!$B$1,MATCH(A614,Datos!$A$2:$A$34,0),0)","v":{"$error":"#N/A"}},null,"",null,{"$f":"OFFSET(Datos!$G$1,MATCH(E614,Datos!$H$2:$H$1121,0),0)","v":{"$error":"#N/A"}},null,"",null,"",null,{"$error":"#N/A"}]
[null,{"$f":"OFFSET(Datos!$B$1,MATCH(A615,Datos!$A$2:$A$34,0),0)","v":{"$error":"#N/A"}},null,"",null,{"$f":"OFFSET(Datos!$G$1,MATCH(E615,Datos!$H$2:$H$1121,0),0)","v":{"$error":"#N/A"}},null,"",null,"",null,{"$error":"#N/A"}]
[null,{"$f":"OFFSET(Datos!$B$1,MATCH(A616,Datos!$A$2:$A$34,0),0)","v":{"$error":"#N/A"}},null,"",null,{"$f":"OFFSET(Datos!$G$1,MATCH(E616,Datos!$H$2:$H$1121,0),0)","v":{"$error":"#N/A"}},null,"",null,"",null,{"$error":"#N/A"}]
[null,{"$f":"OFFSET(Datos!$B$1,MATCH(A617,Datos!$A$2:$A$34,0),0)","v":{"$error":"#N/A"}},null,"",null,{"$f":"OFFSET(Datos!$G$1,MATCH(E617,Datos!$H$2:$H$1121,0),0)","v":{"$error":"#N/A"}},null,"",null,"",null,{"$error":"#N/A"}]
[null,{"$f":"OFFSET(Datos!$B$1,MATCH(A618,Datos!$A$2:$A$34,0),0)","v":{"$error":"#N/A"}},null,"",null,{"$f":"OFFSET(Datos!$G$1,MATCH(E618,Datos!$H$2:$H$1121,0),0)","v":{"$error":"#N/A"}},null,"",null,"",null,{"$error":"#N/A"}]
[null,{"$f":"OFFSET(Datos!$B$1,MATCH(A619,Datos!$A$2:$A$34,0),0)","v":{"$error":"#N/A"}},null,"",null,{"$f":"OFFSET(Datos!$G$1,MATCH(E619,Datos!$H$2:$H$1121,0),0)","v":{"$error":"#N/A"}},null,"",null,"",null,{"$error":"#N/A"}]
[null,{"$f":"OFFSET(Datos!$B$1,MATCH(A620,Datos!$A$2:$A$34,0),0)","v":{"$error":"#N/A"}},null,"",null,{"$f":"OFFSET(Datos!$G$1,MATCH(E620,Datos!$H$2:$H$1121,0),0)","v":{"$error":"#N/A"}},null,"",null,"",null,{"$error":"#N/A"}]
[null,{"$f":"OFFSET(Datos!$B$1,MATCH(A621,Datos!$A$2:$A$34,0),0)","v":{"$error":"#N/A"}},null,"",null,{"$f":"OFFSET(Datos!$G$1,MATCH(E621,Datos!$H$2:$H$1121,0),0)","v":{"$error":"#N/A"}},null,"",null,"",null,{"$error":"#N/A"}]
[null,{"$f":"OFFSET(Datos!$B$1,MATCH(A622,Datos!$A$2:$A$34,0),0)","v":{"$error":"#N/A"}},null,"",null,{"$f":"OFFSET(Datos!$G$1,MATCH(E622,Datos!$H$2:$H$1121,0),0)","v":{"$error":"#N/A"}},null,"",null,"",null,{"$error":"#N/A"}]
[null,{"$f":"OFFSET(Datos!$B$1,MATCH(A623,Datos!$A$2:$A$34,0),0)","v":{"$error":"#N/A"}},null,"",null,{"$f":"OFFSET(Datos!$G$1,MATCH(E623,Datos!$H$2:$H$1121,0),0)","v":{"$error":"#N/A"}},null,"",null,"",null,{"$error":"#N/A"}]
[null,{"$f":"OFFSET(Datos!$B$1,MATCH(A624,Datos!$A$2:$A$34,0),0)","v":{"$error":"#N/A"}},null,"",null,{"$f":"OFFSET(Datos!$G$1,MATCH(E624,Datos!$H$2:$H$1121,0),0)","v":{"$error":"#N/A"}},null,"",null,"",null,{"$error":"#N/A"}]
[null,{"$f":"OFFSET(Datos!$B$1,MATCH(A625,Datos!$A$2:$A$34,0),0)","v":{"$error":"#N/A"}},null,"",null,{"$f":"OFFSET(Datos!$G$1,MATCH(E625,Datos!$H$2:$H$1121,0),0)","v":{"$error":"#N/A"}},null,"",null,"",null,{"$error":"#N/A"}]
[null,{"$f":"OFFSET(Datos!$B$1,MATCH(A626,Datos!$A$2:$A$34,0),0)","v":{"$error":"#N/A"}},null,"",null,{"$f":"OFFSET(Datos!$G$1,MATCH(E626,Datos!$H$2:$H$1121,0),0)","v":{"$error":"#N/A"}},null,"",null,"",null,{"$error":"#N/A"}]
[null,{"$f":"OFFSET(Datos!$B$1,MATCH(A627,Datos!$A$2:$A$34,0),0)","v":{"$error":"#N/A"}},null,"",null,{"$f":"OFFSET(Datos!$G$1,MATCH(E627,Datos!$H$2:$H$1121,0),0)","v":{"$error":"#N/A"}},null,"",null,"",null,{"$error":"#N/A"}]
[null,{"$f":"OFFSET(Datos!$B$1,MATCH(A628,Datos!$A$2:$A$34,0),0)","v":{"$error":"#N/A"}},null,"",null,{"$f":"OFFSET(Datos!$G$1,MATCH(E628,Datos!$H$2:$H$1121,0),0)","v":{"$error":"#N/A"}},null,"",null,"",null,{"$error":"#N/A"}]
[null,{"$f":"OFFSET(Datos!$B$1,MATCH(A629,Datos!$A$2:$A$34,0),0)","v":{"$error":"#N/A"}},null,"",null,{"$f":"OFFSET(Datos!$G$1,MATCH(E629,Datos!$H$2:$H$1121,0),0)","v":{"$error":"#N/A"}},null,"",null,"",null,{"$error":"#N/A"}]
[null,{"$f":"OFFSET(Datos!$B$1,MATCH(A630,Datos!$A$2:$A$34,0),0)","v":{"$error":"#N/A"}},null,"",null,{"$f":"OFFSET(Datos!$G$1,MATCH(E630,Datos!$H$2:$H$1121,0),0)","v":{"$error":"#N/A"}},null,"",null,"",null,{"$error":"#N/A"}]
[null,{"$f":"OFFSET(Datos!$B$1,MATCH(A631,Datos!$A$2:$A$34,0),0)","v":{"$error":"#N/A"}},null,"",null,{"$f":"OFFSET(Datos!$G$1,MATCH(E631,Datos!$H$2:$H$1121,0),0)","v":{"$error":"#N/A"}},null,"",null,"",null,{"$error":"#N/A"}]
[null,{"$f":"OFFSET(Datos!$B$1,MATCH(A632,Datos!$A$2:$A$34,0),0)","v":{"$error":"#N/A"}},null,"",null,{"$f":"OFFSET(Datos!$G$1,MATCH(E632,Datos!$H$2:$H$1121,0),0)","v":{"$error":"#N/A"}},null,"",null,"",null,{"$error":"#N/A"}]
[null,{"$f":"OFFSET(Datos!$B$1,MATCH(A633,Datos!$A$2:$A$34,0),0)","v":{"$error":"#N/A"}},null,"",null,{"$f":"OFFSET(Datos!$G$1,MATCH(E633,Datos!$H$2:$H$1121,0),0)","v":{"$error":"#N/A"}},null,"",null,"",null,{"$error":"#N/A"}]
[null,{"$f":"OFFSET(Datos!$B$1,MATCH(A634,Datos!$A$2:$A$34,0),0)","v":{"$error":"#N/A"}},null,"",null,{"$f":"OFFSET(Datos!$G$1,MATCH(E634,Datos!$H$2:$H$1121,0),0)","v":{"$error":"#N/A"}},null,"",null,"",null,{"$error":"#N/A"}]
[null,{"$f":"OFFSET(Datos!$B$1,MATCH(A635,Datos!$A$2:$A$34,0),0)","v":{"$error":"#N/A"}},null,"",null,{"$f":"OFFSET(Datos!$G$1,MATCH(E635,Datos!$H$2:$H$1121,0),0)","v":{"$error":"#N/A"}},null,"",null,"",null,{"$error":"#N/A"}]
[null,{"$f":"OFFSET(Datos!$B$1,MATCH(A636,Datos!$A$2:$A$34,0),0)","v":{"$error":"#N/A"}},null,"",null,{"$f":"OFFSET(Datos!$G$1,MATCH(E636,Datos!$H$2:$H$1121,0),0)","v":{"$error":"#N/A"}},null,"",null,"",null,{"$error":"#N/A"}]
[null,{"$f":"OFFSET(Datos!$B$1,MATCH(A637,Datos!$A$2:$A$34,0),0)","v":{"$error":"#N/A"}},null,"",null,{"$f":"OFFSET(Datos!$G$1,MATCH(E637,Datos!$H$2:$H$1121,0),0)","v":{"$error":"#N/A"}},null,"",null,"",null,{"$error":"#N/A"}]
[null,{"$f":"OFFSET(Datos!$B$1,MATCH(A638,Datos!$A$2:$A$34,0),0)","v":{"$error":"#N/A"}},null,"",null,{"$f":"OFFSET(Datos!$G$1,MATCH(E638,Datos!$H$2:$H$1121,0),0)","v":{"$error":"#N/A"}},null,"",null,"",null,{"$error":"#N/A"}]
[null,{"$f":"OFFSET(Datos!$B$1,MATCH(A639,Datos!$A$2:$A$34,0),0)","v":{"$error":"#N/A"}},null,"",null,{"$f":"OFFSET(Datos!$G$1,MATCH(E639,Datos!$H$2:$H$1121,0),0)","v":{"$error":"#N/A"}},null,"",null,"",null,{"$error":"#N/A"}]
[null,{"$f":"OFFSET(Datos!$B$1,MATCH(A640,Datos!$A$2:$A$34,0),0)","v":{"$error":"#N/A"}},null,"",null,{"$f":"OFFSET(Datos!$G$1,MATCH(E640,Datos!$H$2:$H$1121,0),0)","v":{"$error":"#N/A"}},null,"",null,"",null,{"$error":"#N/A"}]
[null,{"$f":"OFFSET(Datos!$B$1,MATCH(A641,Datos!$A$2:$A$34,0),0)","v":{"$error":"#N/A"}},null,"",null,{"$f":"OFFSET(Datos!$G$1,MATCH(E641,Datos!$H$2:$H$1121,0),0)","v":{"$error":"#N/A"}},null,"",null,"",null,{"$error":"#N/A"}]
[null,{"$f":"OFFSET(Datos!$B$1,MATCH(A642,Datos!$A$2:$A$34,0),0)","v":{"$error":"#N/A"}},null,"",null,{"$f":"OFFSET(Datos!$G$1,MATCH(E642,Datos!$H$2:$H$1121,0),0)","v":{"$error":"#N/A"}},null,"",null,"",null,{"$error":"#N/A"}]
[null,{"$f":"OFFSET(Datos!$B$1,MATCH(A643,Datos!$A$2:$A$34,0),0)","v":{"$error":"#N/A"}},null,{"$f":"MID(C643,1,1)","v":""},null,{"$f":"OFFSET(Datos!$G$1,MATCH(E643,Datos!$H$2:$H$1121,0),0)","v":{"$error":"#N/A"}},null,{"$f":"MID(G643,1,2)","v":""},null,{"$f":"MID(I643,1,2)","v":""},null,{"$f":"CONCATENATE(B643,D643,F643,H643,J643,K643)","v":{"$error":"#N/A"}}]
[null,{"$f":"OFFSET(Datos!$B$1,MATCH(A644,Datos!$A$2:$A$34,0),0)","v":{"$error":"#N/A"}},null,"",null,{"$f":"OFFSET(Datos!$G$1,MATCH(E644,Datos!$H$2:$H$1121,0),0)","v":{"$error":"#N/A"}},null,"",null,"",null,{"$error":"#N/A"}]
[null,{"$f":"OFFSET(Datos!$B$1,MATCH(A645,Datos!$A$2:$A$34,0),0)","v":{"$error":"#N/A"}},null,"",null,{"$f":"OFFSET(Datos!$G$1,MATCH(E645,Datos!$H$2:$H$1121,0),0)","v":{"$error":"#N/A"}},null,"",null,"",null,{"$error":"#N/A"}]
[null,{"$f":"OFFSET(Datos!$B$1,MATCH(A646,Datos!$A$2:$A$34,0),0)","v":{"$error":"#N/A"}},null,"",null,{"$f":"OFFSET(Datos!$G$1,MATCH(E646,Datos!$H$2:$H$1121,0),0)","v":{"$error":"#N/A"}},null,"",null,"",null,{"$error":"#N/A"}]
[null,{"$f":"OFFSET(Datos!$B$1,MATCH(A647,Datos!$A$2:$A$34,0),0)","v":{"$error":"#N/A"}},null,"",null,{"$f":"OFFSET(Datos!$G$1,MATCH(E647,Datos!$H$2:$H$1121,0),0)","v":{"$error":"#N/A"}},null,"",null,"",null,{"$error":"#N/A"}]
[null,{"$f":"OFFSET(Datos!$B$1,MATCH(A648,Datos!$A$2:$A$34,0),0)","v":{"$error":"#N/A"}},null,"",null,{"$f":"OFFSET(Datos!$G$1,MATCH(E648,Datos!$H$2:$H$1121,0),0)","v":{"$error":"#N/A"}},null,"",null,"",null,{"$error":"#N/A"}]
[null,{"$f":"OFFSET(Datos!$B$1,MATCH(A649,Datos!$A$2:$A$34,0),0)","v":{"$error":"#N/A"}},null,"",null,{"$f":"OFFSET(Datos!$G$1,MATCH(E649,Datos!$H$2:$H$1121,0),0)","v":{"$error":"#N/A"}},null,"",null,"",null,{"$error":"#N/A"}]
[null,{"$f":"OFFSET(Datos!$B$1,MATCH(A650,Datos!$A$2:$A$34,0),0)","v":{"$error":"#N/A"}},null,"",null,{"$f":"OFFSET(Datos!$G$1,MATCH(E650,Datos!$H$2:$H$1121,0),0)","v":{"$error":"#N/A"}},null,"",null,"",null,{"$error":"#N/A"}]
[null,{"$f":"OFFSET(Datos!$B$1,MATCH(A651,Datos!$A$2:$A$34,0),0)","v":{"$error":"#N/A"}},null,"",null,{"$f":"OFFSET(Datos!$G$1,MATCH(E651,Datos!$H$2:$H$1121,0),0)","v":{"$error":"#N/A"}},null,"",null,"",null,{"$error":"#N/A"}]
[null,{"$f":"OFFSET(Datos!$B$1,MATCH(A652,Datos!$A$2:$A$34,0),0)","v":{"$error":"#N/A"}},null,"",null,{"$f":"OFFSET(Datos!$G$1,MATCH(E652,Datos!$H$2:$H$1121,0),0)","v":{"$error":"#N/A"}},null,"",null,"",null,{"$error":"#N/A"}]
[null,{"$f":"OFFSET(Datos!$B$1,MATCH(A653,Datos!$A$2:$A$34,0),0)","v":{"$error":"#N/A"}},null,"",null,{"$f":"OFFSET(Datos!$G$1,MATCH(E653,Datos!$H$2:$H$1121,0),0)","v":{"$error":"#N/A"}},null,"",null,"",null,{"$error":"#N/A"}]
[null,{"$f":"OFFSET(Datos!$B$1,MATCH(A654,Datos!$A$2:$A$34,0),0)","v":{"$error":"#N/A"}},null,"",null,{"$f":"OFFSET(Datos!$G$1,MATCH(E654,Datos!$H$2:$H$1121,0),0)","v":{"$error":"#N/A"}},null,"",null,"",null,{"$error":"#N/A"}]
[null,{"$f":"OFFSET(Datos!$B$1,MATCH(A655,Datos!$A$2:$A$34,0),0)","v":{"$error":"#N/A"}},null,"",null,{"$f":"OFFSET(Datos!$G$1,MATCH(E655,Datos!$H$2:$H$1121,0),0)","v":{"$error":"#N/A"}},null,"",null,"",null,{"$error":"#N/A"}]
[null,{"$f":"OFFSET(Datos!$B$1,MATCH(A656,Datos!$A$2:$A$34,0),0)","v":{"$error":"#N/A"}},null,"",null,{"$f":"OFFSET(Datos!$G$1,MATCH(E656,Datos!$H$2:$H$1121,0),0)","v":{"$error":"#N/A"}},null,"",null,"",null,{"$error":"#N/A"}]
[null,{"$f":"OFFSET(Datos!$B$1,MATCH(A657,Datos!$A$2:$A$34,0),0)","v":{"$error":"#N/A"}},null,"",null,{"$f":"OFFSET(Datos!$G$1,MATCH(E657,Datos!$H$2:$H$1121,0),0)","v":{"$error":"#N/A"}},null,"",null,"",null,{"$error":"#N/A"}]
[null,{"$f":"OFFSET(Datos!$B$1,MATCH(A658,Datos!$A$2:$A$34,0),0)","v":{"$error":"#N/A"}},null,"",null,{"$f":"OFFSET(Datos!$G$1,MATCH(E658,Datos!$H$2:$H$1121,0),0)","v":{"$error":"#N/A"}},null,"",null,"",null,{"$error":"#N/A"}]
[null,{"$f":"OFFSET(Datos!$B$1,MATCH(A659,Datos!$A$2:$A$34,0),0)","v":{"$error":"#N/A"}},null,"",null,{"$f":"OFFSET(Datos!$G$1,MATCH(E659,Datos!$H$2:$H$1121,0),0)","v":{"$error":"#N/A"}},null,"",null,"",null,{"$error":"#N/A"}]
[null,{"$f":"OFFSET(Datos!$B$1,MATCH(A660,Datos!$A$2:$A$34,0),0)","v":{"$error":"#N/A"}},null,"",null,{"$f":"OFFSET(Datos!$G$1,MATCH(E660,Datos!$H$2:$H$1121,0),0)","v":{"$error":"#N/A"}},null,"",null,"",null,{"$error":"#N/A"}]
[null,{"$f":"OFFSET(Datos!$B$1,MATCH(A661,Datos!$A$2:$A$34,0),0)","v":{"$error":"#N/A"}},null,"",null,{"$f":"OFFSET(Datos!$G$1,MATCH(E661,Datos!$H$2:$H$1121,0),0)","v":{"$error":"#N/A"}},null,"",null,"",null,{"$error":"#N/A"}]
[null,{"$f":"OFFSET(Datos!$B$1,MATCH(A662,Datos!$A$2:$A$34,0),0)","v":{"$error":"#N/A"}},null,"",null,{"$f":"OFFSET(Datos!$G$1,MATCH(E662,Datos!$H$2:$H$1121,0),0)","v":{"$error":"#N/A"}},null,"",null,"",null,{"$error":"#N/A"}]
[null,{"$f":"OFFSET(Datos!$B$1,MATCH(A663,Datos!$A$2:$A$34,0),0)","v":{"$error":"#N/A"}},null,"",null,{"$f":"OFFSET(Datos!$G$1,MATCH(E663,Datos!$H$2:$H$1121,0),0)","v":{"$error":"#N/A"}},null,"",null,"",null,{"$error":"#N/A"}]
[null,{"$f":"OFFSET(Datos!$B$1,MATCH(A664,Datos!$A$2:$A$34,0),0)","v":{"$error":"#N/A"}},null,"",null,{"$f":"OFFSET(Datos!$G$1,MATCH(E664,Datos!$H$2:$H$1121,0),0)","v":{"$error":"#N/A"}},null,"",null,"",null,{"$error":"#N/A"}]
[null,{"$f":"OFFSET(Datos!$B$1,MATCH(A665,Datos!$A$2:$A$34,0),0)","v":{"$error":"#N/A"}},null,"",null,{"$f":"OFFSET(Datos!$G$1,MATCH(E665,Datos!$H$2:$H$1121,0),0)","v":{"$error":"#N/A"}},null,"",null,"",null,{"$error":"#N/A"}]
[null,{"$f":"OFFSET(Datos!$B$1,MATCH(A666,Datos!$A$2:$A$34,0),0)","v":{"$error":"#N/A"}},null,"",null,{"$f":"OFFSET(Datos!$G$1,MATCH(E666,Datos!$H$2:$H$1121,0),0)","v":{"$error":"#N/A"}},null,"",null,"",null,{"$error":"#N/A"}]
[null,{"$f":"OFFSET(Datos!$B$1,MATCH(A667,Datos!$A$2:$A$34,0),0)","v":{"$error":"#N/A"}},null,"",null,{"$f":"OFFSET(Datos!$G$1,MATCH(E667,Datos!$H$2:$H$1121,0),0)","v":{"$error":"#N/A"}},null,"",null,"",null,{"$error":"#N/A"}]
[null,{"$f":"OFFSET(Datos!$B$1,MATCH(A668,Datos!$A$2:$A$34,0),0)","v":{"$error":"#N/A"}},null,"",null,{"$f":"OFFSET(Datos!$G$1,MATCH(E668,Datos!$H$2:$H$1121,0),0)","v":{"$error":"#N/A"}},null,"",null,"",null,{"$error":"#N/A"}]
[null,{"$f":"OFFSET(Datos!$B$1,MATCH(A669,Datos!$A$2:$A$34,0),0)","v":{"$error":"#N/A"}},null,"",null,{"$f":"OFFSET(Datos!$G$1,MATCH(E669,Datos!$H$2:$H$1121,0),0)","v":{"$error":"#N/A"}},null,"",null,"",null,{"$error":"#N/A"}]
[null,{"$f":"OFFSET(Datos!$B$1,MATCH(A670,Datos!$A$2:$A$34,0),0)","v":{"$error":"#N/A"}},null,"",null,{"$f":"OFFSET(Datos!$G$1,MATCH(E670,Datos!$H$2:$H$1121,0),0)","v":{"$error":"#N/A"}},null,"",null,"",null,{"$error":"#N/A"}]
[null,{"$f":"OFFSET(Datos!$B$1,MATCH(A671,Datos!$A$2:$A$34,0),0)","v":{"$error":"#N/A"}},null,"",null,{"$f":"OFFSET(Datos!$G$1,MATCH(E671,Datos!$H$2:$H$1121,0),0)","v":{"$error":"#N/A"}},null,"",null,"",null,{"$error":"#N/A"}]
[null,{"$f":"OFFSET(Datos!$B$1,MATCH(A672,Datos!$A$2:$A$34,0),0)","v":{"$error":"#N/A"}},null,"",null,{"$f":"OFFSET(Datos!$G$1,MATCH(E672,Datos!$H$2:$H$1121,0),0)","v":{"$error":"#N/A"}},null,"",null,"",null,{"$error":"#N/A"}]
[null,{"$f":"OFFSET(Datos!$B$1,MATCH(A673,Datos!$A$2:$A$34,0),0)","v":{"$error":"#N/A"}},null,"",null,{"$f":"OFFSET(Datos!$G$1,MATCH(E673,Datos!$H$2:$H$1121,0),0)","v":{"$error":"#N/A"}},null,"",null,"",null,{"$error":"#N/A"}]
[null,{"$f":"OFFSET(Datos!$B$1,MATCH(A674,Datos!$A$2:$A$34,0),0)","v":{"$error":"#N/A"}},null,"",null,{"$f":"OFFSET(Datos!$G$1,MATCH(E674,Datos!$H$2:$H$1121,0),0)","v":{"$error":"#N/A"}},null,"",null,"",null,{"$error":"#N/A"}]
[null,{"$f":"OFFSET(Datos!$B$1,MATCH(A675,Datos!$A$2:$A$34,0),0)","v":{"$error":"#N/A"}},null,"",null,{"$f":"OFFSET(Datos!$G$1,MATCH(E675,Datos!$H$2:$H$1121,0),0)","v":{"$error":"#N/A"}},null,"",null,"",null,{"$error":"#N/A"}]
[null,{"$f":"OFFSET(Datos!$B$1,MATCH(A676,Datos!$A$2:$A$34,0),0)","v":{"$error":"#N/A"}},null,"",null,{"$f":"OFFSET(Datos!$G$1,MATCH(E676,Datos!$H$2:$H$1121,0),0)","v":{"$error":"#N/A"}},null,"",null,"",null,{"$error":"#N/A"}]
[null,{"$f":"OFFSET(Datos!$B$1,MATCH(A677,Datos!$A$2:$A$34,0),0)","v":{"$error":"#N/A"}},null,"",null,{"$f":"OFFSET(Datos!$G$1,MATCH(E677,Datos!$H$2:$H$1121,0),0)","v":{"$error":"#N/A"}},null,"",null,"",null,{"$error":"#N/A"}]
[null,{"$f":"OFFSET(Datos!$B$1,MATCH(A678,Datos!$A$2:$A$34,0),0)","v":{"$error":"#N/A"}},null,"",null,{"$f":"OFFSET(Datos!$G$1,MATCH(E678,Datos!$H$2:$H$1121,0),0)","v":{"$error":"#N/A"}},null,"",null,"",null,{"$error":"#N/A"}]
[null,{"$f":"OFFSET(Datos!$B$1,MATCH(A679,Datos!$A$2:$A$34,0),0)","v":{"$error":"#N/A"}},null,"",null,{"$f":"OFFSET(Datos!$G$1,MATCH(E679,Datos!$H$2:$H$1121,0),0)","v":{"$error":"#N/A"}},null,"",null,"",null,{"$error":"#N/A"}]
[null,{"$f":"OFFSET(Datos!$B$1,MATCH(A680,Datos!$A$2:$A$34,0),0)","v":{"$error":"#N/A"}},null,"",null,{"$f":"OFFSET(Datos!$G$1,MATCH(E680,Datos!$H$2:$H$1121,0),0)","v":{"$error":"#N/A"}},null,"",null,"",null,{"$error":"#N/A"}]
[null,{"$f":"OFFSET(Datos!$B$1,MATCH(A681,Datos!$A$2:$A$34,0),0)","v":{"$error":"#N/A"}},null,"",null,{"$f":"OFFSET(Datos!$G$1,MATCH(E681,Datos!$H$2:$H$1121,0),0)","v":{"$error":"#N/A"}},null,"",null,"",null,{"$error":"#N/A"}]
[null,{"$f":"OFFSET(Datos!$B$1,MATCH(A682,Datos!$A$2:$A$34,0),0)","v":{"$error":"#N/A"}},null,"",null,{"$f":"OFFSET(Datos!$G$1,MATCH(E682,Datos!$H$2:$H$1121,0),0)","v":{"$error":"#N/A"}},null,"",null,"",null,{"$error":"#N/A"}]
[null,{"$f":"OFFSET(Datos!$B$1,MATCH(A683,Datos!$A$2:$A$34,0),0)","v":{"$error":"#N/A"}},null,"",null,{"$f":"OFFSET(Datos!$G$1,MATCH(E683,Datos!$H$2:$H$1121,0),0)","v":{"$error":"#N/A"}},null,"",null,"",null,{"$error":"#N/A"}]
[null,{"$f":"OFFSET(Datos!$B$1,MATCH(A684,Datos!$A$2:$A$34,0),0)","v":{"$error":"#N/A"}},null,"",null,{"$f":"OFFSET(Datos!$G$1,MATCH(E684,Datos!$H$2:$H$1121,0),0)","v":{"$error":"#N/A"}},null,"",null,"",null,{"$error":"#N/A"}]
[null,{"$f":"OFFSET(Datos!$B$1,MATCH(A685,Datos!$A$2:$A$34,0),0)","v":{"$error":"#N/A"}},null,"",null,{"$f":"OFFSET(Datos!$G$1,MATCH(E685,Datos!$H$2:$H$1121,0),0)","v":{"$error":"#N/A"}},null,"",null,"",null,{"$error":"#N/A"}]
[null,{"$f":"OFFSET(Datos!$B$1,MATCH(A686,Datos!$A$2:$A$34,0),0)","v":{"$error":"#N/A"}},null,"",null,{"$f":"OFFSET(Datos!$G$1,MATCH(E686,Datos!$H$2:$H$1121,0),0)","v":{"$error":"#N/A"}},null,"",null,"",null,{"$error":"#N/A"}]
[null,{"$f":"OFFSET(Datos!$B$1,MATCH(A687,Datos!$A$2:$A$34,0),0)","v":{"$error":"#N/A"}},null,"",null,{"$f":"OFFSET(Datos!$G$1,MATCH(E687,Datos!$H$2:$H$1121,0),0)","v":{"$error":"#N/A"}},null,"",null,"",null,{"$error":"#N/A"}]
[null,{"$f":"OFFSET(Datos!$B$1,MATCH(A688,Datos!$A$2:$A$34,0),0)","v":{"$error":"#N/A"}},null,"",null,{"$f":"OFFSET(Datos!$G$1,MATCH(E688,Datos!$H$2:$H$1121,0),0)","v":{"$error":"#N/A"}},null,"",null,"",null,{"$error":"#N/A"}]
[null,{"$f":"OFFSET(Datos!$B$1,MATCH(A689,Datos!$A$2:$A$34,0),0)","v":{"$error":"#N/A"}},null,"",null,{"$f":"OFFSET(Datos!$G$1,MATCH(E689,Datos!$H$2:$H$1121,0),0)","v":{"$error":"#N/A"}},null,"",null,"",null,{"$error":"#N/A"}]
[null,{"$f":"OFFSET(Datos!$B$1,MATCH(A690,Datos!$A$2:$A$34,0),0)","v":{"$error":"#N/A"}},null,"",null,{"$f":"OFFSET(Datos!$G$1,MATCH(E690,Datos!$H$2:$H$1121,0),0)","v":{"$error":"#N/A"}},null,"",null,"",null,{"$error":"#N/A"}]
[null,{"$f":"OFFSET(Datos!$B$1,MATCH(A691,Datos!$A$2:$A$34,0),0)","v":{"$error":"#N/A"}},null,"",null,{"$f":"OFFSET(Datos!$G$1,MATCH(E691,Datos!$H$2:$H$1121,0),0)","v":{"$error":"#N/A"}},null,"",null,"",null,{"$error":"#N/A"}]
[null,{"$f":"OFFSET(Datos!$B$1,MATCH(A692,Datos!$A$2:$A$34,0),0)","v":{"$error":"#N/A"}},null,"",null,{"$f":"OFFSET(Datos!$G$1,MATCH(E692,Datos!$H$2:$H$1121,0),0)","v":{"$error":"#N/A"}},null,"",null,"",null,{"$error":"#N/A"}]
[null,{"$f":"OFFSET(Datos!$B$1,MATCH(A693,Datos!$A$2:$A$34,0),0)","v":{"$error":"#N/A"}},null,"",null,{"$f":"OFFSET(Datos!$G$1,MATCH(E693,Datos!$H$2:$H$1121,0),0)","v":{"$error":"#N/A"}},null,"",null,"",null,{"$error":"#N/A"}]
[null,{"$f":"OFFSET(Datos!$B$1,MATCH(A694,Datos!$A$2:$A$34,0),0)","v":{"$error":"#N/A"}},null,"",null,{"$f":"OFFSET(Datos!$G$1,MATCH(E694,Datos!$H$2:$H$1121,0),0)","v":{"$error":"#N/A"}},null,"",null,"",null,{"$error":"#N/A"}]
[null,{"$f":"OFFSET(Datos!$B$1,MATCH(A695,Datos!$A$2:$A$34,0),0)","v":{"$error":"#N/A"}},null,"",null,{"$f":"OFFSET(Datos!$G$1,MATCH(E695,Datos!$H$2:$H$1121,0),0)","v":{"$error":"#N/A"}},null,"",null,"",null,{"$error":"#N/A"}]
[null,{"$f":"OFFSET(Datos!$B$1,MATCH(A696,Datos!$A$2:$A$34,0),0)","v":{"$error":"#N/A"}},null,"",null,{"$f":"OFFSET(Datos!$G$1,MATCH(E696,Datos!$H$2:$H$1121,0),0)","v":{"$error":"#N/A"}},null,"",null,"",null,{"$error":"#N/A"}]
[null,{"$f":"OFFSET(Datos!$B$1,MATCH(A697,Datos!$A$2:$A$34,0),0)","v":{"$error":"#N/A"}},null,"",null,{"$f":"OFFSET(Datos!$G$1,MATCH(E697,Datos!$H$2:$H$1121,0),0)","v":{"$error":"#N/A"}},null,"",null,"",null,{"$error":"#N/A"}]
[null,{"$f":"OFFSET(Datos!$B$1,MATCH(A698,Datos!$A$2:$A$34,0),0)","v":{"$error":"#N/A"}},null,"",null,{"$f":"OFFSET(Datos!$G$1,MATCH(E698,Datos!$H$2:$H$1121,0),0)","v":{"$error":"#N/A"}},null,"",null,"",null,{"$error":"#N/A"}]
[null,{"$f":"OFFSET(Datos!$B$1,MATCH(A699,Datos!$A$2:$A$34,0),0)","v":{"$error":"#N/A"}},null,"",null,{"$f":"OFFSET(Datos!$G$1,MATCH(E699,Datos!$H$2:$H$1121,0),0)","v":{"$error":"#N/A"}},null,"",null,"",null,{"$error":"#N/A"}]
[null,{"$f":"OFFSET(Datos!$B$1,MATCH(A700,Datos!$A$2:$A$34,0),0)","v":{"$error":"#N/A"}},null,"",null,{"$f":"OFFSET(Datos!$G$1,MATCH(E700,Datos!$H$2:$H$1121,0),0)","v":{"$error":"#N/A"}},null,"",null,"",null,{"$error":"#N/A"}]
[null,{"$f":"OFFSET(Datos!$B$1,MATCH(A701,Datos!$A$2:$A$34,0),0)","v":{"$error":"#N/A"}},null,"",null,{"$f":"OFFSET(Datos!$G$1,MATCH(E701,Datos!$H$2:$H$1121,0),0)","v":{"$error":"#N/A"}},null,"",null,"",null,{"$error":"#N/A"}]
[null,{"$f":"OFFSET(Datos!$B$1,MATCH(A702,Datos!$A$2:$A$34,0),0)","v":{"$error":"#N/A"}},null,"",null,{"$f":"OFFSET(Datos!$G$1,MATCH(E702,Datos!$H$2:$H$1121,0),0)","v":{"$error":"#N/A"}},null,"",null,"",null,{"$error":"#N/A"}]
[null,{"$f":"OFFSET(Datos!$B$1,MATCH(A703,Datos!$A$2:$A$34,0),0)","v":{"$error":"#N/A"}},null,"",null,{"$f":"OFFSET(Datos!$G$1,MATCH(E703,Datos!$H$2:$H$1121,0),0)","v":{"$error":"#N/A"}},null,"",null,"",null,{"$error":"#N/A"}]
[null,{"$f":"OFFSET(Datos!$B$1,MATCH(A704,Datos!$A$2:$A$34,0),0)","v":{"$error":"#N/A"}},null,"",null,{"$f":"OFFSET(Datos!$G$1,MATCH(E704,Datos!$H$2:$H$1121,0),0)","v":{"$error":"#N/A"}},null,"",null,"",null,{"$error":"#N/A"}]
[null,{"$f":"OFFSET(Datos!$B$1,MATCH(A705,Datos!$A$2:$A$34,0),0)","v":{"$error":"#N/A"}},null,"",null,{"$f":"OFFSET(Datos!$G$1,MATCH(E705,Datos!$H$2:$H$1121,0),0)","v":{"$error":"#N/A"}},null,"",null,"",null,{"$error":"#N/A"}]
[null,{"$f":"OFFSET(Datos!$B$1,MATCH(A706,Datos!$A$2:$A$34,0),0)","v":{"$error":"#N/A"}},null,"",null,{"$f":"OFFSET(Datos!$G$1,MATCH(E706,Datos!$H$2:$H$1121,0),0)","v":{"$error":"#N/A"}},null,"",null,"",null,{"$error":"#N/A"}]
[null,{"$f":"OFFSET(Datos!$B$1,MATCH(A707,Datos!$A$2:$A$34,0),0)","v":{"$error":"#N/A"}},null,{"$f":"MID(C707,1,1)","v":""},null,{"$f":"OFFSET(Datos!$G$1,MATCH(E707,Datos!$H$2:$H$1121,0),0)","v":{"$error":"#N/A"}},null,{"$f":"MID(G707,1,2)","v":""},null,{"$f":"MID(I707,1,2)","v":""},null,{"$f":"CONCATENATE(B707,D707,F707,H707,J707,K707)","v":{"$error":"#N/A"}}]
[null,{"$f":"OFFSET(Datos!$B$1,MATCH(A708,Datos!$A$2:$A$34,0),0)","v":{"$error":"#N/A"}},null,"",null,{"$f":"OFFSET(Datos!$G$1,MATCH(E708,Datos!$H$2:$H$1121,0),0)","v":{"$error":"#N/A"}},null,"",null,"",null,{"$error":"#N/A"}]
[null,{"$f":"OFFSET(Datos!$B$1,MATCH(A709,Datos!$A$2:$A$34,0),0)","v":{"$error":"#N/A"}},null,"",null,{"$f":"OFFSET(Datos!$G$1,MATCH(E709,Datos!$H$2:$H$1121,0),0)","v":{"$error":"#N/A"}},null,"",null,"",null,{"$error":"#N/A"}]
[null,{"$f":"OFFSET(Datos!$B$1,MATCH(A710,Datos!$A$2:$A$34,0),0)","v":{"$error":"#N/A"}},null,"",null,{"$f":"OFFSET(Datos!$G$1,MATCH(E710,Datos!$H$2:$H$1121,0),0)","v":{"$error":"#N/A"}},null,"",null,"",null,{"$error":"#N/A"}]
[null,{"$f":"OFFSET(Datos!$B$1,MATCH(A711,Datos!$A$2:$A$34,0),0)","v":{"$error":"#N/A"}},null,"",null,{"$f":"OFFSET(Datos!$G$1,MATCH(E711,Datos!$H$2:$H$1121,0),0)","v":{"$error":"#N/A"}},null,"",null,"",null,{"$error":"#N/A"}]
[null,{"$f":"OFFSET(Datos!$B$1,MATCH(A712,Datos!$A$2:$A$34,0),0)","v":{"$error":"#N/A"}},null,"",null,{"$f":"OFFSET(Datos!$G$1,MATCH(E712,Datos!$H$2:$H$1121,0),0)","v":{"$error":"#N/A"}},null,"",null,"",null,{"$error":"#N/A"}]
[null,{"$f":"OFFSET(Datos!$B$1,MATCH(A713,Datos!$A$2:$A$34,0),0)","v":{"$error":"#N/A"}},null,"",null,{"$f":"OFFSET(Datos!$G$1,MATCH(E713,Datos!$H$2:$H$1121,0),0)","v":{"$error":"#N/A"}},null,"",null,"",null,{"$error":"#N/A"}]
[null,{"$f":"OFFSET(Datos!$B$1,MATCH(A714,Datos!$A$2:$A$34,0),0)","v":{"$error":"#N/A"}},null,"",null,{"$f":"OFFSET(Datos!$G$1,MATCH(E714,Datos!$H$2:$H$1121,0),0)","v":{"$error":"#N/A"}},null,"",null,"",null,{"$error":"#N/A"}]
[null,{"$f":"OFFSET(Datos!$B$1,MATCH(A715,Datos!$A$2:$A$34,0),0)","v":{"$error":"#N/A"}},null,"",null,{"$f":"OFFSET(Datos!$G$1,MATCH(E715,Datos!$H$2:$H$1121,0),0)","v":{"$error":"#N/A"}},null,"",null,"",null,{"$error":"#N/A"}]
[null,{"$f":"OFFSET(Datos!$B$1,MATCH(A716,Datos!$A$2:$A$34,0),0)","v":{"$error":"#N/A"}},null,"",null,{"$f":"OFFSET(Datos!$G$1,MATCH(E716,Datos!$H$2:$H$1121,0),0)","v":{"$error":"#N/A"}},null,"",null,"",null,{"$error":"#N/A"}]
[null,{"$f":"OFFSET(Datos!$B$1,MATCH(A717,Datos!$A$2:$A$34,0),0)","v":{"$error":"#N/A"}},null,"",null,{"$f":"OFFSET(Datos!$G$1,MATCH(E717,Datos!$H$2:$H$1121,0),0)","v":{"$error":"#N/A"}},null,"",null,"",null,{"$error":"#N/A"}]
[null,{"$f":"OFFSET(Datos!$B$1,MATCH(A718,Datos!$A$2:$A$34,0),0)","v":{"$error":"#N/A"}},null,"",null,{"$f":"OFFSET(Datos!$G$1,MATCH(E718,Datos!$H$2:$H$1121,0),0)","v":{"$error":"#N/A"}},null,"",null,"",null,{"$error":"#N/A"}]
[null,{"$f":"OFFSET(Datos!$B$1,MATCH(A719,Datos!$A$2:$A$34,0),0)","v":{"$error":"#N/A"}},null,"",null,{"$f":"OFFSET(Datos!$G$1,MATCH(E719,Datos!$H$2:$H$1121,0),0)","v":{"$error":"#N/A"}},null,"",null,"",null,{"$error":"#N/A"}]
[null,{"$f":"OFFSET(Datos!$B$1,MATCH(A720,Datos!$A$2:$A$34,0),0)","v":{"$error":"#N/A"}},null,"",null,{"$f":"OFFSET(Datos!$G$1,MATCH(E720,Datos!$H$2:$H$1121,0),0)","v":{"$error":"#N/A"}},null,"",null,"",null,{"$error":"#N/A"}]
[null,{"$f":"OFFSET(Datos!$B$1,MATCH(A721,Datos!$A$2:$A$34,0),0)","v":{"$error":"#N/A"}},null,"",null,{"$f":"OFFSET(Datos!$G$1,MATCH(E721,Datos!$H$2:$H$1121,0),0)","v":{"$error":"#N/A"}},null,"",null,"",null,{"$error":"#N/A"}]
[null,{"$f":"OFFSET(Datos!$B$1,MATCH(A722,Datos!$A$2:$A$34,0),0)","v":{"$error":"#N/A"}},null,"",null,{"$f":"OFFSET(Datos!$G$1,MATCH(E722,Datos!$H$2:$H$1121,0),0)","v":{"$error":"#N/A"}},null,"",null,"",null,{"$error":"#N/A"}]
[null,{"$f":"OFFSET(Datos!$B$1,MATCH(A723,Datos!$A$2:$A$34,0),0)","v":{"$error":"#N/A"}},null,"",null,{"$f":"OFFSET(Datos!$G$1,MATCH(E723,Datos!$H$2:$H$1121,0),0)","v":{"$error":"#N/A"}},null,"",null,"",null,{"$error":"#N/A"}]
[null,{"$f":"OFFSET(Datos!$B$1,MATCH(A724,Datos!$A$2:$A$34,0),0)","v":{"$error":"#N/A"}},null,"",null,{"$f":"OFFSET(Datos!$G$1,MATCH(E724,Datos!$H$2:$H$1121,0),0)","v":{"$error":"#N/A"}},null,"",null,"",null,{"$error":"#N/A"}]
[null,{"$f":"OFFSET(Datos!$B$1,MATCH(A725,Datos!$A$2:$A$34,0),0)","v":{"$error":"#N/A"}},null,"",null,{"$f":"OFFSET(Datos!$G$1,MATCH(E725,Datos!$H$2:$H$1121,0),0)","v":{"$error":"#N/A"}},null,"",null,"",null,{"$error":"#N/A"}]
[null,{"$f":"OFFSET(Datos!$B$1,MATCH(A726,Datos!$A$2:$A$34,0),0)","v":{"$error":"#N/A"}},null,"",null,{"$f":"OFFSET(Datos!$G$1,MATCH(E726,Datos!$H$2:$H$1121,0),0)","v":{"$error":"#N/A"}},null,"",null,"",null,{"$error":"#N/A"}]
[null,{"$f":"OFFSET(Datos!$B$1,MATCH(A727,Datos!$A$2:$A$34,0),0)","v":{"$error":"#N/A"}},null,"",null,{"$f":"OFFSET(Datos!$G$1,MATCH(E727,Datos!$H$2:$H$1121,0),0)","v":{"$error":"#N/A"}},null,"",null,"",null,{"$error":"#N/A"}]
[null,{"$f":"OFFSET(Datos!$B$1,MATCH(A728,Datos!$A$2:$A$34,0),0)","v":{"$error":"#N/A"}},null,"",null,{"$f":"OFFSET(Datos!$G$1,MATCH(E728,Datos!$H$2:$H$1121,0),0)","v":{"$error":"#N/A"}},null,"",null,"",null,{"$error":"#N/A"}]
[null,{"$f":"OFFSET(Datos!$B$1,MATCH(A729,Datos!$A$2:$A$34,0),0)","v":{"$error":"#N/A"}},null,"",null,{"$f":"OFFSET(Datos!$G$1,MATCH(E729,Datos!$H$2:$H$1121,0),0)","v":{"$error":"#N/A"}},null,"",null,"",null,{"$error":"#N/A"}]
[null,{"$f":"OFFSET(Datos!$B$1,MATCH(A730,Datos!$A$2:$A$34,0),0)","v":{"$error":"#N/A"}},null,"",null,{"$f":"OFFSET(Datos!$G$1,MATCH(E730,Datos!$H$2:$H$1121,0),0)","v":{"$error":"#N/A"}},null,"",null,"",null,{"$error":"#N/A"}]
[null,{"$f":"OFFSET(Datos!$B$1,MATCH(A731,Datos!$A$2:$A$34,0),0)","v":{"$error":"#N/A"}},null,"",null,{"$f":"OFFSET(Datos!$G$1,MATCH(E731,Datos!$H$2:$H$1121,0),0)","v":{"$error":"#N/A"}},null,"",null,"",null,{"$error":"#N/A"}]
[null,{"$f":"OFFSET(Datos!$B$1,MATCH(A732,Datos!$A$2:$A$34,0),0)","v":{"$error":"#N/A"}},null,"",null,{"$f":"OFFSET(Datos!$G$1,MATCH(E732,Datos!$H$2:$H$1121,0),0)","v":{"$error":"#N/A"}},null,"",null,"",null,{"$error":"#N/A"}]
[null,{"$f":"OFFSET(Datos!$B$1,MATCH(A733,Datos!$A$2:$A$34,0),0)","v":{"$error":"#N/A"}},null,"",null,{"$f":"OFFSET(Datos!$G$1,MATCH(E733,Datos!$H$2:$H$1121,0),0)","v":{"$error":"#N/A"}},null,"",null,"",null,{"$error":"#N/A"}]
[null,{"$f":"OFFSET(Datos!$B$1,MATCH(A734,Datos!$A$2:$A$34,0),0)","v":{"$error":"#N/A"}},null,"",null,{"$f":"OFFSET(Datos!$G$1,MATCH(E734,Datos!$H$2:$H$1121,0),0)","v":{"$error":"#N/A"}},null,"",null,"",null,{"$error":"#N/A"}]
[null,{"$f":"OFFSET(Datos!$B$1,MATCH(A735,Datos!$A$2:$A$34,0),0)","v":{"$error":"#N/A"}},null,"",null,{"$f":"OFFSET(Datos!$G$1,MATCH(E735,Datos!$H$2:$H$1121,0),0)","v":{"$error":"#N/A"}},null,"",null,"",null,{"$error":"#N/A"}]
[null,{"$f":"OFFSET(Datos!$B$1,MATCH(A736,Datos!$A$2:$A$34,0),0)","v":{"$error":"#N/A"}},null,"",null,{"$f":"OFFSET(Datos!$G$1,MATCH(E736,Datos!$H$2:$H$1121,0),0)","v":{"$error":"#N/A"}},null,"",null,"",null,{"$error":"#N/A"}]
[null,{"$f":"OFFSET(Datos!$B$1,MATCH(A737,Datos!$A$2:$A$34,0),0)","v":{"$error":"#N/A"}},null,"",null,{"$f":"OFFSET(Datos!$G$1,MATCH(E737,Datos!$H$2:$H$1121,0),0)","v":{"$error":"#N/A"}},null,"",null,"",null,{"$error":"#N/A"}]
[null,{"$f":"OFFSET(Datos!$B$1,MATCH(A738,Datos!$A$2:$A$34,0),0)","v":{"$error":"#N/A"}},null,"",null,{"$f":"OFFSET(Datos!$G$1,MATCH(E738,Datos!$H$2:$H$1121,0),0)","v":{"$error":"#N/A"}},null,"",null,"",null,{"$error":"#N/A"}]
[null,{"$f":"OFFSET(Datos!$B$1,MATCH(A739,Datos!$A$2:$A$34,0),0)","v":{"$error":"#N/A"}},null,"",null,{"$f":"OFFSET(Datos!$G$1,MATCH(E739,Datos!$H$2:$H$1121,0),0)","v":{"$error":"#N/A"}},null,"",null,"",null,{"$error":"#N/A"}]
[null,{"$f":"OFFSET(Datos!$B$1,MATCH(A740,Datos!$A$2:$A$34,0),0)","v":{"$error":"#N/A"}},null,"",null,{"$f":"OFFSET(Datos!$G$1,MATCH(E740,Datos!$H$2:$H$1121,0),0)","v":{"$error":"#N/A"}},null,"",null,"",null,{"$error":"#N/A"}]
[null,{"$f":"OFFSET(Datos!$B$1,MATCH(A741,Datos!$A$2:$A$34,0),0)","v":{"$error":"#N/A"}},null,"",null,{"$f":"OFFSET(Datos!$G$1,MATCH(E741,Datos!$H$2:$H$1121,0),0)","v":{"$error":"#N/A"}},null,"",null,"",null,{"$error":"#N/A"}]
[null,{"$f":"OFFSET(Datos!$B$1,MATCH(A742,Datos!$A$2:$A$34,0),0)","v":{"$error":"#N/A"}},null,"",null,{"$f":"OFFSET(Datos!$G$1,MATCH(E742,Datos!$H$2:$H$1121,0),0)","v":{"$error":"#N/A"}},null,"",null,"",null,{"$error":"#N/A"}]
[null,{"$f":"OFFSET(Datos!$B$1,MATCH(A743,Datos!$A$2:$A$34,0),0)","v":{"$error":"#N/A"}},null,"",null,{"$f":"OFFSET(Datos!$G$1,MATCH(E743,Datos!$H$2:$H$1121,0),0)","v":{"$error":"#N/A"}},null,"",null,"",null,{"$error":"#N/A"}]
[null,{"$f":"OFFSET(Datos!$B$1,MATCH(A744,Datos!$A$2:$A$34,0),0)","v":{"$error":"#N/A"}},null,"",null,{"$f":"OFFSET(Datos!$G$1,MATCH(E744,Datos!$H$2:$H$1121,0),0)","v":{"$error":"#N/A"}},null,"",null,"",null,{"$error":"#N/A"}]
[null,{"$f":"OFFSET(Datos!$B$1,MATCH(A745,Datos!$A$2:$A$34,0),0)","v":{"$error":"#N/A"}},null,"",null,{"$f":"OFFSET(Datos!$G$1,MATCH(E745,Datos!$H$2:$H$1121,0),0)","v":{"$error":"#N/A"}},null,"",null,"",null,{"$error":"#N/A"}]
[null,{"$f":"OFFSET(Datos!$B$1,MATCH(A746,Datos!$A$2:$A$34,0),0)","v":{"$error":"#N/A"}},null,"",null,{"$f":"OFFSET(Datos!$G$1,MATCH(E746,Datos!$H$2:$H$1121,0),0)","v":{"$error":"#N/A"}},null,"",null,"",null,{"$error":"#N/A"}]
[null,{"$f":"OFFSET(Datos!$B$1,MATCH(A747,Datos!$A$2:$A$34,0),0)","v":{"$error":"#N/A"}},null,"",null,{"$f":"OFFSET(Datos!$G$1,MATCH(E747,Datos!$H$2:$H$1121,0),0)","v":{"$error":"#N/A"}},null,"",null,"",null,{"$error":"#N/A"}]
[null,{"$f":"OFFSET(Datos!$B$1,MATCH(A748,Datos!$A$2:$A$34,0),0)","v":{"$error":"#N/A"}},null,"",null,{"$f":"OFFSET(Datos!$G$1,MATCH(E748,Datos!$H$2:$H$1121,0),0)","v":{"$error":"#N/A"}},null,"",null,"",null,{"$error":"#N/A"}]
[null,{"$f":"OFFSET(Datos!$B$1,MATCH(A749,Datos!$A$2:$A$34,0),0)","v":{"$error":"#N/A"}},null,"",null,{"$f":"OFFSET(Datos!$G$1,MATCH(E749,Datos!$H$2:$H$1121,0),0)","v":{"$error":"#N/A"}},null,"",null,"",null,{"$error":"#N/A"}]
[null,{"$f":"OFFSET(Datos!$B$1,MATCH(A750,Datos!$A$2:$A$34,0),0)","v":{"$error":"#N/A"}},null,"",null,{"$f":"OFFSET(Datos!$G$1,MATCH(E750,Datos!$H$2:$H$1121,0),0)","v":{"$error":"#N/A"}},null,"",null,"",null,{"$error":"#N/A"}]
[null,{"$f":"OFFSET(Datos!$B$1,MATCH(A751,Datos!$A$2:$A$34,0),0)","v":{"$error":"#N/A"}},null,"",null,{"$f":"OFFSET(Datos!$G$1,MATCH(E751,Datos!$H$2:$H$1121,0),0)","v":{"$error":"#N/A"}},null,"",null,"",null,{"$error":"#N/A"}]
[null,{"$f":"OFFSET(Datos!$B$1,MATCH(A752,Datos!$A$2:$A$34,0),0)","v":{"$error":"#N/A"}},null,"",null,{"$f":"OFFSET(Datos!$G$1,MATCH(E752,Datos!$H$2:$H$1121,0),0)","v":{"$error":"#N/A"}},null,"",null,"",null,{"$error":"#N/A"}]
[null,{"$f":"OFFSET(Datos!$B$1,MATCH(A753,Datos!$A$2:$A$34,0),0)","v":{"$error":"#N/A"}},null,"",null,{"$f":"OFFSET(Datos!$G$1,MATCH(E753,Datos!$H$2:$H$1121,0),0)","v":{"$error":"#N/A"}},null,"",null,"",null,{"$error":"#N/A"}]
[null,{"$f":"OFFSET(Datos!$B$1,MATCH(A754,Datos!$A$2:$A$34,0),0)","v":{"$error":"#N/A"}},null,"",null,{"$f":"OFFSET(Datos!$G$1,MATCH(E754,Datos!$H$2:$H$1121,0),0)","v":{"$error":"#N/A"}},null,"",null,"",null,{"$error":"#N/A"}]
[null,{"$f":"OFFSET(Datos!$B$1,MATCH(A755,Datos!$A$2:$A$34,0),0)","v":{"$error":"#N/A"}},null,"",null,{"$f":"OFFSET(Datos!$G$1,MATCH(E755,Datos!$H$2:$H$1121,0),0)","v":{"$error":"#N/A"}},null,"",null,"",null,{"$error":"#N/A"}]
[null,{"$f":"OFFSET(Datos!$B$1,MATCH(A756,Datos!$A$2:$A$34,0),0)","v":{"$error":"#N/A"}},null,"",null,{"$f":"OFFSET(Datos!$G$1,MATCH(E756,Datos!$H$2:$H$1121,0),0)","v":{"$error":"#N/A"}},null,"",null,"",null,{"$error":"#N/A"}]
[null,{"$f":"OFFSET(Datos!$B$1,MATCH(A757,Datos!$A$2:$A$34,0),0)","v":{"$error":"#N/A"}},null,"",null,{"$f":"OFFSET(Datos!$G$1,MATCH(E757,Datos!$H$2:$H$1121,0),0)","v":{"$error":"#N/A"}},null,"",null,"",null,{"$error":"#N/A"}]
[null,{"$f":"OFFSET(Datos!$B$1,MATCH(A758,Datos!$A$2:$A$34,0),0)","v":{"$error":"#N/A"}},null,"",null,{"$f":"OFFSET(Datos!$G$1,MATCH(E758,Datos!$H$2:$H$1121,0),0)","v":{"$error":"#N/A"}},null,"",null,"",null,{"$error":"#N/A"}]
[null,{"$f":"OFFSET(Datos!$B$1,MATCH(A759,Datos!$A$2:$A$34,0),0)","v":{"$error":"#N/A"}},null,"",null,{"$f":"OFFSET(Datos!$G$1,MATCH(E759,Datos!$H$2:$H$1121,0),0)","v":{"$error":"#N/A"}},null,"",null,"",null,{"$error":"#N/A"}]
[null,{"$f":"OFFSET(Datos!$B$1,MATCH(A760,Datos!$A$2:$A$34,0),0)","v":{"$error":"#N/A"}},null,"",null,{"$f":"OFFSET(Datos!$G$1,MATCH(E760,Datos!$H$2:$H$1121,0),0)","v":{"$error":"#N/A"}},null,"",null,"",null,{"$error":"#N/A"}]
[null,{"$f":"OFFSET(Datos!$B$1,MATCH(A761,Datos!$A$2:$A$34,0),0)","v":{"$error":"#N/A"}},null,"",null,{"$f":"OFFSET(Datos!$G$1,MATCH(E761,Datos!$H$2:$H$1121,0),0)","v":{"$error":"#N/A"}},null,"",null,"",null,{"$error":"#N/A"}]
[null,{"$f":"OFFSET(Datos!$B$1,MATCH(A762,Datos!$A$2:$A$34,0),0)","v":{"$error":"#N/A"}},null,"",null,{"$f":"OFFSET(Datos!$G$1,MATCH(E762,Datos!$H$2:$H$1121,0),0)","v":{"$error":"#N/A"}},null,"",null,"",null,{"$error":"#N/A"}]
[null,{"$f":"OFFSET(Datos!$B$1,MATCH(A763,Datos!$A$2:$A$34,0),0)","v":{"$error":"#N/A"}},null,"",null,{"$f":"OFFSET(Datos!$G$1,MATCH(E763,Datos!$H$2:$H$1121,0),0)","v":{"$error":"#N/A"}},null,"",null,"",null,{"$error":"#N/A"}]
[null,{"$f":"OFFSET(Datos!$B$1,MATCH(A764,Datos!$A$2:$A$34,0),0)","v":{"$error":"#N/A"}},null,"",null,{"$f":"OFFSET(Datos!$G$1,MATCH(E764,Datos!$H$2:$H$1121,0),0)","v":{"$error":"#N/A"}},null,"",null,"",null,{"$error":"#N/A"}]
[null,{"$f":"OFFSET(Datos!$B$1,MATCH(A765,Datos!$A$2:$A$34,0),0)","v":{"$error":"#N/A"}},null,"",null,{"$f":"OFFSET(Datos!$G$1,MATCH(E765,Datos!$H$2:$H$1121,0),0)","v":{"$error":"#N/A"}},null,"",null,"",null,{"$error":"#N/A"}]
[null,{"$f":"OFFSET(Datos!$B$1,MATCH(A766,Datos!$A$2:$A$34,0),0)","v":{"$error":"#N/A"}},null,"",null,{"$f":"OFFSET(Datos!$G$1,MATCH(E766,Datos!$H$2:$H$1121,0),0)","v":{"$error":"#N/A"}},null,"",null,"",null,{"$error":"#N/A"}]
[null,{"$f":"OFFSET(Datos!$B$1,MATCH(A767,Datos!$A$2:$A$34,0),0)","v":{"$error":"#N/A"}},null,"",null,{"$f":"OFFSET(Datos!$G$1,MATCH(E767,Datos!$H$2:$H$1121,0),0)","v":{"$error":"#N/A"}},null,"",null,"",null,{"$error":"#N/A"}]
[null,{"$f":"OFFSET(Datos!$B$1,MATCH(A768,Datos!$A$2:$A$34,0),0)","v":{"$error":"#N/A"}},null,"",null,{"$f":"OFFSET(Datos!$G$1,MATCH(E768,Datos!$H$2:$H$1121,0),0)","v":{"$error":"#N/A"}},null,"",null,"",null,{"$error":"#N/A"}]
[null,{"$f":"OFFSET(Datos!$B$1,MATCH(A769,Datos!$A$2:$A$34,0),0)","v":{"$error":"#N/A"}},null,"",null,{"$f":"OFFSET(Datos!$G$1,MATCH(E769,Datos!$H$2:$H$1121,0),0)","v":{"$error":"#N/A"}},null,"",null,"",null,{"$error":"#N/A"}]
[null,{"$f":"OFFSET(Datos!$B$1,MATCH(A770,Datos!$A$2:$A$34,0),0)","v":{"$error":"#N/A"}},null,"",null,{"$f":"OFFSET(Datos!$G$1,MATCH(E770,Datos!$H$2:$H$1121,0),0)","v":{"$error":"#N/A"}},null,"",null,"",null,{"$error":"#N/A"}]
[null,{"$f":"OFFSET(Datos!$B$1,MATCH(A771,Datos!$A$2:$A$34,0),0)","v":{"$error":"#N/A"}},null,{"$f":"MID(C771,1,1)","v":""},null,{"$f":"OFFSET(Datos!$G$1,MATCH(E771,Datos!$H$2:$H$1121,0),0)","v":{"$error":"#N/A"}},null,{"$f":"MID(G771,1,2)","v":""},null,{"$f":"MID(I771,1,2)","v":""},null,{"$f":"CONCATENATE(B771,D771,F771,H771,J771,K771)","v":{"$error":"#N/A"}}]
[null,{"$f":"OFFSET(Datos!$B$1,MATCH(A772,Datos!$A$2:$A$34,0),0)","v":{"$error":"#N/A"}},null,"",null,{"$f":"OFFSET(Datos!$G$1,MATCH(E772,Datos!$H$2:$H$1121,0),0)","v":{"$error":"#N/A"}},null,"",null,"",null,{"$error":"#N/A"}]
[null,{"$f":"OFFSET(Datos!$B$1,MATCH(A773,Datos!$A$2:$A$34,0),0)","v":{"$error":"#N/A"}},null,"",null,{"$f":"OFFSET(Datos!$G$1,MATCH(E773,Datos!$H$2:$H$1121,0),0)","v":{"$error":"#N/A"}},null,"",null,"",null,{"$error":"#N/A"}]
[null,{"$f":"OFFSET(Datos!$B$1,MATCH(A774,Datos!$A$2:$A$34,0),0)","v":{"$error":"#N/A"}},null,"",null,{"$f":"OFFSET(Datos!$G$1,MATCH(E774,Datos!$H$2:$H$1121,0),0)","v":{"$error":"#N/A"}},null,"",null,"",null,{"$error":"#N/A"}]
[null,{"$f":"OFFSET(Datos!$B$1,MATCH(A775,Datos!$A$2:$A$34,0),0)","v":{"$error":"#N/A"}},null,"",null,{"$f":"OFFSET(Datos!$G$1,MATCH(E775,Datos!$H$2:$H$1121,0),0)","v":{"$error":"#N/A"}},null,"",null,"",null,{"$error":"#N/A"}]
[null,{"$f":"OFFSET(Datos!$B$1,MATCH(A776,Datos!$A$2:$A$34,0),0)","v":{"$error":"#N/A"}},null,"",null,{"$f":"OFFSET(Datos!$G$1,MATCH(E776,Datos!$H$2:$H$1121,0),0)","v":{"$error":"#N/A"}},null,"",null,"",null,{"$error":"#N/A"}]
[null,{"$f":"OFFSET(Datos!$B$1,MATCH(A777,Datos!$A$2:$A$34,0),0)","v":{"$error":"#N/A"}},null,"",null,{"$f":"OFFSET(Datos!$G$1,MATCH(E777,Datos!$H$2:$H$1121,0),0)","v":{"$error":"#N/A"}},null,"",null,"",null,{"$error":"#N/A"}]
[null,{"$f":"OFFSET(Datos!$B$1,MATCH(A778,Datos!$A$2:$A$34,0),0)","v":{"$error":"#N/A"}},null,"",null,{"$f":"OFFSET(Datos!$G$1,MATCH(E778,Datos!$H$2:$H$1121,0),0)","v":{"$error":"#N/A"}},null,"",null,"",null,{"$error":"#N/A"}]
[null,{"$f":"OFFSET(Datos!$B$1,MATCH(A779,Datos!$A$2:$A$34,0),0)","v":{"$error":"#N/A"}},null,"",null,{"$f":"OFFSET(Datos!$G$1,MATCH(E779,Datos!$H$2:$H$1121,0),0)","v":{"$error":"#N/A"}},null,"",null,"",null,{"$error":"#N/A"}]
[null,{"$f":"OFFSET(Datos!$B$1,MATCH(A780,Datos!$A$2:$A$34,0),0)","v":{"$error":"#N/A"}},null,"",null,{"$f":"OFFSET(Datos!$G$1,MATCH(E780,Datos!$H$2:$H$1121,0),0)","v":{"$error":"#N/A"}},null,"",null,"",null,{"$error":"#N/A"}]
[null,{"$f":"OFFSET(Datos!$B$1,MATCH(A781,Datos!$A$2:$A$34,0),0)","v":{"$error":"#N/A"}},null,"",null,{"$f":"OFFSET(Datos!$G$1,MATCH(E781,Datos!$H$2:$H$1121,0),0)","v":{"$error":"#N/A"}},null,"",null,"",null,{"$error":"#N/A"}]
[null,{"$f":"OFFSET(Datos!$B$1,MATCH(A782,Datos!$A$2:$A$34,0),0)","v":{"$error":"#N/A"}},null,"",null,{"$f":"OFFSET(Datos!$G$1,MATCH(E782,Datos!$H$2:$H$1121,0),0)","v":{"$error":"#N/A"}},null,"",null,"",null,{"$error":"#N/A"}]
[null,{"$f":"OFFSET(Datos!$B$1,MATCH(A783,Datos!$A$2:$A$34,0),0)","v":{"$error":"#N/A"}},null,"",null,{"$f":"OFFSET(Datos!$G$1,MATCH(E783,Datos!$H$2:$H$1121,0),0)","v":{"$error":"#N/A"}},null,"",null,"",null,{"$error":"#N/A"}]
[null,{"$f":"OFFSET(Datos!$B$1,MATCH(A784,Datos!$A$2:$A$34,0),0)","v":{"$error":"#N/A"}},null,"",null,{"$f":"OFFSET(Datos!$G$1,MATCH(E784,Datos!$H$2:$H$1121,0),0)","v":{"$error":"#N/A"}},null,"",null,"",null,{"$error":"#N/A"}]
[null,{"$f":"OFFSET(Datos!$B$1,MATCH(A785,Datos!$A$2:$A$34,0),0)","v":{"$error":"#N/A"}},null,"",null,{"$f":"OFFSET(Datos!$G$1,MATCH(E785,Datos!$H$2:$H$1121,0),0)","v":{"$error":"#N/A"}},null,"",null,"",null,{"$error":"#N/A"}]
[null,{"$f":"OFFSET(Datos!$B$1,MATCH(A786,Datos!$A$2:$A$34,0),0)","v":{"$error":"#N/A"}},null,"",null,{"$f":"OFFSET(Datos!$G$1,MATCH(E786,Datos!$H$2:$H$1121,0),0)","v":{"$error":"#N/A"}},null,"",null,"",null,{"$error":"#N/A"}]
[null,{"$f":"OFFSET(Datos!$B$1,MATCH(A787,Datos!$A$2:$A$34,0),0)","v":{"$error":"#N/A"}},null,"",null,{"$f":"OFFSET(Datos!$G$1,MATCH(E787,Datos!$H$2:$H$1121,0),0)","v":{"$error":"#N/A"}},null,"",null,"",null,{"$error":"#N/A"}]
[null,{"$f":"OFFSET(Datos!$B$1,MATCH(A788,Datos!$A$2:$A$34,0),0)","v":{"$error":"#N/A"}},null,"",null,{"$f":"OFFSET(Datos!$G$1,MATCH(E788,Datos!$H$2:$H$1121,0),0)","v":{"$error":"#N/A"}},null,"",null,"",null,{"$error":"#N/A"}]
[null,{"$f":"OFFSET(Datos!$B$1,MATCH(A789,Datos!$A$2:$A$34,0),0)","v":{"$error":"#N/A"}},null,"",null,{"$f":"OFFSET(Datos!$G$1,MATCH(E789,Datos!$H$2:$H$1121,0),0)","v":{"$error":"#N/A"}},null,"",null,"",null,{"$error":"#N/A"}]
[null,{"$f":"OFFSET(Datos!$B$1,MATCH(A790,Datos!$A$2:$A$34,0),0)","v":{"$error":"#N/A"}},null,"",null,{"$f":"OFFSET(Datos!$G$1,MATCH(E790,Datos!$H$2:$H$1121,0),0)","v":{"$error":"#N/A"}},null,"",null,"",null,{"$error":"#N/A"}]
[null,{"$f":"OFFSET(Datos!$B$1,MATCH(A791,Datos!$A$2:$A$34,0),0)","v":{"$error":"#N/A"}},null,"",null,{"$f":"OFFSET(Datos!$G$1,MATCH(E791,Datos!$H$2:$H$1121,0),0)","v":{"$error":"#N/A"}},null,"",null,"",null,{"$error":"#N/A"}]
[null,{"$f":"OFFSET(Datos!$B$1,MATCH(A792,Datos!$A$2:$A$34,0),0)","v":{"$error":"#N/A"}},null,"",null,{"$f":"OFFSET(Datos!$G$1,MATCH(E792,Datos!$H$2:$H$1121,0),0)","v":{"$error":"#N/A"}},null,"",null,"",null,{"$error":"#N/A"}]
[null,{"$f":"OFFSET(Datos!$B$1,MATCH(A793,Datos!$A$2:$A$34,0),0)","v":{"$error":"#N/A"}},null,"",null,{"$f":"OFFSET(Datos!$G$1,MATCH(E793,Datos!$H$2:$H$1121,0),0)","v":{"$error":"#N/A"}},null,"",null,"",null,{"$error":"#N/A"}]
[null,{"$f":"OFFSET(Datos!$B$1,MATCH(A794,Datos!$A$2:$A$34,0),0)","v":{"$error":"#N/A"}},null,"",null,{"$f":"OFFSET(Datos!$G$1,MATCH(E794,Datos!$H$2:$H$1121,0),0)","v":{"$error":"#N/A"}},null,"",null,"",null,{"$error":"#N/A"}]
[null,{"$f":"OFFSET(Datos!$B$1,MATCH(A795,Datos!$A$2:$A$34,0),0)","v":{"$error":"#N/A"}},null,"",null,{"$f":"OFFSET(Datos!$G$1,MATCH(E795,Datos!$H$2:$H$1121,0),0)","v":{"$error":"#N/A"}},null,"",null,"",null,{"$error":"#N/A"}]
[null,{"$f":"OFFSET(Datos!$B$1,MATCH(A796,Datos!$A$2:$A$34,0),0)","v":{"$error":"#N/A"}},null,"",null,{"$f":"OFFSET(Datos!$G$1,MATCH(E796,Datos!$H$2:$H$1121,0),0)","v":{"$error":"#N/A"}},null,"",null,"",null,{"$error":"#N/A"}]
[null,{"$f":"OFFSET(Datos!$B$1,MATCH(A797,Datos!$A$2:$A$34,0),0)","v":{"$error":"#N/A"}},null,"",null,{"$f":"OFFSET(Datos!$G$1,MATCH(E797,Datos!$H$2:$H$1121,0),0)","v":{"$error":"#N/A"}},null,"",null,"",null,{"$error":"#N/A"}]
[null,{"$f":"OFFSET(Datos!$B$1,MATCH(A798,Datos!$A$2:$A$34,0),0)","v":{"$error":"#N/A"}},null,"",null,{"$f":"OFFSET(Datos!$G$1,MATCH(E798,Datos!$H$2:$H$1121,0),0)","v":{"$error":"#N/A"}},null,"",null,"",null,{"$error":"#N/A"}]
[null,{"$f":"OFFSET(Datos!$B$1,MATCH(A799,Datos!$A$2:$A$34,0),0)","v":{"$error":"#N/A"}},null,"",null,{"$f":"OFFSET(Datos!$G$1,MATCH(E799,Datos!$H$2:$H$1121,0),0)","v":{"$error":"#N/A"}},null,"",null,"",null,{"$error":"#N/A"}]
[null,{"$f":"OFFSET(Datos!$B$1,MATCH(A800,Datos!$A$2:$A$34,0),0)","v":{"$error":"#N/A"}},null,"",null,{"$f":"OFFSET(Datos!$G$1,MATCH(E800,Datos!$H$2:$H$1121,0),0)","v":{"$error":"#N/A"}},null,"",null,"",null,{"$error":"#N/A"}]
[null,{"$f":"OFFSET(Datos!$B$1,MATCH(A801,Datos!$A$2:$A$34,0),0)","v":{"$error":"#N/A"}},null,"",null,{"$f":"OFFSET(Datos!$G$1,MATCH(E801,Datos!$H$2:$H$1121,0),0)","v":{"$error":"#N/A"}},null,"",null,"",null,{"$error":"#N/A"}]
[null,{"$f":"OFFSET(Datos!$B$1,MATCH(A802,Datos!$A$2:$A$34,0),0)","v":{"$error":"#N/A"}},null,"",null,{"$f":"OFFSET(Datos!$G$1,MATCH(E802,Datos!$H$2:$H$1121,0),0)","v":{"$error":"#N/A"}},null,"",null,"",null,{"$error":"#N/A"}]
[null,{"$f":"OFFSET(Datos!$B$1,MATCH(A803,Datos!$A$2:$A$34,0),0)","v":{"$error":"#N/A"}},null,"",null,{"$f":"OFFSET(Datos!$G$1,MATCH(E803,Datos!$H$2:$H$1121,0),0)","v":{"$error":"#N/A"}},null,"",null,"",null,{"$error":"#N/A"}]
[null,{"$f":"OFFSET(Datos!$B$1,MATCH(A804,Datos!$A$2:$A$34,0),0)","v":{"$error":"#N/A"}},null,"",null,{"$f":"OFFSET(Datos!$G$1,MATCH(E804,Datos!$H$2:$H$1121,0),0)","v":{"$error":"#N/A"}},null,"",null,"",null,{"$error":"#N/A"}]
[null,{"$f":"OFFSET(Datos!$B$1,MATCH(A805,Datos!$A$2:$A$34,0),0)","v":{"$error":"#N/A"}},null,"",null,{"$f":"OFFSET(Datos!$G$1,MATCH(E805,Datos!$H$2:$H$1121,0),0)","v":{"$error":"#N/A"}},null,"",null,"",null,{"$error":"#N/A"}]
[null,{"$f":"OFFSET(Datos!$B$1,MATCH(A806,Datos!$A$2:$A$34,0),0)","v":{"$error":"#N/A"}},null,"",null,{"$f":"OFFSET(Datos!$G$1,MATCH(E806,Datos!$H$2:$H$1121,0),0)","v":{"$error":"#N/A"}},null,"",null,"",null,{"$error":"#N/A"}]
[null,{"$f":"OFFSET(Datos!$B$1,MATCH(A807,Datos!$A$2:$A$34,0),0)","v":{"$error":"#N/A"}},null,"",null,{"$f":"OFFSET(Datos!$G$1,MATCH(E807,Datos!$H$2:$H$1121,0),0)","v":{"$error":"#N/A"}},null,"",null,"",null,{"$error":"#N/A"}]
[null,{"$f":"OFFSET(Datos!$B$1,MATCH(A808,Datos!$A$2:$A$34,0),0)","v":{"$error":"#N/A"}},null,"",null,{"$f":"OFFSET(Datos!$G$1,MATCH(E808,Datos!$H$2:$H$1121,0),0)","v":{"$error":"#N/A"}},null,"",null,"",null,{"$error":"#N/A"}]
[null,{"$f":"OFFSET(Datos!$B$1,MATCH(A809,Datos!$A$2:$A$34,0),0)","v":{"$error":"#N/A"}},null,"",null,{"$f":"OFFSET(Datos!$G$1,MATCH(E809,Datos!$H$2:$H$1121,0),0)","v":{"$error":"#N/A"}},null,"",null,"",null,{"$error":"#N/A"}]
[null,{"$f":"OFFSET(Datos!$B$1,MATCH(A810,Datos!$A$2:$A$34,0),0)","v":{"$error":"#N/A"}},null,"",null,{"$f":"OFFSET(Datos!$G$1,MATCH(E810,Datos!$H$2:$H$1121,0),0)","v":{"$error":"#N/A"}},null,"",null,"",null,{"$error":"#N/A"}]
[null,{"$f":"OFFSET(Datos!$B$1,MATCH(A811,Datos!$A$2:$A$34,0),0)","v":{"$error":"#N/A"}},null,"",null,{"$f":"OFFSET(Datos!$G$1,MATCH(E811,Datos!$H$2:$H$1121,0),0)","v":{"$error":"#N/A"}},null,"",null,"",null,{"$error":"#N/A"}]
[null,{"$f":"OFFSET(Datos!$B$1,MATCH(A812,Datos!$A$2:$A$34,0),0)","v":{"$error":"#N/A"}},null,"",null,{"$f":"OFFSET(Datos!$G$1,MATCH(E812,Datos!$H$2:$H$1121,0),0)","v":{"$error":"#N/A"}},null,"",null,"",null,{"$error":"#N/A"}]
[null,{"$f":"OFFSET(Datos!$B$1,MATCH(A813,Datos!$A$2:$A$34,0),0)","v":{"$error":"#N/A"}},null,"",null,{"$f":"OFFSET(Datos!$G$1,MATCH(E813,Datos!$H$2:$H$1121,0),0)","v":{"$error":"#N/A"}},null,"",null,"",null,{"$error":"#N/A"}]
[null,{"$f":"OFFSET(Datos!$B$1,MATCH(A814,Datos!$A$2:$A$34,0),0)","v":{"$error":"#N/A"}},null,"",null,{"$f":"OFFSET(Datos!$G$1,MATCH(E814,Datos!$H$2:$H$1121,0),0)","v":{"$error":"#N/A"}},null,"",null,"",null,{"$error":"#N/A"}]
[null,{"$f":"OFFSET(Datos!$B$1,MATCH(A815,Datos!$A$2:$A$34,0),0)","v":{"$error":"#N/A"}},null,"",null,{"$f":"OFFSET(Datos!$G$1,MATCH(E815,Datos!$H$2:$H$1121,0),0)","v":{"$error":"#N/A"}},null,"",null,"",null,{"$error":"#N/A"}]
[null,{"$f":"OFFSET(Datos!$B$1,MATCH(A816,Datos!$A$2:$A$34,0),0)","v":{"$error":"#N/A"}},null,"",null,{"$f":"OFFSET(Datos!$G$1,MATCH(E816,Datos!$H$2:$H$1121,0),0)","v":{"$error":"#N/A"}},null,"",null,"",null,{"$error":"#N/A"}]
[null,{"$f":"OFFSET(Datos!$B$1,MATCH(A817,Datos!$A$2:$A$34,0),0)","v":{"$error":"#N/A"}},null,"",null,{"$f":"OFFSET(Datos!$G$1,MATCH(E817,Datos!$H$2:$H$1121,0),0)","v":{"$error":"#N/A"}},null,"",null,"",null,{"$error":"#N/A"}]
[null,{"$f":"OFFSET(Datos!$B$1,MATCH(A818,Datos!$A$2:$A$34,0),0)","v":{"$error":"#N/A"}},null,"",null,{"$f":"OFFSET(Datos!$G$1,MATCH(E818,Datos!$H$2:$H$1121,0),0)","v":{"$error":"#N/A"}},null,"",null,"",null,{"$error":"#N/A"}]
[null,{"$f":"OFFSET(Datos!$B$1,MATCH(A819,Datos!$A$2:$A$34,0),0)","v":{"$error":"#N/A"}},null,"",null,{"$f":"OFFSET(Datos!$G$1,MATCH(E819,Datos!$H$2:$H$1121,0),0)","v":{"$error":"#N/A"}},null,"",null,"",null,{"$error":"#N/A"}]
[null,{"$f":"OFFSET(Datos!$B$1,MATCH(A820,Datos!$A$2:$A$34,0),0)","v":{"$error":"#N/A"}},null,"",null,{"$f":"OFFSET(Datos!$G$1,MATCH(E820,Datos!$H$2:$H$1121,0),0)","v":{"$error":"#N/A"}},null,"",null,"",null,{"$error":"#N/A"}]
[null,{"$f":"OFFSET(Datos!$B$1,MATCH(A821,Datos!$A$2:$A$34,0),0)","v":{"$error":"#N/A"}},null,"",null,{"$f":"OFFSET(Datos!$G$1,MATCH(E821,Datos!$H$2:$H$1121,0),0)","v":{"$error":"#N/A"}},null,"",null,"",null,{"$error":"#N/A"}]
[null,{"$f":"OFFSET(Datos!$B$1,MATCH(A822,Datos!$A$2:$A$34,0),0)","v":{"$error":"#N/A"}},null,"",null,{"$f":"OFFSET(Datos!$G$1,MATCH(E822,Datos!$H$2:$H$1121,0),0)","v":{"$error":"#N/A"}},null,"",null,"",null,{"$error":"#N/A"}]
[null,{"$f":"OFFSET(Datos!$B$1,MATCH(A823,Datos!$A$2:$A$34,0),0)","v":{"$error":"#N/A"}},null,"",null,{"$f":"OFFSET(Datos!$G$1,MATCH(E823,Datos!$H$2:$H$1121,0),0)","v":{"$error":"#N/A"}},null,"",null,"",null,{"$error":"#N/A"}]
[null,{"$f":"OFFSET(Datos!$B$1,MATCH(A824,Datos!$A$2:$A$34,0),0)","v":{"$error":"#N/A"}},null,"",null,{"$f":"OFFSET(Datos!$G$1,MATCH(E824,Datos!$H$2:$H$1121,0),0)","v":{"$error":"#N/A"}},null,"",null,"",null,{"$error":"#N/A"}]
[null,{"$f":"OFFSET(Datos!$B$1,MATCH(A825,Datos!$A$2:$A$34,0),0)","v":{"$error":"#N/A"}},null,"",null,{"$f":"OFFSET(Datos!$G$1,MATCH(E825,Datos!$H$2:$H$1121,0),0)","v":{"$error":"#N/A"}},null,"",null,"",null,{"$error":"#N/A"}]
[null,{"$f":"OFFSET(Datos!$B$1,MATCH(A826,Datos!$A$2:$A$34,0),0)","v":{"$error":"#N/A"}},null,"",null,{"$f":"OFFSET(Datos!$G$1,MATCH(E826,Datos!$H$2:$H$1121,0),0)","v":{"$error":"#N/A"}},null,"",null,"",null,{"$error":"#N/A"}]
[null,{"$f":"OFFSET(Datos!$B$1,MATCH(A827,Datos!$A$2:$A$34,0),0)","v":{"$error":"#N/A"}},null,"",null,{"$f":"OFFSET(Datos!$G$1,MATCH(E827,Datos!$H$2:$H$1121,0),0)","v":{"$error":"#N/A"}},null,"",null,"",null,{"$error":"#N/A"}]
[null,{"$f":"OFFSET(Datos!$B$1,MATCH(A828,Datos!$A$2:$A$34,0),0)","v":{"$error":"#N/A"}},null,"",null,{"$f":"OFFSET(Datos!$G$1,MATCH(E828,Datos!$H$2:$H$1121,0),0)","v":{"$error":"#N/A"}},null,"",null,"",null,{"$error":"#N/A"}]
[null,{"$f":"OFFSET(Datos!$B$1,MATCH(A829,Datos!$A$2:$A$34,0),0)","v":{"$error":"#N/A"}},null,"",null,{"$f":"OFFSET(Datos!$G$1,MATCH(E829,Datos!$H$2:$H$1121,0),0)","v":{"$error":"#N/A"}},null,"",null,"",null,{"$error":"#N/A"}]
[null,{"$f":"OFFSET(Datos!$B$1,MATCH(A830,Datos!$A$2:$A$34,0),0)","v":{"$error":"#N/A"}},null,"",null,{"$f":"OFFSET(Datos!$G$1,MATCH(E830,Datos!$H$2:$H$1121,0),0)","v":{"$error":"#N/A"}},null,"",null,"",null,{"$error":"#N/A"}]
[null,{"$f":"OFFSET(Datos!$B$1,MATCH(A831,Datos!$A$2:$A$34,0),0)","v":{"$error":"#N/A"}},null,"",null,{"$f":"OFFSET(Datos!$G$1,MATCH(E831,Datos!$H$2:$H$1121,0),0)","v":{"$error":"#N/A"}},null,"",null,"",null,{"$error":"#N/A"}]
[null,{"$f":"OFFSET(Datos!$B$1,MATCH(A832,Datos!$A$2:$A$34,0),0)","v":{"$error":"#N/A"}},null,"",null,{"$f":"OFFSET(Datos!$G$1,MATCH(E832,Datos!$H$2:$H$1121,0),0)","v":{"$error":"#N/A"}},null,"",null,"",null,{"$error":"#N/A"}]
[null,{"$f":"OFFSET(Datos!$B$1,MATCH(A833,Datos!$A$2:$A$34,0),0)","v":{"$error":"#N/A"}},null,"",null,{"$f":"OFFSET(Datos!$G$1,MATCH(E833,Datos!$H$2:$H$1121,0),0)","v":{"$error":"#N/A"}},null,"",null,"",null,{"$error":"#N/A"}]
[null,{"$f":"OFFSET(Datos!$B$1,MATCH(A834,Datos!$A$2:$A$34,0),0)","v":{"$error":"#N/A"}},null,"",null,{"$f":"OFFSET(Datos!$G$1,MATCH(E834,Datos!$H$2:$H$1121,0),0)","v":{"$error":"#N/A"}},null,"",null,"",null,{"$error":"#N/A"}]
[null,{"$f":"OFFSET(Datos!$B$1,MATCH(A835,Datos!$A$2:$A$34,0),0)","v":{"$error":"#N/A"}},null,{"$f":"MID(C835,1,1)","v":""},null,{"$f":"OFFSET(Datos!$G$1,MATCH(E835,Datos!$H$2:$H$1121,0),0)","v":{"$error":"#N/A"}},null,{"$f":"MID(G835,1,2)","v":""},null,{"$f":"MID(I835,1,2)","v":""},null,{"$f":"CONCATENATE(B835,D835,F835,H835,J835,K835)","v":{"$error":"#N/A"}}]
[null,{"$f":"OFFSET(Datos!$B$1,MATCH(A836,Datos!$A$2:$A$34,0),0)","v":{"$error":"#N/A"}},null,"",null,{"$f":"OFFSET(Datos!$G$1,MATCH(E836,Datos!$H$2:$H$1121,0),0)","v":{"$error":"#N/A"}},null,"",null,"",null,{"$error":"#N/A"}]
[null,{"$f":"OFFSET(Datos!$B$1,MATCH(A837,Datos!$A$2:$A$34,0),0)","v":{"$error":"#N/A"}},null,"",null,{"$f":"OFFSET(Datos!$G$1,MATCH(E837,Datos!$H$2:$H$1121,0),0)","v":{"$error":"#N/A"}},null,"",null,"",null,{"$error":"#N/A"}]
[null,{"$f":"OFFSET(Datos!$B$1,MATCH(A838,Datos!$A$2:$A$34,0),0)","v":{"$error":"#N/A"}},null,"",null,{"$f":"OFFSET(Datos!$G$1,MATCH(E838,Datos!$H$2:$H$1121,0),0)","v":{"$error":"#N/A"}},null,"",null,"",null,{"$error":"#N/A"}]
[null,{"$f":"OFFSET(Datos!$B$1,MATCH(A839,Datos!$A$2:$A$34,0),0)","v":{"$error":"#N/A"}},null,"",null,{"$f":"OFFSET(Datos!$G$1,MATCH(E839,Datos!$H$2:$H$1121,0),0)","v":{"$error":"#N/A"}},null,"",null,"",null,{"$error":"#N/A"}]
[null,{"$f":"OFFSET(Datos!$B$1,MATCH(A840,Datos!$A$2:$A$34,0),0)","v":{"$error":"#N/A"}},null,"",null,{"$f":"OFFSET(Datos!$G$1,MATCH(E840,Datos!$H$2:$H$1121,0),0)","v":{"$error":"#N/A"}},null,"",null,"",null,{"$error":"#N/A"}]
[null,{"$f":"OFFSET(Datos!$B$1,MATCH(A841,Datos!$A$2:$A$34,0),0)","v":{"$error":"#N/A"}},null,"",null,{"$f":"OFFSET(Datos!$G$1,MATCH(E841,Datos!$H$2:$H$1121,0),0)","v":{"$error":"#N/A"}},null,"",null,"",null,{"$error":"#N/A"}]
[null,{"$f":"OFFSET(Datos!$B$1,MATCH(A842,Datos!$A$2:$A$34,0),0)","v":{"$error":"#N/A"}},null,"",null,{"$f":"OFFSET(Datos!$G$1,MATCH(E842,Datos!$H$2:$H$1121,0),0)","v":{"$error":"#N/A"}},null,"",null,"",null,{"$error":"#N/A"}]
[null,{"$f":"OFFSET(Datos!$B$1,MATCH(A843,Datos!$A$2:$A$34,0),0)","v":{"$error":"#N/A"}},null,"",null,{"$f":"OFFSET(Datos!$G$1,MATCH(E843,Datos!$H$2:$H$1121,0),0)","v":{"$error":"#N/A"}},null,"",null,"",null,{"$error":"#N/A"}]
[null,{"$f":"OFFSET(Datos!$B$1,MATCH(A844,Datos!$A$2:$A$34,0),0)","v":{"$error":"#N/A"}},null,"",null,{"$f":"OFFSET(Datos!$G$1,MATCH(E844,Datos!$H$2:$H$1121,0),0)","v":{"$error":"#N/A"}},null,"",null,"",null,{"$error":"#N/A"}]
[null,{"$f":"OFFSET(Datos!$B$1,MATCH(A845,Datos!$A$2:$A$34,0),0)","v":{"$error":"#N/A"}},null,"",null,{"$f":"OFFSET(Datos!$G$1,MATCH(E845,Datos!$H$2:$H$1121,0),0)","v":{"$error":"#N/A"}},null,"",null,"",null,{"$error":"#N/A"}]
[null,{"$f":"OFFSET(Datos!$B$1,MATCH(A846,Datos!$A$2:$A$34,0),0)","v":{"$error":"#N/A"}},null,"",null,{"$f":"OFFSET(Datos!$G$1,MATCH(E846,Datos!$H$2:$H$1121,0),0)","v":{"$error":"#N/A"}},null,"",null,"",null,{"$error":"#N/A"}]
[null,{"$f":"OFFSET(Datos!$B$1,MATCH(A847,Datos!$A$2:$A$34,0),0)","v":{"$error":"#N/A"}},null,"",null,{"$f":"OFFSET(Datos!$G$1,MATCH(E847,Datos!$H$2:$H$1121,0),0)","v":{"$error":"#N/A"}},null,"",null,"",null,{"$error":"#N/A"}]
[null,{"$f":"OFFSET(Datos!$B$1,MATCH(A848,Datos!$A$2:$A$34,0),0)","v":{"$error":"#N/A"}},null,"",null,{"$f":"OFFSET(Datos!$G$1,MATCH(E848,Datos!$H$2:$H$1121,0),0)","v":{"$error":"#N/A"}},null,"",null,"",null,{"$error":"#N/A"}]
[null,{"$f":"OFFSET(Datos!$B$1,MATCH(A849,Datos!$A$2:$A$34,0),0)","v":{"$error":"#N/A"}},null,"",null,{"$f":"OFFSET(Datos!$G$1,MATCH(E849,Datos!$H$2:$H$1121,0),0)","v":{"$error":"#N/A"}},null,"",null,"",null,{"$error":"#N/A"}]
[null,{"$f":"OFFSET(Datos!$B$1,MATCH(A850,Datos!$A$2:$A$34,0),0)","v":{"$error":"#N/A"}},null,"",null,{"$f":"OFFSET(Datos!$G$1,MATCH(E850,Datos!$H$2:$H$1121,0),0)","v":{"$error":"#N/A"}},null,"",null,"",null,{"$error":"#N/A"}]
[null,{"$f":"OFFSET(Datos!$B$1,MATCH(A851,Datos!$A$2:$A$34,0),0)","v":{"$error":"#N/A"}},null,"",null,{"$f":"OFFSET(Datos!$G$1,MATCH(E851,Datos!$H$2:$H$1121,0),0)","v":{"$error":"#N/A"}},null,"",null,"",null,{"$error":"#N/A"}]
[null,{"$f":"OFFSET(Datos!$B$1,MATCH(A852,Datos!$A$2:$A$34,0),0)","v":{"$error":"#N/A"}},null,"",null,{"$f":"OFFSET(Datos!$G$1,MATCH(E852,Datos!$H$2:$H$1121,0),0)","v":{"$error":"#N/A"}},null,"",null,"",null,{"$error":"#N/A"}]
[null,{"$f":"OFFSET(Datos!$B$1,MATCH(A853,Datos!$A$2:$A$34,0),0)","v":{"$error":"#N/A"}},null,"",null,{"$f":"OFFSET(Datos!$G$1,MATCH(E853,Datos!$H$2:$H$1121,0),0)","v":{"$error":"#N/A"}},null,"",null,"",null,{"$error":"#N/A"}]
[null,{"$f":"OFFSET(Datos!$B$1,MATCH(A854,Datos!$A$2:$A$34,0),0)","v":{"$error":"#N/A"}},null,"",null,{"$f":"OFFSET(Datos!$G$1,MATCH(E854,Datos!$H$2:$H$1121,0),0)","v":{"$error":"#N/A"}},null,"",null,"",null,{"$error":"#N/A"}]
[null,{"$f":"OFFSET(Datos!$B$1,MATCH(A855,Datos!$A$2:$A$34,0),0)","v":{"$error":"#N/A"}},null,"",null,{"$f":"OFFSET(Datos!$G$1,MATCH(E855,Datos!$H$2:$H$1121,0),0)","v":{"$error":"#N/A"}},null,"",null,"",null,{"$error":"#N/A"}]
[null,{"$f":"OFFSET(Datos!$B$1,MATCH(A856,Datos!$A$2:$A$34,0),0)","v":{"$error":"#N/A"}},null,"",null,{"$f":"OFFSET(Datos!$G$1,MATCH(E856,Datos!$H$2:$H$1121,0),0)","v":{"$error":"#N/A"}},null,"",null,"",null,{"$error":"#N/A"}]
[null,{"$f":"OFFSET(Datos!$B$1,MATCH(A857,Datos!$A$2:$A$34,0),0)","v":{"$error":"#N/A"}},null,"",null,{"$f":"OFFSET(Datos!$G$1,MATCH(E857,Datos!$H$2:$H$1121,0),0)","v":{"$error":"#N/A"}},null,"",null,"",null,{"$error":"#N/A"}]
[null,{"$f":"OFFSET(Datos!$B$1,MATCH(A858,Datos!$A$2:$A$34,0),0)","v":{"$error":"#N/A"}},null,"",null,{"$f":"OFFSET(Datos!$G$1,MATCH(E858,Datos!$H$2:$H$1121,0),0)","v":{"$error":"#N/A"}},null,"",null,"",null,{"$error":"#N/A"}]
[null,{"$f":"OFFSET(Datos!$B$1,MATCH(A859,Datos!$A$2:$A$34,0),0)","v":{"$error":"#N/A"}},null,"",null,{"$f":"OFFSET(Datos!$G$1,MATCH(E859,Datos!$H$2:$H$1121,0),0)","v":{"$error":"#N/A"}},null,"",null,"",null,{"$error":"#N/A"}]
[null,{"$f":"OFFSET(Datos!$B$1,MATCH(A860,Datos!$A$2:$A$34,0),0)","v":{"$error":"#N/A"}},null,"",null,{"$f":"OFFSET(Datos!$G$1,MATCH(E860,Datos!$H$2:$H$1121,0),0)","v":{"$error":"#N/A"}},null,"",null,"",null,{"$error":"#N/A"}]
[null,{"$f":"OFFSET(Datos!$B$1,MATCH(A861,Datos!$A$2:$A$34,0),0)","v":{"$error":"#N/A"}},null,"",null,{"$f":"OFFSET(Datos!$G$1,MATCH(E861,Datos!$H$2:$H$1121,0),0)","v":{"$error":"#N/A"}},null,"",null,"",null,{"$error":"#N/A"}]
[null,{"$f":"OFFSET(Datos!$B$1,MATCH(A862,Datos!$A$2:$A$34,0),0)","v":{"$error":"#N/A"}},null,"",null,{"$f":"OFFSET(Datos!$G$1,MATCH(E862,Datos!$H$2:$H$1121,0),0)","v":{"$error":"#N/A"}},null,"",null,"",null,{"$error":"#N/A"}]
[null,{"$f":"OFFSET(Datos!$B$1,MATCH(A863,Datos!$A$2:$A$34,0),0)","v":{"$error":"#N/A"}},null,"",null,{"$f":"OFFSET(Datos!$G$1,MATCH(E863,Datos!$H$2:$H$1121,0),0)","v":{"$error":"#N/A"}},null,"",null,"",null,{"$error":"#N/A"}]
[null,{"$f":"OFFSET(Datos!$B$1,MATCH(A864,Datos!$A$2:$A$34,0),0)","v":{"$error":"#N/A"}},null,"",null,{"$f":"OFFSET(Datos!$G$1,MATCH(E864,Datos!$H$2:$H$1121,0),0)","v":{"$error":"#N/A"}},null,"",null,"",null,{"$error":"#N/A"}]
[null,{"$f":"OFFSET(Datos!$B$1,MATCH(A865,Datos!$A$2:$A$34,0),0)","v":{"$error":"#N/A"}},null,"",null,{"$f":"OFFSET(Datos!$G$1,MATCH(E865,Datos!$H$2:$H$1121,0),0)","v":{"$error":"#N/A"}},null,"",null,"",null,{"$error":"#N/A"}]
[null,{"$f":"OFFSET(Datos!$B$1,MATCH(A866,Datos!$A$2:$A$34,0),0)","v":{"$error":"#N/A"}},null,"",null,{"$f":"OFFSET(Datos!$G$1,MATCH(E866,Datos!$H$2:$H$1121,0),0)","v":{"$error":"#N/A"}},null,"",null,"",null,{"$error":"#N/A"}]
[null,{"$f":"OFFSET(Datos!$B$1,MATCH(A867,Datos!$A$2:$A$34,0),0)","v":{"$error":"#N/A"}},null,"",null,{"$f":"OFFSET(Datos!$G$1,MATCH(E867,Datos!$H$2:$H$1121,0),0)","v":{"$error":"#N/A"}},null,"",null,"",null,{"$error":"#N/A"}]
[null,{"$f":"OFFSET(Datos!$B$1,MATCH(A868,Datos!$A$2:$A$34,0),0)","v":{"$error":"#N/A"}},null,"",null,{"$f":"OFFSET(Datos!$G$1,MATCH(E868,Datos!$H$2:$H$1121,0),0)","v":{"$error":"#N/A"}},null,"",null,"",null,{"$error":"#N/A"}]
[null,{"$f":"OFFSET(Datos!$B$1,MATCH(A869,Datos!$A$2:$A$34,0),0)","v":{"$error":"#N/A"}},null,"",null,{"$f":"OFFSET(Datos!$G$1,MATCH(E869,Datos!$H$2:$H$1121,0),0)","v":{"$error":"#N/A"}},null,"",null,"",null,{"$error":"#N/A"}]
[null,{"$f":"OFFSET(Datos!$B$1,MATCH(A870,Datos!$A$2:$A$34,0),0)","v":{"$error":"#N/A"}},null,"",null,{"$f":"OFFSET(Datos!$G$1,MATCH(E870,Datos!$H$2:$H$1121,0),0)","v":{"$error":"#N/A"}},null,"",null,"",null,{"$error":"#N/A"}]
[null,{"$f":"OFFSET(Datos!$B$1,MATCH(A871,Datos!$A$2:$A$34,0),0)","v":{"$error":"#N/A"}},null,"",null,{"$f":"OFFSET(Datos!$G$1,MATCH(E871,Datos!$H$2:$H$1121,0),0)","v":{"$error":"#N/A"}},null,"",null,"",null,{"$error":"#N/A"}]
[null,{"$f":"OFFSET(Datos!$B$1,MATCH(A872,Datos!$A$2:$A$34,0),0)","v":{"$error":"#N/A"}},null,"",null,{"$f":"OFFSET(Datos!$G$1,MATCH(E872,Datos!$H$2:$H$1121,0),0)","v":{"$error":"#N/A"}},null,"",null,"",null,{"$error":"#N/A"}]
[null,{"$f":"OFFSET(Datos!$B$1,MATCH(A873,Datos!$A$2:$A$34,0),0)","v":{"$error":"#N/A"}},null,"",null,{"$f":"OFFSET(Datos!$G$1,MATCH(E873,Datos!$H$2:$H$1121,0),0)","v":{"$error":"#N/A"}},null,"",null,"",null,{"$error":"#N/A"}]
[null,{"$f":"OFFSET(Datos!$B$1,MATCH(A874,Datos!$A$2:$A$34,0),0)","v":{"$error":"#N/A"}},null,"",null,{"$f":"OFFSET(Datos!$G$1,MATCH(E874,Datos!$H$2:$H$1121,0),0)","v":{"$error":"#N/A"}},null,"",null,"",null,{"$error":"#N/A"}]
[null,{"$f":"OFFSET(Datos!$B$1,MATCH(A875,Datos!$A$2:$A$34,0),0)","v":{"$error":"#N/A"}},null,"",null,{"$f":"OFFSET(Datos!$G$1,MATCH(E875,Datos!$H$2:$H$1121,0),0)","v":{"$error":"#N/A"}},null,"",null,"",null,{"$error":"#N/A"}]
[null,{"$f":"OFFSET(Datos!$B$1,MATCH(A876,Datos!$A$2:$A$34,0),0)","v":{"$error":"#N/A"}},null,"",null,{"$f":"OFFSET(Datos!$G$1,MATCH(E876,Datos!$H$2:$H$1121,0),0)","v":{"$error":"#N/A"}},null,"",null,"",null,{"$error":"#N/A"}]
[null,{"$f":"OFFSET(Datos!$B$1,MATCH(A877,Datos!$A$2:$A$34,0),0)","v":{"$error":"#N/A"}},null,"",null,{"$f":"OFFSET(Datos!$G$1,MATCH(E877,Datos!$H$2:$H$1121,0),0)","v":{"$error":"#N/A"}},null,"",null,"",null,{"$error":"#N/A"}]
[null,{"$f":"OFFSET(Datos!$B$1,MATCH(A878,Datos!$A$2:$A$34,0),0)","v":{"$error":"#N/A"}},null,"",null,{"$f":"OFFSET(Datos!$G$1,MATCH(E878,Datos!$H$2:$H$1121,0),0)","v":{"$error":"#N/A"}},null,"",null,"",null,{"$error":"#N/A"}]
[null,{"$f":"OFFSET(Datos!$B$1,MATCH(A879,Datos!$A$2:$A$34,0),0)","v":{"$error":"#N/A"}},null,"",null,{"$f":"OFFSET(Datos!$G$1,MATCH(E879,Datos!$H$2:$H$1121,0),0)","v":{"$error":"#N/A"}},null,"",null,"",null,{"$error":"#N/A"}]
[null,{"$f":"OFFSET(Datos!$B$1,MATCH(A880,Datos!$A$2:$A$34,0),0)","v":{"$error":"#N/A"}},null,"",null,{"$f":"OFFSET(Datos!$G$1,MATCH(E880,Datos!$H$2:$H$1121,0),0)","v":{"$error":"#N/A"}},null,"",null,"",null,{"$error":"#N/A"}]
[null,{"$f":"OFFSET(Datos!$B$1,MATCH(A881,Datos!$A$2:$A$34,0),0)","v":{"$error":"#N/A"}},null,"",null,{"$f":"OFFSET(Datos!$G$1,MATCH(E881,Datos!$H$2:$H$1121,0),0)","v":{"$error":"#N/A"}},null,"",null,"",null,{"$error":"#N/A"}]
[null,{"$f":"OFFSET(Datos!$B$1,MATCH(A882,Datos!$A$2:$A$34,0),0)","v":{"$error":"#N/A"}},null,"",null,{"$f":"OFFSET(Datos!$G$1,MATCH(E882,Datos!$H$2:$H$1121,0),0)","v":{"$error":"#N/A"}},null,"",null,"",null,{"$error":"#N/A"}]
[null,{"$f":"OFFSET(Datos!$B$1,MATCH(A883,Datos!$A$2:$A$34,0),0)","v":{"$error":"#N/A"}},null,"",null,{"$f":"OFFSET(Datos!$G$1,MATCH(E883,Datos!$H$2:$H$1121,0),0)","v":{"$error":"#N/A"}},null,"",null,"",null,{"$error":"#N/A"}]
[null,{"$f":"OFFSET(Datos!$B$1,MATCH(A884,Datos!$A$2:$A$34,0),0)","v":{"$error":"#N/A"}},null,"",null,{"$f":"OFFSET(Datos!$G$1,MATCH(E884,Datos!$H$2:$H$1121,0),0)","v":{"$error":"#N/A"}},null,"",null,"",null,{"$error":"#N/A"}]
[null,{"$f":"OFFSET(Datos!$B$1,MATCH(A885,Datos!$A$2:$A$34,0),0)","v":{"$error":"#N/A"}},null,"",null,{"$f":"OFFSET(Datos!$G$1,MATCH(E885,Datos!$H$2:$H$1121,0),0)","v":{"$error":"#N/A"}},null,"",null,"",null,{"$error":"#N/A"}]
[null,{"$f":"OFFSET(Datos!$B$1,MATCH(A886,Datos!$A$2:$A$34,0),0)","v":{"$error":"#N/A"}},null,"",null,{"$f":"OFFSET(Datos!$G$1,MATCH(E886,Datos!$H$2:$H$1121,0),0)","v":{"$error":"#N/A"}},null,"",null,"",null,{"$error":"#N/A"}]
[null,{"$f":"OFFSET(Datos!$B$1,MATCH(A887,Datos!$A$2:$A$34,0),0)","v":{"$error":"#N/A"}},null,"",null,{"$f":"OFFSET(Datos!$G$1,MATCH(E887,Datos!$H$2:$H$1121,0),0)","v":{"$error":"#N/A"}},null,"",null,"",null,{"$error":"#N/A"}]
[null,{"$f":"OFFSET(Datos!$B$1,MATCH(A888,Datos!$A$2:$A$34,0),0)","v":{"$error":"#N/A"}},null,"",null,{"$f":"OFFSET(Datos!$G$1,MATCH(E888,Datos!$H$2:$H$1121,0),0)","v":{"$error":"#N/A"}},null,"",null,"",null,{"$error":"#N/A"}]
[null,{"$f":"OFFSET(Datos!$B$1,MATCH(A889,Datos!$A$2:$A$34,0),0)","v":{"$error":"#N/A"}},null,"",null,{"$f":"OFFSET(Datos!$G$1,MATCH(E889,Datos!$H$2:$H$1121,0),0)","v":{"$error":"#N/A"}},null,"",null,"",null,{"$error":"#N/A"}]
[null,{"$f":"OFFSET(Datos!$B$1,MATCH(A890,Datos!$A$2:$A$34,0),0)","v":{"$error":"#N/A"}},null,"",null,{"$f":"OFFSET(Datos!$G$1,MATCH(E890,Datos!$H$2:$H$1121,0),0)","v":{"$error":"#N/A"}},null,"",null,"",null,{"$error":"#N/A"}]
[null,{"$f":"OFFSET(Datos!$B$1,MATCH(A891,Datos!$A$2:$A$34,0),0)","v":{"$error":"#N/A"}},null,"",null,{"$f":"OFFSET(Datos!$G$1,MATCH(E891,Datos!$H$2:$H$1121,0),0)","v":{"$error":"#N/A"}},null,"",null,"",null,{"$error":"#N/A"}]
[null,{"$f":"OFFSET(Datos!$B$1,MATCH(A892,Datos!$A$2:$A$34,0),0)","v":{"$error":"#N/A"}},null,"",null,{"$f":"OFFSET(Datos!$G$1,MATCH(E892,Datos!$H$2:$H$1121,0),0)","v":{"$error":"#N/A"}},null,"",null,"",null,{"$error":"#N/A"}]
[null,{"$f":"OFFSET(Datos!$B$1,MATCH(A893,Datos!$A$2:$A$34,0),0)","v":{"$error":"#N/A"}},null,"",null,{"$f":"OFFSET(Datos!$G$1,MATCH(E893,Datos!$H$2:$H$1121,0),0)","v":{"$error":"#N/A"}},null,"",null,"",null,{"$error":"#N/A"}]
[null,{"$f":"OFFSET(Datos!$B$1,MATCH(A894,Datos!$A$2:$A$34,0),0)","v":{"$error":"#N/A"}},null,"",null,{"$f":"OFFSET(Datos!$G$1,MATCH(E894,Datos!$H$2:$H$1121,0),0)","v":{"$error":"#N/A"}},null,"",null,"",null,{"$error":"#N/A"}]
[null,{"$f":"OFFSET(Datos!$B$1,MATCH(A895,Datos!$A$2:$A$34,0),0)","v":{"$error":"#N/A"}},null,"",null,{"$f":"OFFSET(Datos!$G$1,MATCH(E895,Datos!$H$2:$H$1121,0),0)","v":{"$error":"#N/A"}},null,"",null,"",null,{"$error":"#N/A"}]
[null,{"$f":"OFFSET(Datos!$B$1,MATCH(A896,Datos!$A$2:$A$34,0),0)","v":{"$error":"#N/A"}},null,"",null,{"$f":"OFFSET(Datos!$G$1,MATCH(E896,Datos!$H$2:$H$1121,0),0)","v":{"$error":"#N/A"}},null,"",null,"",null,{"$error":"#N/A"}]
[null,{"$f":"OFFSET(Datos!$B$1,MATCH(A897,Datos!$A$2:$A$34,0),0)","v":{"$error":"#N/A"}},null,"",null,{"$f":"OFFSET(Datos!$G$1,MATCH(E897,Datos!$H$2:$H$1121,0),0)","v":{"$error":"#N/A"}},null,"",null,"",null,{"$error":"#N/A"}]
[null,{"$f":"OFFSET(Datos!$B$1,MATCH(A898,Datos!$A$2:$A$34,0),0)","v":{"$error":"#N/A"}},null,"",null,{"$f":"OFFSET(Datos!$G$1,MATCH(E898,Datos!$H$2:$H$1121,0),0)","v":{"$error":"#N/A"}},null,"",null,"",null,{"$error":"#N/A"}]
[null,{"$f":"OFFSET(Datos!$B$1,MATCH(A899,Datos!$A$2:$A$34,0),0)","v":{"$error":"#N/A"}},null,{"$f":"MID(C899,1,1)","v":""},null,{"$f":"OFFSET(Datos!$G$1,MATCH(E899,Datos!$H$2:$H$1121,0),0)","v":{"$error":"#N/A"}},null,{"$f":"MID(G899,1,2)","v":""},null,{"$f":"MID(I899,1,2)","v":""},null,{"$f":"CONCATENATE(B899,D899,F899,H899,J899,K899)","v":{"$error":"#N/A"}}]
[null,{"$f":"OFFSET(Datos!$B$1,MATCH(A900,Datos!$A$2:$A$34,0),0)","v":{"$error":"#N/A"}},null,"",null,{"$f":"OFFSET(Datos!$G$1,MATCH(E900,Datos!$H$2:$H$1121,0),0)","v":{"$error":"#N/A"}},null,"",null,"",null,{"$error":"#N/A"}]
[null,{"$f":"OFFSET(Datos!$B$1,MATCH(A901,Datos!$A$2:$A$34,0),0)","v":{"$error":"#N/A"}},null,"",null,{"$f":"OFFSET(Datos!$G$1,MATCH(E901,Datos!$H$2:$H$1121,0),0)","v":{"$error":"#N/A"}},null,"",null,"",null,{"$error":"#N/A"}]
[null,{"$f":"OFFSET(Datos!$B$1,MATCH(A902,Datos!$A$2:$A$34,0),0)","v":{"$error":"#N/A"}},null,"",null,{"$f":"OFFSET(Datos!$G$1,MATCH(E902,Datos!$H$2:$H$1121,0),0)","v":{"$error":"#N/A"}},null,"",null,"",null,{"$error":"#N/A"}]
[null,{"$f":"OFFSET(Datos!$B$1,MATCH(A903,Datos!$A$2:$A$34,0),0)","v":{"$error":"#N/A"}},null,"",null,{"$f":"OFFSET(Datos!$G$1,MATCH(E903,Datos!$H$2:$H$1121,0),0)","v":{"$error":"#N/A"}},null,"",null,"",null,{"$error":"#N/A"}]
[null,{"$f":"OFFSET(Datos!$B$1,MATCH(A904,Datos!$A$2:$A$34,0),0)","v":{"$error":"#N/A"}},null,"",null,{"$f":"OFFSET(Datos!$G$1,MATCH(E904,Datos!$H$2:$H$1121,0),0)","v":{"$error":"#N/A"}},null,"",null,"",null,{"$error":"#N/A"}]
[null,{"$f":"OFFSET(Datos!$B$1,MATCH(A905,Datos!$A$2:$A$34,0),0)","v":{"$error":"#N/A"}},null,"",null,{"$f":"OFFSET(Datos!$G$1,MATCH(E905,Datos!$H$2:$H$1121,0),0)","v":{"$error":"#N/A"}},null,"",null,"",null,{"$error":"#N/A"}]
[null,{"$f":"OFFSET(Datos!$B$1,MATCH(A906,Datos!$A$2:$A$34,0),0)","v":{"$error":"#N/A"}},null,"",null,{"$f":"OFFSET(Datos!$G$1,MATCH(E906,Datos!$H$2:$H$1121,0),0)","v":{"$error":"#N/A"}},null,"",null,"",null,{"$error":"#N/A"}]
[null,{"$f":"OFFSET(Datos!$B$1,MATCH(A907,Datos!$A$2:$A$34,0),0)","v":{"$error":"#N/A"}},null,"",null,{"$f":"OFFSET(Datos!$G$1,MATCH(E907,Datos!$H$2:$H$1121,0),0)","v":{"$error":"#N/A"}},null,"",null,"",null,{"$error":"#N/A"}]
[null,{"$f":"OFFSET(Datos!$B$1,MATCH(A908,Datos!$A$2:$A$34,0),0)","v":{"$error":"#N/A"}},null,"",null,{"$f":"OFFSET(Datos!$G$1,MATCH(E908,Datos!$H$2:$H$1121,0),0)","v":{"$error":"#N/A"}},null,"",null,"",null,{"$error":"#N/A"}]
[null,{"$f":"OFFSET(Datos!$B$1,MATCH(A909,Datos!$A$2:$A$34,0),0)","v":{"$error":"#N/A"}},null,"",null,{"$f":"OFFSET(Datos!$G$1,MATCH(E909,Datos!$H$2:$H$1121,0),0)","v":{"$error":"#N/A"}},null,"",null,"",null,{"$error":"#N/A"}]
[null,{"$f":"OFFSET(Datos!$B$1,MATCH(A910,Datos!$A$2:$A$34,0),0)","v":{"$error":"#N/A"}},null,"",null,{"$f":"OFFSET(Datos!$G$1,MATCH(E910,Datos!$H$2:$H$1121,0),0)","v":{"$error":"#N/A"}},null,"",null,"",null,{"$error":"#N/A"}]
[null,{"$f":"OFFSET(Datos!$B$1,MATCH(A911,Datos!$A$2:$A$34,0),0)","v":{"$error":"#N/A"}},null,"",null,{"$f":"OFFSET(Datos!$G$1,MATCH(E911,Datos!$H$2:$H$1121,0),0)","v":{"$error":"#N/A"}},null,"",null,"",null,{"$error":"#N/A"}]
[null,{"$f":"OFFSET(Datos!$B$1,MATCH(A912,Datos!$A$2:$A$34,0),0)","v":{"$error":"#N/A"}},null,"",null,{"$f":"OFFSET(Datos!$G$1,MATCH(E912,Datos!$H$2:$H$1121,0),0)","v":{"$error":"#N/A"}},null,"",null,"",null,{"$error":"#N/A"}]
[null,{"$f":"OFFSET(Datos!$B$1,MATCH(A913,Datos!$A$2:$A$34,0),0)","v":{"$error":"#N/A"}},null,"",null,{"$f":"OFFSET(Datos!$G$1,MATCH(E913,Datos!$H$2:$H$1121,0),0)","v":{"$error":"#N/A"}},null,"",null,"",null,{"$error":"#N/A"}]
[null,{"$f":"OFFSET(Datos!$B$1,MATCH(A914,Datos!$A$2:$A$34,0),0)","v":{"$error":"#N/A"}},null,"",null,{"$f":"OFFSET(Datos!$G$1,MATCH(E914,Datos!$H$2:$H$1121,0),0)","v":{"$error":"#N/A"}},null,"",null,"",null,{"$error":"#N/A"}]
[null,{"$f":"OFFSET(Datos!$B$1,MATCH(A915,Datos!$A$2:$A$34,0),0)","v":{"$error":"#N/A"}},null,"",null,{"$f":"OFFSET(Datos!$G$1,MATCH(E915,Datos!$H$2:$H$1121,0),0)","v":{"$error":"#N/A"}},null,"",null,"",null,{"$error":"#N/A"}]
[null,{"$f":"OFFSET(Datos!$B$1,MATCH(A916,Datos!$A$2:$A$34,0),0)","v":{"$error":"#N/A"}},null,"",null,{"$f":"OFFSET(Datos!$G$1,MATCH(E916,Datos!$H$2:$H$1121,0),0)","v":{"$error":"#N/A"}},null,"",null,"",null,{"$error":"#N/A"}]
[null,{"$f":"OFFSET(Datos!$B$1,MATCH(A917,Datos!$A$2:$A$34,0),0)","v":{"$error":"#N/A"}},null,"",null,{"$f":"OFFSET(Datos!$G$1,MATCH(E917,Datos!$H$2:$H$1121,0),0)","v":{"$error":"#N/A"}},null,"",null,"",null,{"$error":"#N/A"}]
[null,{"$f":"OFFSET(Datos!$B$1,MATCH(A918,Datos!$A$2:$A$34,0),0)","v":{"$error":"#N/A"}},null,"",null,{"$f":"OFFSET(Datos!$G$1,MATCH(E918,Datos!$H$2:$H$1121,0),0)","v":{"$error":"#N/A"}},null,"",null,"",null,{"$error":"#N/A"}]
[null,{"$f":"OFFSET(Datos!$B$1,MATCH(A919,Datos!$A$2:$A$34,0),0)","v":{"$error":"#N/A"}},null,"",null,{"$f":"OFFSET(Datos!$G$1,MATCH(E919,Datos!$H$2:$H$1121,0),0)","v":{"$error":"#N/A"}},null,"",null,"",null,{"$error":"#N/A"}]
[null,{"$f":"OFFSET(Datos!$B$1,MATCH(A920,Datos!$A$2:$A$34,0),0)","v":{"$error":"#N/A"}},null,"",null,{"$f":"OFFSET(Datos!$G$1,MATCH(E920,Datos!$H$2:$H$1121,0),0)","v":{"$error":"#N/A"}},null,"",null,"",null,{"$error":"#N/A"}]
[null,{"$f":"OFFSET(Datos!$B$1,MATCH(A921,Datos!$A$2:$A$34,0),0)","v":{"$error":"#N/A"}},null,"",null,{"$f":"OFFSET(Datos!$G$1,MATCH(E921,Datos!$H$2:$H$1121,0),0)","v":{"$error":"#N/A"}},null,"",null,"",null,{"$error":"#N/A"}]
[null,{"$f":"OFFSET(Datos!$B$1,MATCH(A922,Datos!$A$2:$A$34,0),0)","v":{"$error":"#N/A"}},null,"",null,{"$f":"OFFSET(Datos!$G$1,MATCH(E922,Datos!$H$2:$H$1121,0),0)","v":{"$error":"#N/A"}},null,"",null,"",null,{"$error":"#N/A"}]
[null,{"$f":"OFFSET(Datos!$B$1,MATCH(A923,Datos!$A$2:$A$34,0),0)","v":{"$error":"#N/A"}},null,"",null,{"$f":"OFFSET(Datos!$G$1,MATCH(E923,Datos!$H$2:$H$1121,0),0)","v":{"$error":"#N/A"}},null,"",null,"",null,{"$error":"#N/A"}]
[null,{"$f":"OFFSET(Datos!$B$1,MATCH(A924,Datos!$A$2:$A$34,0),0)","v":{"$error":"#N/A"}},null,"",null,{"$f":"OFFSET(Datos!$G$1,MATCH(E924,Datos!$H$2:$H$1121,0),0)","v":{"$error":"#N/A"}},null,"",null,"",null,{"$error":"#N/A"}]
[null,{"$f":"OFFSET(Datos!$B$1,MATCH(A925,Datos!$A$2:$A$34,0),0)","v":{"$error":"#N/A"}},null,"",null,{"$f":"OFFSET(Datos!$G$1,MATCH(E925,Datos!$H$2:$H$1121,0),0)","v":{"$error":"#N/A"}},null,"",null,"",null,{"$error":"#N/A"}]
[null,{"$f":"OFFSET(Datos!$B$1,MATCH(A926,Datos!$A$2:$A$34,0),0)","v":{"$error":"#N/A"}},null,"",null,{"$f":"OFFSET(Datos!$G$1,MATCH(E926,Datos!$H$2:$H$1121,0),0)","v":{"$error":"#N/A"}},null,"",null,"",null,{"$error":"#N/A"}]
[null,{"$f":"OFFSET(Datos!$B$1,MATCH(A927,Datos!$A$2:$A$34,0),0)","v":{"$error":"#N/A"}},null,"",null,{"$f":"OFFSET(Datos!$G$1,MATCH(E927,Datos!$H$2:$H$1121,0),0)","v":{"$error":"#N/A"}},null,"",null,"",null,{"$error":"#N/A"}]
[null,{"$f":"OFFSET(Datos!$B$1,MATCH(A928,Datos!$A$2:$A$34,0),0)","v":{"$error":"#N/A"}},null,"",null,{"$f":"OFFSET(Datos!$G$1,MATCH(E928,Datos!$H$2:$H$1121,0),0)","v":{"$error":"#N/A"}},null,"",null,"",null,{"$error":"#N/A"}]
[null,{"$f":"OFFSET(Datos!$B$1,MATCH(A929,Datos!$A$2:$A$34,0),0)","v":{"$error":"#N/A"}},null,"",null,{"$f":"OFFSET(Datos!$G$1,MATCH(E929,Datos!$H$2:$H$1121,0),0)","v":{"$error":"#N/A"}},null,"",null,"",null,{"$error":"#N/A"}]
[null,{"$f":"OFFSET(Datos!$B$1,MATCH(A930,Datos!$A$2:$A$34,0),0)","v":{"$error":"#N/A"}},null,"",null,{"$f":"OFFSET(Datos!$G$1,MATCH(E930,Datos!$H$2:$H$1121,0),0)","v":{"$error":"#N/A"}},null,"",null,"",null,{"$error":"#N/A"}]
[null,{"$f":"OFFSET(Datos!$B$1,MATCH(A931,Datos!$A$2:$A$34,0),0)","v":{"$error":"#N/A"}},null,"",null,{"$f":"OFFSET(Datos!$G$1,MATCH(E931,Datos!$H$2:$H$1121,0),0)","v":{"$error":"#N/A"}},null,"",null,"",null,{"$error":"#N/A"}]
[null,{"$f":"OFFSET(Datos!$B$1,MATCH(A932,Datos!$A$2:$A$34,0),0)","v":{"$error":"#N/A"}},null,"",null,{"$f":"OFFSET(Datos!$G$1,MATCH(E932,Datos!$H$2:$H$1121,0),0)","v":{"$error":"#N/A"}},null,"",null,"",null,{"$error":"#N/A"}]
[null,{"$f":"OFFSET(Datos!$B$1,MATCH(A933,Datos!$A$2:$A$34,0),0)","v":{"$error":"#N/A"}},null,"",null,{"$f":"OFFSET(Datos!$G$1,MATCH(E933,Datos!$H$2:$H$1121,0),0)","v":{"$error":"#N/A"}},null,"",null,"",null,{"$error":"#N/A"}]
[null,{"$f":"OFFSET(Datos!$B$1,MATCH(A934,Datos!$A$2:$A$34,0),0)","v":{"$error":"#N/A"}},null,"",null,{"$f":"OFFSET(Datos!$G$1,MATCH(E934,Datos!$H$2:$H$1121,0),0)","v":{"$error":"#N/A"}},null,"",null,"",null,{"$error":"#N/A"}]
[null,{"$f":"OFFSET(Datos!$B$1,MATCH(A935,Datos!$A$2:$A$34,0),0)","v":{"$error":"#N/A"}},null,"",null,{"$f":"OFFSET(Datos!$G$1,MATCH(E935,Datos!$H$2:$H$1121,0),0)","v":{"$error":"#N/A"}},null,"",null,"",null,{"$error":"#N/A"}]
[null,{"$f":"OFFSET(Datos!$B$1,MATCH(A936,Datos!$A$2:$A$34,0),0)","v":{"$error":"#N/A"}},null,"",null,{"$f":"OFFSET(Datos!$G$1,MATCH(E936,Datos!$H$2:$H$1121,0),0)","v":{"$error":"#N/A"}},null,"",null,"",null,{"$error":"#N/A"}]
[null,{"$f":"OFFSET(Datos!$B$1,MATCH(A937,Datos!$A$2:$A$34,0),0)","v":{"$error":"#N/A"}},null,"",null,{"$f":"OFFSET(Datos!$G$1,MATCH(E937,Datos!$H$2:$H$1121,0),0)","v":{"$error":"#N/A"}},null,"",null,"",null,{"$error":"#N/A"}]
[null,{"$f":"OFFSET(Datos!$B$1,MATCH(A938,Datos!$A$2:$A$34,0),0)","v":{"$error":"#N/A"}},null,"",null,{"$f":"OFFSET(Datos!$G$1,MATCH(E938,Datos!$H$2:$H$1121,0),0)","v":{"$error":"#N/A"}},null,"",null,"",null,{"$error":"#N/A"}]
[null,{"$f":"OFFSET(Datos!$B$1,MATCH(A939,Datos!$A$2:$A$34,0),0)","v":{"$error":"#N/A"}},null,"",null,{"$f":"OFFSET(Datos!$G$1,MATCH(E939,Datos!$H$2:$H$1121,0),0)","v":{"$error":"#N/A"}},null,"",null,"",null,{"$error":"#N/A"}]
[null,{"$f":"OFFSET(Datos!$B$1,MATCH(A940,Datos!$A$2:$A$34,0),0)","v":{"$error":"#N/A"}},null,"",null,{"$f":"OFFSET(Datos!$G$1,MATCH(E940,Datos!$H$2:$H$1121,0),0)","v":{"$error":"#N/A"}},null,"",null,"",null,{"$error":"#N/A"}]
[null,{"$f":"OFFSET(Datos!$B$1,MATCH(A941,Datos!$A$2:$A$34,0),0)","v":{"$error":"#N/A"}},null,"",null,{"$f":"OFFSET(Datos!$G$1,MATCH(E941,Datos!$H$2:$H$1121,0),0)","v":{"$error":"#N/A"}},null,"",null,"",null,{"$error":"#N/A"}]
[null,{"$f":"OFFSET(Datos!$B$1,MATCH(A942,Datos!$A$2:$A$34,0),0)","v":{"$error":"#N/A"}},null,"",null,{"$f":"OFFSET(Datos!$G$1,MATCH(E942,Datos!$H$2:$H$1121,0),0)","v":{"$error":"#N/A"}},null,"",null,"",null,{"$error":"#N/A"}]
[null,{"$f":"OFFSET(Datos!$B$1,MATCH(A943,Datos!$A$2:$A$34,0),0)","v":{"$error":"#N/A"}},null,"",null,{"$f":"OFFSET(Datos!$G$1,MATCH(E943,Datos!$H$2:$H$1121,0),0)","v":{"$error":"#N/A"}},null,"",null,"",null,{"$error":"#N/A"}]
[null,{"$f":"OFFSET(Datos!$B$1,MATCH(A944,Datos!$A$2:$A$34,0),0)","v":{"$error":"#N/A"}},null,"",null,{"$f":"OFFSET(Datos!$G$1,MATCH(E944,Datos!$H$2:$H$1121,0),0)","v":{"$error":"#N/A"}},null,"",null,"",null,{"$error":"#N/A"}]
[null,{"$f":"OFFSET(Datos!$B$1,MATCH(A945,Datos!$A$2:$A$34,0),0)","v":{"$error":"#N/A"}},null,"",null,{"$f":"OFFSET(Datos!$G$1,MATCH(E945,Datos!$H$2:$H$1121,0),0)","v":{"$error":"#N/A"}},null,"",null,"",null,{"$error":"#N/A"}]
[null,{"$f":"OFFSET(Datos!$B$1,MATCH(A946,Datos!$A$2:$A$34,0),0)","v":{"$error":"#N/A"}},null,"",null,{"$f":"OFFSET(Datos!$G$1,MATCH(E946,Datos!$H$2:$H$1121,0),0)","v":{"$error":"#N/A"}},null,"",null,"",null,{"$error":"#N/A"}]
[null,{"$f":"OFFSET(Datos!$B$1,MATCH(A947,Datos!$A$2:$A$34,0),0)","v":{"$error":"#N/A"}},null,"",null,{"$f":"OFFSET(Datos!$G$1,MATCH(E947,Datos!$H$2:$H$1121,0),0)","v":{"$error":"#N/A"}},null,"",null,"",null,{"$error":"#N/A"}]
[null,{"$f":"OFFSET(Datos!$B$1,MATCH(A948,Datos!$A$2:$A$34,0),0)","v":{"$error":"#N/A"}},null,"",null,{"$f":"OFFSET(Datos!$G$1,MATCH(E948,Datos!$H$2:$H$1121,0),0)","v":{"$error":"#N/A"}},null,"",null,"",null,{"$error":"#N/A"}]
[null,{"$f":"OFFSET(Datos!$B$1,MATCH(A949,Datos!$A$2:$A$34,0),0)","v":{"$error":"#N/A"}},null,"",null,{"$f":"OFFSET(Datos!$G$1,MATCH(E949,Datos!$H$2:$H$1121,0),0)","v":{"$error":"#N/A"}},null,"",null,"",null,{"$error":"#N/A"}]
[null,{"$f":"OFFSET(Datos!$B$1,MATCH(A950,Datos!$A$2:$A$34,0),0)","v":{"$error":"#N/A"}},null,"",null,{"$f":"OFFSET(Datos!$G$1,MATCH(E950,Datos!$H$2:$H$1121,0),0)","v":{"$error":"#N/A"}},null,"",null,"",null,{"$error":"#N/A"}]
[null,{"$f":"OFFSET(Datos!$B$1,MATCH(A951,Datos!$A$2:$A$34,0),0)","v":{"$error":"#N/A"}},null,"",null,{"$f":"OFFSET(Datos!$G$1,MATCH(E951,Datos!$H$2:$H$1121,0),0)","v":{"$error":"#N/A"}},null,"",null,"",null,{"$error":"#N/A"}]
[null,{"$f":"OFFSET(Datos!$B$1,MATCH(A952,Datos!$A$2:$A$34,0),0)","v":{"$error":"#N/A"}},null,"",null,{"$f":"OFFSET(Datos!$G$1,MATCH(E952,Datos!$H$2:$H$1121,0),0)","v":{"$error":"#N/A"}},null,"",null,"",null,{"$error":"#N/A"}]
[null,{"$f":"OFFSET(Datos!$B$1,MATCH(A953,Datos!$A$2:$A$34,0),0)","v":{"$error":"#N/A"}},null,"",null,{"$f":"OFFSET(Datos!$G$1,MATCH(E953,Datos!$H$2:$H$1121,0),0)","v":{"$error":"#N/A"}},null,"",null,"",null,{"$error":"#N/A"}]
[null,{"$f":"OFFSET(Datos!$B$1,MATCH(A954,Datos!$A$2:$A$34,0),0)","v":{"$error":"#N/A"}},null,"",null,{"$f":"OFFSET(Datos!$G$1,MATCH(E954,Datos!$H$2:$H$1121,0),0)","v":{"$error":"#N/A"}},null,"",null,"",null,{"$error":"#N/A"}]
[null,{"$f":"OFFSET(Datos!$B$1,MATCH(A955,Datos!$A$2:$A$34,0),0)","v":{"$error":"#N/A"}},null,"",null,{"$f":"OFFSET(Datos!$G$1,MATCH(E955,Datos!$H$2:$H$1121,0),0)","v":{"$error":"#N/A"}},null,"",null,"",null,{"$error":"#N/A"}]
[null,{"$f":"OFFSET(Datos!$B$1,MATCH(A956,Datos!$A$2:$A$34,0),0)","v":{"$error":"#N/A"}},null,"",null,{"$f":"OFFSET(Datos!$G$1,MATCH(E956,Datos!$H$2:$H$1121,0),0)","v":{"$error":"#N/A"}},null,"",null,"",null,{"$error":"#N/A"}]
[null,{"$f":"OFFSET(Datos!$B$1,MATCH(A957,Datos!$A$2:$A$34,0),0)","v":{"$error":"#N/A"}},null,"",null,{"$f":"OFFSET(Datos!$G$1,MATCH(E957,Datos!$H$2:$H$1121,0),0)","v":{"$error":"#N/A"}},null,"",null,"",null,{"$error":"#N/A"}]
[null,{"$f":"OFFSET(Datos!$B$1,MATCH(A958,Datos!$A$2:$A$34,0),0)","v":{"$error":"#N/A"}},null,"",null,{"$f":"OFFSET(Datos!$G$1,MATCH(E958,Datos!$H$2:$H$1121,0),0)","v":{"$error":"#N/A"}},null,"",null,"",null,{"$error":"#N/A"}]
[null,{"$f":"OFFSET(Datos!$B$1,MATCH(A959,Datos!$A$2:$A$34,0),0)","v":{"$error":"#N/A"}},null,"",null,{"$f":"OFFSET(Datos!$G$1,MATCH(E959,Datos!$H$2:$H$1121,0),0)","v":{"$error":"#N/A"}},null,"",null,"",null,{"$error":"#N/A"}]
[null,{"$f":"OFFSET(Datos!$B$1,MATCH(A960,Datos!$A$2:$A$34,0),0)","v":{"$error":"#N/A"}},null,"",null,{"$f":"OFFSET(Datos!$G$1,MATCH(E960,Datos!$H$2:$H$1121,0),0)","v":{"$error":"#N/A"}},null,"",null,"",null,{"$error":"#N/A"}]
[null,{"$f":"OFFSET(Datos!$B$1,MATCH(A961,Datos!$A$2:$A$34,0),0)","v":{"$error":"#N/A"}},null,"",null,{"$f":"OFFSET(Datos!$G$1,MATCH(E961,Datos!$H$2:$H$1121,0),0)","v":{"$error":"#N/A"}},null,"",null,"",null,{"$error":"#N/A"}]
[null,{"$f":"OFFSET(Datos!$B$1,MATCH(A962,Datos!$A$2:$A$34,0),0)","v":{"$error":"#N/A"}},null,"",null,{"$f":"OFFSET(Datos!$G$1,MATCH(E962,Datos!$H$2:$H$1121,0),0)","v":{"$error":"#N/A"}},null,"",null,"",null,{"$error":"#N/A"}]
[null,{"$f":"OFFSET(Datos!$B$1,MATCH(A963,Datos!$A$2:$A$34,0),0)","v":{"$error":"#N/A"}},null,{"$f":"MID(C963,1,1)","v":""},null,{"$f":"OFFSET(Datos!$G$1,MATCH(E963,Datos!$H$2:$H$1121,0),0)","v":{"$error":"#N/A"}},null,{"$f":"MID(G963,1,2)","v":""},null,{"$f":"MID(I963,1,2)","v":""},null,{"$f":"CONCATENATE(B963,D963,F963,H963,J963,K963)","v":{"$error":"#N/A"}}]
[null,{"$f":"OFFSET(Datos!$B$1,MATCH(A964,Datos!$A$2:$A$34,0),0)","v":{"$error":"#N/A"}},null,"",null,{"$f":"OFFSET(Datos!$G$1,MATCH(E964,Datos!$H$2:$H$1121,0),0)","v":{"$error":"#N/A"}},null,"",null,"",null,{"$error":"#N/A"}]
[null,{"$f":"OFFSET(Datos!$B$1,MATCH(A965,Datos!$A$2:$A$34,0),0)","v":{"$error":"#N/A"}},null,"",null,{"$f":"OFFSET(Datos!$G$1,MATCH(E965,Datos!$H$2:$H$1121,0),0)","v":{"$error":"#N/A"}},null,"",null,"",null,{"$error":"#N/A"}]
[null,{"$f":"OFFSET(Datos!$B$1,MATCH(A966,Datos!$A$2:$A$34,0),0)","v":{"$error":"#N/A"}},null,"",null,{"$f":"OFFSET(Datos!$G$1,MATCH(E966,Datos!$H$2:$H$1121,0),0)","v":{"$error":"#N/A"}},null,"",null,"",null,{"$error":"#N/A"}]
[null,{"$f":"OFFSET(Datos!$B$1,MATCH(A967,Datos!$A$2:$A$34,0),0)","v":{"$error":"#N/A"}},null,"",null,{"$f":"OFFSET(Datos!$G$1,MATCH(E967,Datos!$H$2:$H$1121,0),0)","v":{"$error":"#N/A"}},null,"",null,"",null,{"$error":"#N/A"}]
[null,{"$f":"OFFSET(Datos!$B$1,MATCH(A968,Datos!$A$2:$A$34,0),0)","v":{"$error":"#N/A"}},null,"",null,{"$f":"OFFSET(Datos!$G$1,MATCH(E968,Datos!$H$2:$H$1121,0),0)","v":{"$error":"#N/A"}},null,"",null,"",null,{"$error":"#N/A"}]
[null,{"$f":"OFFSET(Datos!$B$1,MATCH(A969,Datos!$A$2:$A$34,0),0)","v":{"$error":"#N/A"}},null,"",null,{"$f":"OFFSET(Datos!$G$1,MATCH(E969,Datos!$H$2:$H$1121,0),0)","v":{"$error":"#N/A"}},null,"",null,"",null,{"$error":"#N/A"}]
[null,{"$f":"OFFSET(Datos!$B$1,MATCH(A970,Datos!$A$2:$A$34,0),0)","v":{"$error":"#N/A"}},null,"",null,{"$f":"OFFSET(Datos!$G$1,MATCH(E970,Datos!$H$2:$H$1121,0),0)","v":{"$error":"#N/A"}},"13 Mecanico","13",null,"",null,{"$error":"#N/A"}]
[null,{"$f":"OFFSET(Datos!$B$1,MATCH(A971,Datos!$A$2:$A$34,0),0)","v":{"$error":"#N/A"}},null,"",null,{"$f":"OFFSET(Datos!$G$1,MATCH(E971,Datos!$H$2:$H$1121,0),0)","v":{"$error":"#N/A"}},null,"",null,"",null,{"$error":"#N/A"}]
[null,{"$f":"OFFSET(Datos!$B$1,MATCH(A972,Datos!$A$2:$A$34,0),0)","v":{"$error":"#N/A"}},null,"",null,{"$f":"OFFSET(Datos!$G$1,MATCH(E972,Datos!$H$2:$H$1121,0),0)","v":{"$error":"#N/A"}},null,"",null,"",null,{"$error":"#N/A"}]
[null,{"$f":"OFFSET(Datos!$B$1,MATCH(A973,Datos!$A$2:$A$34,0),0)","v":{"$error":"#N/A"}},null,"",null,{"$f":"OFFSET(Datos!$G$1,MATCH(E973,Datos!$H$2:$H$1121,0),0)","v":{"$error":"#N/A"}},null,"",null,"",null,{"$error":"#N/A"}]
[null,{"$f":"OFFSET(Datos!$B$1,MATCH(A974,Datos!$A$2:$A$34,0),0)","v":{"$error":"#N/A"}},null,"",null,{"$f":"OFFSET(Datos!$G$1,MATCH(E974,Datos!$H$2:$H$1121,0),0)","v":{"$error":"#N/A"}},null,"",null,"",null,{"$error":"#N/A"}]
[null,{"$f":"OFFSET(Datos!$B$1,MATCH(A975,Datos!$A$2:$A$34,0),0)","v":{"$error":"#N/A"}},null,"",null,{"$f":"OFFSET(Datos!$G$1,MATCH(E975,Datos!$H$2:$H$1121,0),0)","v":{"$error":"#N/A"}},null,"",null,"",null,{"$error":"#N/A"}]
[null,{"$f":"OFFSET(Datos!$B$1,MATCH(A976,Datos!$A$2:$A$34,0),0)","v":{"$error":"#N/A"}},null,"",null,{"$f":"OFFSET(Datos!$G$1,MATCH(E976,Datos!$H$2:$H$1121,0),0)","v":{"$error":"#N/A"}},null,"",null,"",null,{"$error":"#N/A"}]
[null,{"$f":"OFFSET(Datos!$B$1,MATCH(A977,Datos!$A$2:$A$34,0),0)","v":{"$error":"#N/A"}},null,"",null,{"$f":"OFFSET(Datos!$G$1,MATCH(E977,Datos!$H$2:$H$1121,0),0)","v":{"$error":"#N/A"}},null,"",null,"",null,{"$error":"#N/A"}]
[null,{"$f":"OFFSET(Datos!$B$1,MATCH(A978,Datos!$A$2:$A$34,0),0)","v":{"$error":"#N/A"}},null,"",null,{"$f":"OFFSET(Datos!$G$1,MATCH(E978,Datos!$H$2:$H$1121,0),0)","v":{"$error":"#N/A"}},null,"",null,"",null,{"$error":"#N/A"}]
[null,{"$f":"OFFSET(Datos!$B$1,MATCH(A979,Datos!$A$2:$A$34,0),0)","v":{"$error":"#N/A"}},null,"",null,{"$f":"OFFSET(Datos!$G$1,MATCH(E979,Datos!$H$2:$H$1121,0),0)","v":{"$error":"#N/A"}},null,"",null,"",null,{"$error":"#N/A"}]
[null,{"$f":"OFFSET(Datos!$B$1,MATCH(A980,Datos!$A$2:$A$34,0),0)","v":{"$error":"#N/A"}},null,"",null,{"$f":"OFFSET(Datos!$G$1,MATCH(E980,Datos!$H$2:$H$1121,0),0)","v":{"$error":"#N/A"}},null,"",null,"",null,{"$error":"#N/A"}]
[null,{"$f":"OFFSET(Datos!$B$1,MATCH(A981,Datos!$A$2:$A$34,0),0)","v":{"$error":"#N/A"}},null,"",null,{"$f":"OFFSET(Datos!$G$1,MATCH(E981,Datos!$H$2:$H$1121,0),0)","v":{"$error":"#N/A"}},null,"",null,"",null,{"$error":"#N/A"}]
[null,{"$f":"OFFSET(Datos!$B$1,MATCH(A982,Datos!$A$2:$A$34,0),0)","v":{"$error":"#N/A"}},null,"",null,{"$f":"OFFSET(Datos!$G$1,MATCH(E982,Datos!$H$2:$H$1121,0),0)","v":{"$error":"#N/A"}},null,"",null,"",null,{"$error":"#N/A"}]
[null,{"$f":"OFFSET(Datos!$B$1,MATCH(A983,Datos!$A$2:$A$34,0),0)","v":{"$error":"#N/A"}},null,"",null,{"$f":"OFFSET(Datos!$G$1,MATCH(E983,Datos!$H$2:$H$1121,0),0)","v":{"$error":"#N/A"}},null,"",null,"",null,{"$error":"#N/A"}]
[null,{"$f":"OFFSET(Datos!$B$1,MATCH(A984,Datos!$A$2:$A$34,0),0)","v":{"$error":"#N/A"}},null,"",null,{"$f":"OFFSET(Datos!$G$1,MATCH(E984,Datos!$H$2:$H$1121,0),0)","v":{"$error":"#N/A"}},null,"",null,"",null,{"$error":"#N/A"}]
[null,{"$f":"OFFSET(Datos!$B$1,MATCH(A985,Datos!$A$2:$A$34,0),0)","v":{"$error":"#N/A"}},null,"",null,{"$f":"OFFSET(Datos!$G$1,MATCH(E985,Datos!$H$2:$H$1121,0),0)","v":{"$error":"#N/A"}},null,"",null,"",null,{"$error":"#N/A"}]
[null,{"$f":"OFFSET(Datos!$B$1,MATCH(A986,Datos!$A$2:$A$34,0),0)","v":{"$error":"#N/A"}},null,"",null,{"$f":"OFFSET(Datos!$G$1,MATCH(E986,Datos!$H$2:$H$1121,0),0)","v":{"$error":"#N/A"}},null,"",null,"",null,{"$error":"#N/A"}]
[null,{"$f":"OFFSET(Datos!$B$1,MATCH(A987,Datos!$A$2:$A$34,0),0)","v":{"$error":"#N/A"}},null,"",null,{"$f":"OFFSET(Datos!$G$1,MATCH(E987,Datos!$H$2:$H$1121,0),0)","v":{"$error":"#N/A"}},null,"",null,"",null,{"$error":"#N/A"}]
[null,{"$f":"OFFSET(Datos!$B$1,MATCH(A988,Datos!$A$2:$A$34,0),0)","v":{"$error":"#N/A"}},null,"",null,{"$f":"OFFSET(Datos!$G$1,MATCH(E988,Datos!$H$2:$H$1121,0),0)","v":{"$error":"#N/A"}},null,"",null,"",null,{"$error":"#N/A"}]
[null,{"$f":"OFFSET(Datos!$B$1,MATCH(A989,Datos!$A$2:$A$34,0),0)","v":{"$error":"#N/A"}},null,"",null,{"$f":"OFFSET(Datos!$G$1,MATCH(E989,Datos!$H$2:$H$1121,0),0)","v":{"$error":"#N/A"}},null,"",null,"",null,{"$error":"#N/A"}]
[null,{"$f":"OFFSET(Datos!$B$1,MATCH(A990,Datos!$A$2:$A$34,0),0)","v":{"$error":"#N/A"}},null,"",null,{"$f":"OFFSET(Datos!$G$1,MATCH(E990,Datos!$H$2:$H$1121,0),0)","v":{"$error":"#N/A"}},null,"",null,"",null,{"$error":"#N/A"}]
[null,{"$f":"OFFSET(Datos!$B$1,MATCH(A991,Datos!$A$2:$A$34,0),0)","v":{"$error":"#N/A"}},null,"",null,{"$f":"OFFSET(Datos!$G$1,MATCH(E991,Datos!$H$2:$H$1121,0),0)","v":{"$error":"#N/A"}},null,"",null,"",null,{"$error":"#N/A"}]
[null,{"$f":"OFFSET(Datos!$B$1,MATCH(A992,Datos!$A$2:$A$34,0),0)","v":{"$error":"#N/A"}},null,"",null,{"$f":"OFFSET(Datos!$G$1,MATCH(E992,Datos!$H$2:$H$1121,0),0)","v":{"$error":"#N/A"}},null,"",null,"",null,{"$error":"#N/A"}]
[null,{"$f":"OFFSET(Datos!$B$1,MATCH(A993,Datos!$A$2:$A$34,0),0)","v":{"$error":"#N/A"}},null,"",null,{"$f":"OFFSET(Datos!$G$1,MATCH(E993,Datos!$H$2:$H$1121,0),0)","v":{"$error":"#N/A"}},null,"",null,"",null,{"$error":"#N/A"}]
[null,{"$f":"OFFSET(Datos!$B$1,MATCH(A994,Datos!$A$2:$A$34,0),0)","v":{"$error":"#N/A"}},null,"",null,{"$f":"OFFSET(Datos!$G$1,MATCH(E994,Datos!$H$2:$H$1121,0),0)","v":{"$error":"#N/A"}},null,"",null,"",null,{"$error":"#N/A"}]
[null,{"$f":"OFFSET(Datos!$B$1,MATCH(A995,Datos!$A$2:$A$34,0),0)","v":{"$error":"#N/A"}},null,"",null,{"$f":"OFFSET(Datos!$G$1,MATCH(E995,Datos!$H$2:$H$1121,0),0)","v":{"$error":"#N/A"}},null,"",null,"",null,{"$error":"#N/A"}]
[null,{"$f":"OFFSET(Datos!$B$1,MATCH(A996,Datos!$A$2:$A$34,0),0)","v":{"$error":"#N/A"}},null,"",null,{"$f":"OFFSET(Datos!$G$1,MATCH(E996,Datos!$H$2:$H$1121,0),0)","v":{"$error":"#N/A"}},null,"",null,"",null,{"$error":"#N/A"}]
[null,{"$f":"OFFSET(Datos!$B$1,MATCH(A997,Datos!$A$2:$A$34,0),0)","v":{"$error":"#N/A"}},null,"",null,{"$f":"OFFSET(Datos!$G$1,MATCH(E997,Datos!$H$2:$H$1121,0),0)","v":{"$error":"#N/A"}},null,"",null,"",null,{"$error":"#N/A"}]
[null,{"$f":"OFFSET(Datos!$B$1,MATCH(A998,Datos!$A$2:$A$34,0),0)","v":{"$error":"#N/A"}},null,"",null,{"$f":"OFFSET(Datos!$G$1,MATCH(E998,Datos!$H$2:$H$1121,0),0)","v":{"$error":"#N/A"}},null,"",null,"",null,{"$error":"#N/A"}]
[null,{"$f":"OFFSET(Datos!$B$1,MATCH(A999,Datos!$A$2:$A$34,0),0)","v":{"$error":"#N/A"}},null,"",null,{"$f":"OFFSET(Datos!$G$1,MATCH(E999,Datos!$H$2:$H$1121,0),0)","v":{"$error":"#N/A"}},null,"",null,"",null,{"$error":"#N/A"}]
[null,{"$f":"OFFSET(Datos!$B$1,MATCH(A1000,Datos!$A$2:$A$34,0),0)","v":{"$error":"#N/A"}},null,"",null,{"$f":"OFFSET(Datos!$G$1,MATCH(E1000,Datos!$H$2:$H$1121,0),0)","v":{"$error":"#N/A"}},null,"",null,"",null,{"$error":"#N/A"}]

{"sheet":"Datos","index":1,"n_rows":1121,"n_cols":16,"rows_kept":1121,"cut":false,"hidden":false,"merged":[[28,9,29,9],[22,13,23,13],[40,13,43,13],[26,13,38,13],[1,13,3,13],[1,9,11,9],[6,13,20,13],[12,9,16,9],[17,9,27,9]]}
["Nombre Departamento","Código Deapartamento",null,"Nombre Departamento","Nombre Municipio",null,"Código Municipio","Nombre Municipio",null,"SERVICIO","SUBSERVICIO","MACRO"]
["ANTIOQUIA","05",null,"ANTIOQUIA","MEDELLIN",null,"001","MEDELLIN",null,"Recoleccion","01 Recoleccion Domiciliaria","01",null,"Turno","1 DIA",1]
["ATLANTICO","08",null,"ANTIOQUIA","ABEJORRAL",null,"002","ABEJORRAL",null,null,"02 Recoleccion Grandes Generadores","02",null,null,"2 TARDE",2]
["BOGOTA","11",null,"ANTIOQUIA","ABRIAQUI",null,"004","ABRIAQUI",null,null,"03 Recoleccion Barrido Manual y Empuje","03",null,null,"3 NOCHE",3]
["BOLIVAR","13",null,"ANTIOQUIA","ALEJANDRIA",null,"021","ALEJANDRIA",null,null,"04 Recoleccion Barrido de Playa","04"]
["BOYACA","15",null,"ANTIOQUIA","AMAGA",null,"030","AMAGA",null,null,"05 Recoleccion Barrido Mecanico","05"]
["CALDAS","17",null,"ANTIOQUIA","AMALFI",null,"031","AMALFI",null,null,"06 Recoleccion Comercial","06",null,"Frecuencia","01 LU-MI-VI","01"]
["CAQUETA","18",null,"ANTIOQUIA","ANDES",null,"034","ANDES",null,null,"07 Recoleccion Vias principales","07",null,null,"02 MA-JU-SA","02"]
["CAUCA","19",null,"ANTIOQUIA","ANGELOPOLIS",null,"036","ANGELOPOLIS",null,null,"08 Recoleccion Rural","08",null,null,"03 LU-JU","03"]
["CESAR","20",null,"ANTIOQUIA","ANGOSTURA",null,"038","ANGOSTURA",null,null,"09 Recoleccion Lateral","09",null,null,"04 MA-VI","04"]
["CORDOBA","23",null,"ANTIOQUIA","ANORI",null,"040","ANORI",null,null,"10 Recoleccion Aprovechamiento","10",null,null,"05 MI-SA","05"]
["CUNDINAMARCA","25",null,"ANTIOQUIA","SANTAFE DE ANTIOQUIA",null,"042","SANTAFE DE ANTIOQUIA",null,null,"11 Recoleccion Sub-Normal","11",null,null,"06 LU-MA-MI-JU-VI-SA","06"]
["CHOCO","27",null,"ANTIOQUIA","ANZA",null,"044","ANZA",null,"Clus","17  Lavado Areas Publicas","17",null,null,"07 LU-MA-MI-JU-VI-SA-DO","07"]
["HUILA","41",null,"ANTIOQUIA","APARTADO",null,"045","APARTADO",null,null,"18 Limpieza de Playas","18",null,null,"08 DO","08"]
["GUAJIRA","44",null,"ANTIOQUIA","ARBOLETES",null,"051","ARBOLETES",null,null,"19 Corte Cesped","19",null,null,"09 LU","09"]
["MAGDALENA","47",null,"ANTIOQUIA","ARGELIA",null,"055","ARGELIA",null,null,"20 Podas Arboles","20",null,null,"10 MA","10"]
["META","50",null,"ANTIOQUIA","ARMENIA",null,"059","ARMENIA",null,null,"21 Mantenimiento Cestas","21",null,null,"11 MI","11"]
["NARIÑO","52",null,"ANTIOQUIA","BARBOSA",null,"079","BARBOSA",null,"Servicios Especiales","22 Limpieza de botaderos","22",null,null,"12 JU","12"]
["NORTEDESANTANDER","54",null,"ANTIOQUIA","BELMIRA",null,"086","BELMIRA",null,null,"23 Limpieza de vias y areas publicas","23",null,null,"13 VI","13"]
["QUINDIO","63",null,"ANTIOQUIA","BELLO",null,"088","BELLO",null,null,"24 Madera","24",null,null,"14 SA","14"]
["RISARALDA","66",null,"ANTIOQUIA","BETANIA",null,"091","BETANIA",null,null,"25 Raspe","25",null,null,"15 Mesual","15"]
["SANTANDER","68",null,"ANTIOQUIA","BETULIA",null,"093","BETULIA",null,null,"26 Eventos Regionales","26"]
["SUCRE","70",null,"ANTIOQUIA","CIUDAD BOLIVAR",null,"101","CIUDAD BOLIVAR",null,null,"27 Limalla","27",null,"Ejecuta","SI"]
["TOLIMA","73",null,"ANTIOQUIA","BRICEÑO",null,"107","BRICEÑO",null,null,"28 Escombros","28",null,null,"NO"]
["VALLEDELCAUCA","76",null,"ANTIOQUIA","BURITICA",null,"113","BURITICA",null,null,"29 Inorganicos","29"]
["ARAUCA","81",null,"ANTIOQUIA","CACERES",null,"120","CACERES",null,null,"30 Carbonilla","30"]
["CASANARE","85",null,"ANTIOQUIA","CAICEDO",null,"125","CAICEDO",null,null,"31 Recoleccion Podas","31",null,"Tipo de Vehiculos","COMPACTADOR 25Y"]
["PUTUMAYO","86",null,"ANTIOQUIA","CALDAS",null,"129","CALDAS",null,null,"32 Voluminosos","32",null,null,"COMPACTADOR 20Y"]
["SAN ANDRES","88",null,"ANTIOQUIA","CAMPAMENTO",null,"134","CAMPAMENTO",null,"Respel","33 Recoleccion Hospitalaria","33",null,null,"COMPACTADOR 16Y"]
["AMAZONAS","91",null,"ANTIOQUIA","CAÑASGORDAS",null,"138","CAÑASGORDAS",null,null,"34 Respel","34",null,null,"COMPACTADOR 10Y"]
["GUAINIA","94",null,"ANTIOQUIA","CARACOLI",null,"142","CARACOLI",null,"Multicontainer","35 Recoleccion Multicontaniner","35",null,null,"COMPACTADOR 16Y"]
["GUAVIARE","95",null,"ANTIOQUIA","CARAMANTA",null,"145","CARAMANTA",null,"Estación de transferencia","36 Estación de transferencia","36",null,null,"COMPACTADOR LATERAL"]
["VAUPES","97",null,"ANTIOQUIA","CAREPA",null,"147","CAREPA",null,"Lavado Contenedores","37 Lateral","37",null,null,"LAVA CONTENEDOR"]
["VICHADA","99",null,"ANTIOQUIA","EL CARMEN DE VIBORAL",null,"148","EL CARMEN DE VIBORAL",null,null,null,null,null,null,"VOLQUETA SENCILLA"]
[null,null,null,"ANTIOQUIA","CAROLINA",null,"150","CAROLINA",null,null,null,null,null,null,"VOLQUETA DOBLETOQUE"]
[null,null,null,"ANTIOQUIA","CAUCASIA",null,"154","CAUCASIA",null,null,null,null,null,null,"AMPLIROLL"]
[null,null,null,"ANTIOQUIA","CHIGORODO",null,"172","CHIGORODO",null,null,null,null,null,null,"MULTICONTAINER"]
[null,null,null,"ANTIOQUIA","CISNEROS",null,"190","CISNEROS",null,null,null,null,null,null,"GRAPPLE"]
[null,null,null,"ANTIOQUIA","COCORNA",null,"197","COCORNA",null,null,null,null,null,null,"FURGON"]
[null,null,null,"ANTIOQUIA","CONCEPCION",null,"206","CONCEPCION"]
[null,null,null,"ANTIOQUIA","CONCORDIA",null,"209","CONCORDIA",null,null,null,null,null,"Tipo de Bolsas","ALTALENE"]
[null,null,null,"ANTIOQUIA","COPACABANA",null,"212","COPACABANA",null,null,null,null,null,null,"DESARENE"]
[null,null,null,"ANTIOQUIA","DABEIBA",null,"234","DABEIBA",null,null,null,null,null,null,"JUMBO"]
[null,null,null,"ANTIOQUIA","DON MATIAS",null,"237","DON MATIAS",null,null,null,null,null,null,"BARREDORA"]
[null,null,null,"ANTIOQUIA","EBEJICO",null,"240","EBEJICO"]
[null,null,null,"ANTIOQUIA","EL BAGRE",null,"250","EL BAGRE"]
[null,null,null,"ANTIOQUIA","ENTRERRIOS",null,"264","ENTRERRIOS"]
[null,null,null,"ANTIOQUIA","ENVIGADO",null,"266","ENVIGADO"]
[null,null,null,"ANTIOQUIA","FREDONIA",null,"282","FREDONIA"]
[null,null,null,"ANTIOQUIA","FRONTINO",null,"284","FRONTINO"]
[null,null,null,"ANTIOQUIA","GIRALDO",null,"306","GIRALDO"]
[null,null,null,"ANTIOQUIA","GIRARDOTA",null,"308","GIRARDOTA"]
[null,null,null,"ANTIOQUIA","GOMEZ PLATA",null,"310","GOMEZ PLATA"]
[null,null,null,"ANTIOQUIA","GRANADA",null,"313","GRANADA"]
[null,null,null,"ANTIOQUIA","GUADALUPE",null,"315","GUADALUPE"]
[null,null,null,"ANTIOQUIA","GUARNE",null,"318","GUARNE"]
[null,null,null,"ANTIOQUIA","GUATAPE",null,"321","GUATAPE"]
[null,null,null,"ANTIOQUIA","HELICONIA",null,"347","HELICONIA"]
[null,null,null,"ANTIOQUIA","HISPANIA",null,"353","HISPANIA"]
[null,null,null,"ANTIOQUIA","ITAGUI",null,"360","ITAGUI"]
[null,null,null,"ANTIOQUIA","ITUANGO",null,"361","ITUANGO"]
[null,null,null,"ANTIOQUIA","JARDIN",null,"364","JARDIN"]
[null,null,null,"ANTIOQUIA","JERICO",null,"368","JERICO"]
[null,null,null,"ANTIOQUIA","LA CEJA",null,"376","LA CEJA"]
[null,null,null,"ANTIOQUIA","LA ESTRELLA",null,"380","LA ESTRELLA"]
[null,null,null,"ANTIOQUIA","LA PINTADA",null,"390","LA PINTADA"]
[null,null,null,"ANTIOQUIA","LA UNION",null,"400","LA UNION"]
[null,null,null,"ANTIOQUIA","LIBORINA",null,"411","LIBORINA"]
[null,null,null,"ANTIOQUIA","MACEO",null,"425","MACEO"]
[null,null,null,"ANTIOQUIA","MARINILLA",null,"440","MARINILLA"]
[null,null,null,"ANTIOQUIA","MONTEBELLO",null,"467","MONTEBELLO"]
[null,null,null,"ANTIOQUIA","MURINDO",null,"475","MURINDO"]
[null,null,null,"ANTIOQUIA","MUTATA",null,"480","MUTATA"]
[null,null,null,"ANTIOQUIA","NARIÑO",null,"483","NARIÑO"]
[null,null,null,"ANTIOQUIA","NECOCLI",null,"490","NECOCLI"]
[null,null,null,"ANTIOQUIA","NECHI",null,"495","NECHI"]
[null,null,null,"ANTIOQUIA","OLAYA",null,"501","OLAYA"]
[null,null,null,"ANTIOQUIA","PEÐOL",null,"541","PEÐOL"]
[null,null,null,"ANTIOQUIA","PEQUE",null,"543","PEQUE"]
[null,null,null,"ANTIOQUIA","PUEBLORRICO",null,"576","PUEBLORRICO"]
[null,null,null,"ANTIOQUIA","PUERTO BERRIO",null,"579","PUERTO BERRIO"]
[null,null,null,"ANTIOQUIA","PUERTO NARE",null,"585","PUERTO NARE"]
[null,null,null,"ANTIOQUIA","PUERTO TRIUNFO",null,"591","PUERTO TRIUNFO"]
[null,null,null,"ANTIOQUIA","REMEDIOS",null,"604","REMEDIOS"]
[null,null,null,"ANTIOQUIA","RETIRO",null,"607","RETIRO"]
[null,null,null,"ANTIOQUIA","RIONEGRO",null,"615","RIONEGRO"]
[null,null,null,"ANTIOQUIA","SABANALARGA",null,"628","SABANALARGA"]
[null,null,null,"ANTIOQUIA","SABANETA",null,"631","SABANETA"]
[null,null,null,"ANTIOQUIA","SALGAR",null,"642","SALGAR"]
[null,null,null,"ANTIOQUIA","SAN ANDRES DE CUERQUIA",null,"647","SAN ANDRES DE CUERQUIA"]
[null,null,null,"ANTIOQUIA","SAN CARLOS",null,"649","SAN CARLOS"]
[null,null,null,"ANTIOQUIA","SAN FRANCISCO",null,"652","SAN FRANCISCO"]
[null,null,null,"ANTIOQUIA","SAN JERONIMO",null,"656","SAN JERONIMO"]
[null,null,null,"ANTIOQUIA","SAN JOSE DE LA MONTAÑA",null,"658","SAN JOSE DE LA MONTAÑA"]
[null,null,null,"ANTIOQUIA","SAN JUAN DE URABA",null,"659","SAN JUAN DE URABA"]
[null,null,null,"ANTIOQUIA","SAN LUIS",null,"660","SAN LUIS"]
[null,null,null,"ANTIOQUIA","SAN PEDRO",null,"664","SAN PEDRO"]
[null,null,null,"ANTIOQUIA","SAN PEDRO DE URABA",null,"665","SAN PEDRO DE URABA"]
[null,null,null,"ANTIOQUIA","SAN RAFAEL",null,"667","SAN RAFAEL"]
[null,null,null,"ANTIOQUIA","SAN ROQUE",null,"670","SAN ROQUE"]
[null,null,null,"ANTIOQUIA","SAN VICENTE",null,"674","SAN VICENTE"]
[null,null,null,"ANTIOQUIA","SANTA BARBARA",null,"679","SANTA BARBARA"]
[null,null,null,"ANTIOQUIA","SANTA ROSA DE OSOS",null,"686","SANTA ROSA DE OSOS"]
[null,null,null,"ANTIOQUIA","SANTO DOMINGO",null,"690","SANTO DOMINGO"]
[null,null,null,"ANTIOQUIA","EL SANTUARIO",null,"697","EL SANTUARIO"]
[null,null,null,"ANTIOQUIA","SEGOVIA",null,"736","SEGOVIA"]
[null,null,null,"ANTIOQUIA","SONSON",null,"756","SONSON"]
[null,null,null,"ANTIOQUIA","SOPETRAN",null,"761","SOPETRAN"]
[null,null,null,"ANTIOQUIA","TAMESIS",null,"789","TAMESIS"]
[null,null,null,"ANTIOQUIA","TARAZA",null,"790","TARAZA"]
[null,null,null,"ANTIOQUIA","TARSO",null,"792","TARSO"]
[null,null,null,"ANTIOQUIA","TITIRIBI",null,"809","TITIRIBI"]
[null,null,null,"ANTIOQUIA","TOLEDO",null,"819","TOLEDO"]
[null,null,null,"ANTIOQUIA","TURBO",null,"837","TURBO"]
[null,null,null,"ANTIOQUIA","URAMITA",null,"842","URAMITA"]
[null,null,null,"ANTIOQUIA","URRAO",null,"847","URRAO"]
[null,null,null,"ANTIOQUIA","VALDIVIA",null,"854","VALDIVIA"]
[null,null,null,"ANTIOQUIA","VALPARAISO",null,"856","VALPARAISO"]
[null,null,null,"ANTIOQUIA","VEGACHI",null,"858","VEGACHI"]
[null,null,null,"ANTIOQUIA","VENECIA",null,"861","VENECIA"]
[null,null,null,"ANTIOQUIA","VIGIA DEL FUERTE",null,"873","VIGIA DEL FUERTE"]
[null,null,null,"ANTIOQUIA","YALI",null,"885","YALI"]
[null,null,null,"ANTIOQUIA","YARUMAL",null,"887","YARUMAL"]
[null,null,null,"ANTIOQUIA","YOLOMBO",null,"890","YOLOMBO"]
[null,null,null,"ANTIOQUIA","YONDO",null,"893","YONDO"]
[null,null,null,"ANTIOQUIA","ZARAGOZA",null,"895","ZARAGOZA"]
[null,null,null,"ATLANTICO","BARRANQUILLA",null,"001","BARRANQUILLA"]
[null,null,null,"ATLANTICO","BARANOA",null,"078","BARANOA"]
[null,null,null,"ATLANTICO","CAMPO DE LA CRUZ",null,"137","CAMPO DE LA CRUZ"]
[null,null,null,"ATLANTICO","CANDELARIA",null,"141","CANDELARIA"]
[null,null,null,"ATLANTICO","GALAPA",null,"296","GALAPA"]
[null,null,null,"ATLANTICO","JUAN DE ACOSTA",null,"372","JUAN DE ACOSTA"]
[null,null,null,"ATLANTICO","LURUACO",null,"421","LURUACO"]
[null,null,null,"ATLANTICO","MALAMBO",null,"433","MALAMBO"]
[null,null,null,"ATLANTICO","MANATI",null,"436","MANATI"]
[null,null,null,"ATLANTICO","PALMAR DE VARELA",null,"520","PALMAR DE VARELA"]
[null,null,null,"ATLANTICO","PIOJO",null,"549","PIOJO"]
[null,null,null,"ATLANTICO","POLONUEVO",null,"558","POLONUEVO"]
[null,null,null,"ATLANTICO","PONEDERA",null,"560","PONEDERA"]
[null,null,null,"ATLANTICO","PUERTO COLOMBIA",null,"573","PUERTO COLOMBIA"]
[null,null,null,"ATLANTICO","REPELON",null,"606","REPELON"]
[null,null,null,"ATLANTICO","SABANAGRANDE",null,"634","SABANAGRANDE"]
[null,null,null,"ATLANTICO","SABANALARGA",null,"638","SABANALARGA"]
[null,null,null,"ATLANTICO","SANTA LUCIA",null,"675","SANTA LUCIA"]
[null,null,null,"ATLANTICO","SANTO TOMAS",null,"685","SANTO TOMAS"]
[null,null,null,"ATLANTICO","SOLEDAD",null,"758","SOLEDAD"]
[null,null,null,"ATLANTICO","SUAN",null,"770","SUAN"]
[null,null,null,"ATLANTICO","TUBARA",null,"832","TUBARA"]
[null,null,null,"ATLANTICO","USIACURI",null,"849","USIACURI"]
[null,null,null,"BOGOTA","BOGOTA, D.C.",null,"001","BOGOTA, D.C."]
[null,null,null,"BOLIVAR","CARTAGENA",null,"001","CARTAGENA"]
[null,null,null,"BOLIVAR","ACHI",null,"006","ACHI"]
[null,null,null,"BOLIVAR","ALTOS DEL ROSARIO",null,"030","ALTOS DEL ROSARIO"]
[null,null,null,"BOLIVAR","ARENAL",null,"042","ARENAL"]
[null,null,null,"BOLIVAR","ARJONA",null,"052","ARJONA"]
[null,null,null,"BOLIVAR","ARROYOHONDO",null,"062","ARROYOHONDO"]
[null,null,null,"BOLIVAR","BARRANCO DE LOBA",null,"074","BARRANCO DE LOBA"]
[null,null,null,"BOLIVAR","CALAMAR",null,"140","CALAMAR"]
[null,null,null,"BOLIVAR","CANTAGALLO",null,"160","CANTAGALLO"]
[null,null,null,"BOLIVAR","CICUCO",null,"188","CICUCO"]
[null,null,null,"BOLIVAR","CORDOBA",null,"212","CORDOBA"]
[null,null,null,"BOLIVAR","CLEMENCIA",null,"222","CLEMENCIA"]
[null,null,null,"BOLIVAR","EL CARMEN DE BOLIVAR",null,"244","EL CARMEN DE BOLIVAR"]
[null,null,null,"BOLIVAR","EL GUAMO",null,"248","EL GUAMO"]
[null,null,null,"BOLIVAR","EL PEÑON",null,"268","EL PEÑON"]
[null,null,null,"BOLIVAR","HATILLO DE LOBA",null,"300","HATILLO DE LOBA"]
[null,null,null,"BOLIVAR","MAGANGUE",null,"430","MAGANGUE"]
[null,null,null,"BOLIVAR","MAHATES",null,"433","MAHATES"]
[null,null,null,"BOLIVAR","MARGARITA",null,"440","MARGARITA"]
[null,null,null,"BOLIVAR","MARIA LA BAJA",null,"442","MARIA LA BAJA"]
[null,null,null,"BOLIVAR","MONTECRISTO",null,"458","MONTECRISTO"]
[null,null,null,"BOLIVAR","MOMPOS",null,"468","MOMPOS"]
[null,null,null,"BOLIVAR","NOROSI",null,"490","NOROSI"]
[null,null,null,"BOLIVAR","MORALES",null,"473","MORALES"]
[null,null,null,"BOLIVAR","PINILLOS",null,"549","PINILLOS"]
[null,null,null,"BOLIVAR","REGIDOR",null,"580","REGIDOR"]
[null,null,null,"BOLIVAR","RIO VIEJO",null,"600","RIO VIEJO"]
[null,null,null,"BOLIVAR","SAN CRISTOBAL",null,"620","SAN CRISTOBAL"]
[null,null,null,"BOLIVAR","SAN ESTANISLAO",null,"647","SAN ESTANISLAO"]
[null,null,null,"BOLIVAR","SAN FERNANDO",null,"650","SAN FERNANDO"]
[null,null,null,"BOLIVAR","SAN JACINTO",null,"654","SAN JACINTO"]
[null,null,null,"BOLIVAR","SAN JACINTO DEL CAUCA",null,"655","SAN JACINTO DEL CAUCA"]
[null,null,null,"BOLIVAR","SAN JUAN NEPOMUCENO",null,"657","SAN JUAN NEPOMUCENO"]
[null,null,null,"BOLIVAR","SAN MARTIN DE LOBA",null,"667","SAN MARTIN DE LOBA"]
[null,null,null,"BOLIVAR","SAN PABLO",null,"670","SAN PABLO"]
[null,null,null,"BOLIVAR","SANTA CATALINA",null,"673","SANTA CATALINA"]
[null,null,null,"BOLIVAR","SANTA ROSA",null,"683","SANTA ROSA"]
[null,null,null,"BOLIVAR","SANTA ROSA DEL SUR",null,"688","SANTA ROSA DEL SUR"]
[null,null,null,"BOLIVAR","SIMITI",null,"744","SIMITI"]
[null,null,null,"BOLIVAR","SOPLAVIENTO",null,"760","SOPLAVIENTO"]
[null,null,null,"BOLIVAR","TALAIGUA NUEVO",null,"780","TALAIGUA NUEVO"]
[null,null,null,"BOLIVAR","TIQUISIO",null,"810","TIQUISIO"]
[null,null,null,"BOLIVAR","TURBACO",null,"836","TURBACO"]
[null,null,null,"BOLIVAR","TURBANA",null,"838","TURBANA"]
[null,null,null,"BOLIVAR","VILLANUEVA",null,"873","VILLANUEVA"]
[null,null,null,"BOLIVAR","ZAMBRANO",null,"894","ZAMBRANO"]
[null,null,null,"BOYACA","TUNJA",null,"001","TUNJA"]
[null,null,null,"BOYACA","ALMEIDA",null,"022","ALMEIDA"]
[null,null,null,"BOYACA","AQUITANIA",null,"047","AQUITANIA"]
[null,null,null,"BOYACA","ARCABUCO",null,"051","ARCABUCO"]
[null,null,null,"BOYACA","BELEN",null,"087","BELEN"]
[null,null,null,"BOYACA","BERBEO",null,"090","BERBEO"]
[null,null,null,"BOYACA","BETEITIVA",null,"092","BETEITIVA"]
[null,null,null,"BOYACA","BOAVITA",null,"097","BOAVITA"]
[null,null,null,"BOYACA","BOYACA",null,"104","BOYACA"]
[null,null,null,"BOYACA","BRICEÑO",null,"106","BRICEÑO"]
[null,null,null,"BOYACA","BUENAVISTA",null,"109","BUENAVISTA"]
[null,null,null,"BOYACA","BUSBANZA",null,"114","BUSBANZA"]
[null,null,null,"BOYACA","CALDAS",null,"131","CALDAS"]
[null,null,null,"BOYACA","CAMPOHERMOSO",null,"135","CAMPOHERMOSO"]
[null,null,null,"BOYACA","CERINZA",null,"162","CERINZA"]
[null,null,null,"BOYACA","CHINAVITA",null,"172","CHINAVITA"]
[null,null,null,"BOYACA","CHIQUINQUIRA",null,"176","CHIQUINQUIRA"]
[null,null,null,"BOYACA","CHISCAS",null,"180","CHISCAS"]
[null,null,null,"BOYACA","CHITA",null,"183","CHITA"]
[null,null,null,"BOYACA","CHITARAQUE",null,"185","CHITARAQUE"]
[null,null,null,"BOYACA","CHIVATA",null,"187","CHIVATA"]
[null,null,null,"BOYACA","CIENEGA",null,"189","CIENEGA"]
[null,null,null,"BOYACA","COMBITA",null,"204","COMBITA"]
[null,null,null,"BOYACA","COPER",null,"212","COPER"]
[null,null,null,"BOYACA","CORRALES",null,"215","CORRALES"]
[null,null,null,"BOYACA","COVARACHIA",null,"218","COVARACHIA"]
[null,null,null,"BOYACA","CUBARA",null,"223","CUBARA"]
[null,null,null,"BOYACA","CUCAITA",null,"224","CUCAITA"]
[null,null,null,"BOYACA","CUITIVA",null,"226","CUITIVA"]
[null,null,null,"BOYACA","CHIQUIZA",null,"232","CHIQUIZA"]
[null,null,null,"BOYACA","CHIVOR",null,"236","CHIVOR"]
[null,null,null,"BOYACA","DUITAMA",null,"238","DUITAMA"]
[null,null,null,"BOYACA","EL COCUY",null,"244","EL COCUY"]
[null,null,null,"BOYACA","EL ESPINO",null,"248","EL ESPINO"]
[null,null,null,"BOYACA","FIRAVITOBA",null,"272","FIRAVITOBA"]
[null,null,null,"BOYACA","FLORESTA",null,"276","FLORESTA"]
[null,null,null,"BOYACA","GACHANTIVA",null,"293","GACHANTIVA"]
[null,null,null,"BOYACA","GAMEZA",null,"296","GAMEZA"]
[null,null,null,"BOYACA","GARAGOA",null,"299","GARAGOA"]
[null,null,null,"BOYACA","GUACAMAYAS",null,"317","GUACAMAYAS"]
[null,null,null,"BOYACA","GUATEQUE",null,"322","GUATEQUE"]
[null,null,null,"BOYACA","GUAYATA",null,"325","GUAYATA"]
[null,null,null,"BOYACA","GsICAN",null,"332","GsICAN"]
[null,null,null,"BOYACA","IZA",null,"362","IZA"]
[null,null,null,"BOYACA","JENESANO",null,"367","JENESANO"]
[null,null,null,"BOYACA","JERICO",null,"368","JERICO"]
[null,null,null,"BOYACA","LABRANZAGRANDE",null,"377","LABRANZAGRANDE"]
[null,null,null,"BOYACA","LA CAPILLA",null,"380","LA CAPILLA"]
[null,null,null,"BOYACA","LA VICTORIA",null,"401","LA VICTORIA"]
[null,null,null,"BOYACA","LA UVITA",null,"403","LA UVITA"]
[null,null,null,"BOYACA","VILLA DE LEYVA",null,"407","VILLA DE LEYVA"]
[null,null,null,"BOYACA","MACANAL",null,"425","MACANAL"]
[null,null,null,"BOYACA","MARIPI",null,"442","MARIPI"]
[null,null,null,"BOYACA","MIRAFLORES",null,"455","MIRAFLORES"]
[null,null,null,"BOYACA","MONGUA",null,"464","MONGUA"]
[null,null,null,"BOYACA","MONGUI",null,"466","MONGUI"]
[null,null,null,"BOYACA","MONIQUIRA",null,"469","MONIQUIRA"]
[null,null,null,"BOYACA","MOTAVITA",null,"476","MOTAVITA"]
[null,null,null,"BOYACA","MUZO",null,"480","MUZO"]
[null,null,null,"BOYACA","NOBSA",null,"491","NOBSA"]
[null,null,null,"BOYACA","NUEVO COLON",null,"494","NUEVO COLON"]
[null,null,null,"BOYACA","OICATA",null,"500","OICATA"]
[null,null,null,"BOYACA","OTANCHE",null,"507","OTANCHE"]
[null,null,null,"BOYACA","PACHAVITA",null,"511","PACHAVITA"]
[null,null,null,"BOYACA","PAEZ",null,"514","PAEZ"]
[null,null,null,"BOYACA","PAIPA",null,"516","PAIPA"]
[null,null,null,"BOYACA","PAJARITO",null,"518","PAJARITO"]
[null,null,null,"BOYACA","PANQUEBA",null,"522","PANQUEBA"]
[null,null,null,"BOYACA","PAUNA",null,"531","PAUNA"]
[null,null,null,"BOYACA","PAYA",null,"533","PAYA"]
[null,null,null,"BOYACA","PAZ DE RIO",null,"537","PAZ DE RIO"]
[null,null,null,"BOYACA","PESCA",null,"542","PESCA"]
[null,null,null,"BOYACA","PISBA",null,"550","PISBA"]
[null,null,null,"BOYACA","PUERTO BOYACA",null,"572","PUERTO BOYACA"]
[null,null,null,"BOYACA","QUIPAMA",null,"580","QUIPAMA"]
[null,null,null,"BOYACA","RAMIRIQUI",null,"599","RAMIRIQUI"]
[null,null,null,"BOYACA","RAQUIRA",null,"600","RAQUIRA"]
[null,null,null,"BOYACA","RONDON",null,"621","RONDON"]
[null,null,null,"BOYACA","SABOYA",null,"632","SABOYA"]
[null,null,null,"BOYACA","SACHICA",null,"638","SACHICA"]
[null,null,null,"BOYACA","SAMACA",null,"646","SAMACA"]
[null,null,null,"BOYACA","SAN EDUARDO",null,"660","SAN EDUARDO"]
[null,null,null,"BOYACA","SAN JOSE DE PARE",null,"664","SAN JOSE DE PARE"]
[null,null,null,"BOYACA","SAN LUIS DE GACENO",null,"667","SAN LUIS DE GACENO"]
[null,null,null,"BOYACA","SAN MATEO",null,"673","SAN MATEO"]
[null,null,null,"BOYACA","SAN MIGUEL DE SEMA",null,"676","SAN MIGUEL DE SEMA"]
[null,null,null,"BOYACA","SAN PABLO DE BORBUR",null,"681","SAN PABLO DE BORBUR"]
[null,null,null,"BOYACA","SANTANA",null,"686","SANTANA"]
[null,null,null,"BOYACA","SANTA MARIA",null,"690","SANTA MARIA"]
[null,null,null,"BOYACA","SANTA ROSA DE VITERBO",null,"693","SANTA ROSA DE VITERBO"]
[null,null,null,"BOYACA","SANTA SOFIA",null,"696","SANTA SOFIA"]
[null,null,null,"BOYACA","SATIVANORTE",null,"720","SATIVANORTE"]
[null,null,null,"BOYACA","SATIVASUR",null,"723","SATIVASUR"]
[null,null,null,"BOYACA","SIACHOQUE",null,"740","SIACHOQUE"]
[null,null,null,"BOYACA","SOATA",null,"753","SOATA"]
[null,null,null,"BOYACA","SOCOTA",null,"755","SOCOTA"]
[null,null,null,"BOYACA","SOCHA",null,"757","SOCHA"]
[null,null,null,"BOYACA","SOGAMOSO",null,"759","SOGAMOSO"]
[null,null,null,"BOYACA","SOMONDOCO",null,"761","SOMONDOCO"]
[null,null,null,"BOYACA","SORA",null,"762","SORA"]
[null,null,null,"BOYACA","SOTAQUIRA",null,"763","SOTAQUIRA"]
[null,null,null,"BOYACA","SORACA",null,"764","SORACA"]
[null,null,null,"BOYACA","SUSACON",null,"774","SUSACON"]
[null,null,null,"BOYACA","SUTAMARCHAN",null,"776","SUTAMARCHAN"]
[null,null,null,"BOYACA","SUTATENZA",null,"778","SUTATENZA"]
[null,null,null,"BOYACA","TASCO",null,"790","TASCO"]
[null,null,null,"BOYACA","TENZA",null,"798","TENZA"]
[null,null,null,"BOYACA","TIBANA",null,"804","TIBANA"]
[null,null,null,"BOYACA","TIBASOSA",null,"806","TIBASOSA"]
[null,null,null,"BOYACA","TINJACA",null,"808","TINJACA"]
[null,null,null,"BOYACA","TIPACOQUE",null,"810","TIPACOQUE"]
[null,null,null,"BOYACA","TOCA",null,"814","TOCA"]
[null,null,null,"BOYACA","TOGsI",null,"816","TOGsI"]
[null,null,null,"BOYACA","TOPAGA",null,"820","TOPAGA"]
[null,null,null,"BOYACA","TOTA",null,"822","TOTA"]
[null,null,null,"BOYACA","TUNUNGUA",null,"832","TUNUNGUA"]
[null,null,null,"BOYACA","TURMEQUE",null,"835","TURMEQUE"]
[null,null,null,"BOYACA","TUTA",null,"837","TUTA"]
[null,null,null,"BOYACA","TUTAZA",null,"839","TUTAZA"]
[null,null,null,"BOYACA","UMBITA",null,"842","UMBITA"]
[null,null,null,"BOYACA","VENTAQUEMADA",null,"861","VENTAQUEMADA"]
[null,null,null,"BOYACA","VIRACACHA",null,"879","VIRACACHA"]
[null,null,null,"BOYACA","ZETAQUIRA",null,"897","ZETAQUIRA"]
[null,null,null,"CALDAS","MANIZALES",null,"001","MANIZALES"]
[null,null,null,"CALDAS","AGUADAS",null,"013","AGUADAS"]
[null,null,null,"CALDAS","ANSERMA",null,"042","ANSERMA"]
[null,null,null,"CALDAS","ARANZAZU",null,"050","ARANZAZU"]
[null,null,null,"CALDAS","BELALCAZAR",null,"088","BELALCAZAR"]
[null,null,null,"CALDAS","CHINCHINA",null,"174","CHINCHINA"]
[null,null,null,"CALDAS","FILADELFIA",null,"272","FILADELFIA"]
[null,null,null,"CALDAS","LA DORADA",null,"380","LA DORADA"]
[null,null,null,"CALDAS","LA MERCED",null,"388","LA MERCED"]
[null,null,null,"CALDAS","MANZANARES",null,"433","MANZANARES"]
[null,null,null,"CALDAS","MARMATO",null,"442","MARMATO"]
[null,null,null,"CALDAS","MARQUETALIA",null,"444","MARQUETALIA"]
[null,null,null,"CALDAS","MARULANDA",null,"446","MARULANDA"]
[null,null,null,"CALDAS","NEIRA",null,"486","NEIRA"]
[null,null,null,"CALDAS","NORCASIA",null,"495","NORCASIA"]
[null,null,null,"CALDAS","PACORA",null,"513","PACORA"]
[null,null,null,"CALDAS","PALESTINA",null,"524","PALESTINA"]
[null,null,null,"CALDAS","PENSILVANIA",null,"541","PENSILVANIA"]
[null,null,null,"CALDAS","RIOSUCIO",null,"614","RIOSUCIO"]
[null,null,null,"CALDAS","RISARALDA",null,"616","RISARALDA"]
[null,null,null,"CALDAS","SALAMINA",null,"653","SALAMINA"]
[null,null,null,"CALDAS","SAMANA",null,"662","SAMANA"]
[null,null,null,"CALDAS","SAN JOSE",null,"665","SAN JOSE"]
[null,null,null,"CALDAS","SUPIA",null,"777","SUPIA"]
[null,null,null,"CALDAS","VICTORIA",null,"867","VICTORIA"]
[null,null,null,"CALDAS","VILLAMARIA",null,"873","VILLAMARIA"]
[null,null,null,"CALDAS","VITERBO",null,"877","VITERBO"]
[null,null,null,"CAQUETA","FLORENCIA",null,"001","FLORENCIA"]
[null,null,null,"CAQUETA","ALBANIA",null,"029","ALBANIA"]
[null,null,null,"CAQUETA","BELEN DE LOS ANDAQUIES",null,"094","BELEN DE LOS ANDAQUIES"]
[null,null,null,"CAQUETA","CARTAGENA DEL CHAIRA",null,"150","CARTAGENA DEL CHAIRA"]
[null,null,null,"CAQUETA","CURILLO",null,"205","CURILLO"]
[null,null,null,"CAQUETA","EL DONCELLO",null,"247","EL DONCELLO"]
[null,null,null,"CAQUETA","EL PAUJIL",null,"256","EL PAUJIL"]
[null,null,null,"CAQUETA","LA MONTAÑITA",null,"410","LA MONTAÑITA"]
[null,null,null,"CAQUETA","MILAN",null,"460","MILAN"]
[null,null,null,"CAQUETA","MORELIA",null,"479","MORELIA"]
[null,null,null,"CAQUETA","PUERTO RICO",null,"592","PUERTO RICO"]
[null,null,null,"CAQUETA","SAN JOSE DEL FRAGUA",null,"610","SAN JOSE DEL FRAGUA"]
[null,null,null,"CAQUETA","SAN VICENTE DEL CAGUAN",null,"753","SAN VICENTE DEL CAGUAN"]
[null,null,null,"CAQUETA","SOLANO",null,"756","SOLANO"]
[null,null,null,"CAQUETA","SOLITA",null,"785","SOLITA"]
[null,null,null,"CAQUETA","VALPARAISO",null,"860","VALPARAISO"]
[null,null,null,"CAUCA","POPAYAN",null,"001","POPAYAN"]
[null,null,null,"CAUCA","ALMAGUER",null,"022","ALMAGUER"]
[null,null,null,"CAUCA","ARGELIA",null,"050","ARGELIA"]
[null,null,null,"CAUCA","BALBOA",null,"075","BALBOA"]
[null,null,null,"CAUCA","BOLIVAR",null,"100","BOLIVAR"]
[null,null,null,"CAUCA","BUENOS AIRES",null,"110","BUENOS AIRES"]
[null,null,null,"CAUCA","CAJIBIO",null,"130","CAJIBIO"]
[null,null,null,"CAUCA","CALDONO",null,"137","CALDONO"]
[null,null,null,"CAUCA","CALOTO",null,"142","CALOTO"]
[null,null,null,"CAUCA","CORINTO",null,"212","CORINTO"]
[null,null,null,"CAUCA","EL TAMBO",null,"256","EL TAMBO"]
[null,null,null,"CAUCA","FLORENCIA",null,"290","FLORENCIA"]
[null,null,null,"CAUCA","GUACHENE",null,300,"GUACHENE"]
[null,null,null,"CAUCA","GUAPI",null,"318","GUAPI"]
[null,null,null,"CAUCA","INZA",null,"355","INZA"]
[null,null,null,"CAUCA","JAMBALO",null,"364","JAMBALO"]
[null,null,null,"CAUCA","LA SIERRA",null,"392","LA SIERRA"]
[null,null,null,"CAUCA","LA VEGA",null,"397","LA VEGA"]
[null,null,null,"CAUCA","LOPEZ",null,"418","LOPEZ"]
[null,null,null,"CAUCA","MERCADERES",null,"450","MERCADERES"]
[null,null,null,"CAUCA","MIRANDA",null,"455","MIRANDA"]
[null,null,null,"CAUCA","MORALES",null,"473","MORALES"]
[null,null,null,"CAUCA","PADILLA",null,"513","PADILLA"]
[null,null,null,"CAUCA","PAEZ",null,"517","PAEZ"]
[null,null,null,"CAUCA","PATIA",null,"532","PATIA"]
[null,null,null,"CAUCA","PIAMONTE",null,"533","PIAMONTE"]
[null,null,null,"CAUCA","PIENDAMO",null,"548","PIENDAMO"]
[null,null,null,"CAUCA","PUERTO TEJADA",null,"573","PUERTO TEJADA"]
[null,null,null,"CAUCA","PURACE",null,"585","PURACE"]
[null,null,null,"CAUCA","ROSAS",null,"622","ROSAS"]
[null,null,null,"CAUCA","SAN SEBASTIAN",null,"693","SAN SEBASTIAN"]
[null,null,null,"CAUCA","SANTANDER DE QUILICHAO",null,"698","SANTANDER DE QUILICHAO"]
[null,null,null,"CAUCA","SANTA ROSA",null,"701","SANTA ROSA"]
[null,null,null,"CAUCA","SILVIA",null,"743","SILVIA"]
[null,null,null,"CAUCA","SOTARA",null,"760","SOTARA"]
[null,null,null,"CAUCA","SUAREZ",null,"780","SUAREZ"]
[null,null,null,"CAUCA","SUCRE",null,"785","SUCRE"]
[null,null,null,"CAUCA","TIMBIO",null,"807","TIMBIO"]
[null,null,null,"CAUCA","TIMBIQUI",null,"809","TIMBIQUI"]
[null,null,null,"CAUCA","TORIBIO",null,"821","TORIBIO"]
[null,null,null,"CAUCA","TOTORO",null,"824","TOTORO"]
[null,null,null,"CAUCA","VILLA RICA",null,"845","VILLA RICA"]
[null,null,null,"CESAR","VALLEDUPAR",null,"001","VALLEDUPAR"]
[null,null,null,"CESAR","AGUACHICA",null,"011","AGUACHICA"]
[null,null,null,"CESAR","AGUSTIN CODAZZI",null,"013","AGUSTIN CODAZZI"]
[null,null,null,"CESAR","ASTREA",null,"032","ASTREA"]
[null,null,null,"CESAR","BECERRIL",null,"045","BECERRIL"]
[null,null,null,"CESAR","BOSCONIA",null,"060","BOSCONIA"]
[null,null,null,"CESAR","CHIMICHAGUA",null,"175","CHIMICHAGUA"]
[null,null,null,"CESAR","CHIRIGUANA",null,"178","CHIRIGUANA"]
[null,null,null,"CESAR","CURUMANI",null,"228","CURUMANI"]
[null,null,null,"CESAR","EL COPEY",null,"238","EL COPEY"]
[null,null,null,"CESAR","EL PASO",null,"250","EL PASO"]
[null,null,null,"CESAR","GAMARRA",null,"295","GAMARRA"]
[null,null,null,"CESAR","GONZALEZ",null,"310","GONZALEZ"]
[null,null,null,"CESAR","LA GLORIA",null,"383","LA GLORIA"]
[null,null,null,"CESAR","LA JAGUA DE IBIRICO",null,"400","LA JAGUA DE IBIRICO"]
[null,null,null,"CESAR","MANAURE",null,"443","MANAURE"]
[null,null,null,"CESAR","PAILITAS",null,"517","PAILITAS"]
[null,null,null,"CESAR","PELAYA",null,"550","PELAYA"]
[null,null,null,"CESAR","PUEBLO BELLO",null,"570","PUEBLO BELLO"]
[null,null,null,"CESAR","RIO DE ORO",null,"614","RIO DE ORO"]
[null,null,null,"CESAR","LA PAZ",null,"621","LA PAZ"]
[null,null,null,"CESAR","SAN ALBERTO",null,"710","SAN ALBERTO"]
[null,null,null,"CESAR","SAN DIEGO",null,"750","SAN DIEGO"]
[null,null,null,"CESAR","SAN MARTIN",null,"770","SAN MARTIN"]
[null,null,null,"CESAR","TAMALAMEQUE",null,"787","TAMALAMEQUE"]
[null,null,null,"CORDOBA","MONTERIA",null,"001","MONTERIA"]
[null,null,null,"CORDOBA","AYAPEL",null,"068","AYAPEL"]
[null,null,null,"CORDOBA","BUENAVISTA",null,"079","BUENAVISTA"]
[null,null,null,"CORDOBA","CANALETE",null,"090","CANALETE"]
[null,null,null,"CORDOBA","CERETE",null,"162","CERETE"]
[null,null,null,"CORDOBA","CHIMA",null,"168","CHIMA"]
[null,null,null,"CORDOBA","CHINU",null,"182","CHINU"]
[null,null,null,"CORDOBA","CIENAGA DE ORO",null,"189","CIENAGA DE ORO"]
[null,null,null,"CORDOBA","COTORRA",null,"300","COTORRA"]
[null,null,null,"CORDOBA","LA APARTADA",null,"350","LA APARTADA"]
[null,null,null,"CORDOBA","LORICA",null,"417","LORICA"]
[null,null,null,"CORDOBA","LOS CORDOBAS",null,"419","LOS CORDOBAS"]
[null,null,null,"CORDOBA","MOMIL",null,"464","MOMIL"]
[null,null,null,"CORDOBA","MONTELIBANO",null,"466","MONTELIBANO"]
[null,null,null,"CORDOBA","MOÑITOS",null,"500","MOÑITOS"]
[null,null,null,"CORDOBA","PLANETA RICA",null,"555","PLANETA RICA"]
[null,null,null,"CORDOBA","PUEBLO NUEVO",null,"570","PUEBLO NUEVO"]
[null,null,null,"CORDOBA","PUERTO ESCONDIDO",null,"574","PUERTO ESCONDIDO"]
[null,null,null,"CORDOBA","PUERTO LIBERTADOR",null,"580","PUERTO LIBERTADOR"]
[null,null,null,"CORDOBA","PURISIMA",null,"586","PURISIMA"]
[null,null,null,"CORDOBA","SAHAGUN",null,"660","SAHAGUN"]
[null,null,null,"CORDOBA","SAN ANDRES SOTAVENTO",null,"670","SAN ANDRES SOTAVENTO"]
[null,null,null,"CORDOBA","SAN ANTERO",null,"672","SAN ANTERO"]
[null,null,null,"CORDOBA","SAN BERNARDO DEL VIENTO",null,"675","SAN BERNARDO DEL VIENTO"]
[null,null,null,"CORDOBA","SAN CARLOS",null,"678","SAN CARLOS"]
[null,null,null,"CORDOBA","SAN PELAYO",null,"686","SAN PELAYO"]
[null,null,null,"CORDOBA","TIERRALTA",null,"807","TIERRALTA"]
[null,null,null,"CORDOBA","VALENCIA",null,"855","VALENCIA"]
[null,null,null,"CUNDINAMARCA","AGUA DE DIOS",null,"001","AGUA DE DIOS"]
[null,null,null,"CUNDINAMARCA","ALBAN",null,"019","ALBAN"]
[null,null,null,"CUNDINAMARCA","ANAPOIMA",null,"035","ANAPOIMA"]
[null,null,null,"CUNDINAMARCA","ANOLAIMA",null,"040","ANOLAIMA"]
[null,null,null,"CUNDINAMARCA","ARBELAEZ",null,"053","ARBELAEZ"]
[null,null,null,"CUNDINAMARCA","BELTRAN",null,"086","BELTRAN"]
[null,null,null,"CUNDINAMARCA","BITUIMA",null,"095","BITUIMA"]
[null,null,null,"CUNDINAMARCA","BOJACA",null,"099","BOJACA"]
[null,null,null,"CUNDINAMARCA","CABRERA",null,"120","CABRERA"]
[null,null,null,"CUNDINAMARCA","CACHIPAY",null,"123","CACHIPAY"]
[null,null,null,"CUNDINAMARCA","CAJICA",null,"126","CAJICA"]
[null,null,null,"CUNDINAMARCA","CAPARRAPI",null,"148","CAPARRAPI"]
[null,null,null,"CUNDINAMARCA","CAQUEZA",null,"151","CAQUEZA"]
[null,null,null,"CUNDINAMARCA","CARMEN DE CARUPA",null,"154","CARMEN DE CARUPA"]
[null,null,null,"CUNDINAMARCA","CHAGUANI",null,"168","CHAGUANI"]
[null,null,null,"CUNDINAMARCA","CHIA",null,"175","CHIA"]
[null,null,null,"CUNDINAMARCA","CHIPAQUE",null,"178","CHIPAQUE"]
[null,null,null,"CUNDINAMARCA","CHOACHI",null,"181","CHOACHI"]
[null,null,null,"CUNDINAMARCA","CHOCONTA",null,"183","CHOCONTA"]
[null,null,null,"CUNDINAMARCA","COGUA",null,"200","COGUA"]
[null,null,null,"CUNDINAMARCA","COTA",null,"214","COTA"]
[null,null,null,"CUNDINAMARCA","CUCUNUBA",null,"224","CUCUNUBA"]
[null,null,null,"CUNDINAMARCA","EL COLEGIO",null,"245","EL COLEGIO"]
[null,null,null,"CUNDINAMARCA","EL PEÑON",null,"258","EL PEÑON"]
[null,null,null,"CUNDINAMARCA","EL ROSAL",null,"260","EL ROSAL"]
[null,null,null,"CUNDINAMARCA","FACATATIVA",null,"269","FACATATIVA"]
[null,null,null,"CUNDINAMARCA","FOMEQUE",null,"279","FOMEQUE"]
[null,null,null,"CUNDINAMARCA","FOSCA",null,"281","FOSCA"]
[null,null,null,"CUNDINAMARCA","FUNZA",null,"286","FUNZA"]
[null,null,null,"CUNDINAMARCA","FUQUENE",null,"288","FUQUENE"]
[null,null,null,"CUNDINAMARCA","FUSAGASUGA",null,"290","FUSAGASUGA"]
[null,null,null,"CUNDINAMARCA","GACHALA",null,"293","GACHALA"]
[null,null,null,"CUNDINAMARCA","GACHANCIPA",null,"295","GACHANCIPA"]
[null,null,null,"CUNDINAMARCA","GACHETA",null,"297","GACHETA"]
[null,null,null,"CUNDINAMARCA","GAMA",null,"299","GAMA"]
[null,null,null,"CUNDINAMARCA","GIRARDOT",null,"307","GIRARDOT"]
[null,null,null,"CUNDINAMARCA","GRANADA",null,"312","GRANADA"]
[null,null,null,"CUNDINAMARCA","GUACHETA",null,"317","GUACHETA"]
[null,null,null,"CUNDINAMARCA","GUADUAS",null,"320","GUADUAS"]
[null,null,null,"CUNDINAMARCA","GUASCA",null,"322","GUASCA"]
[null,null,null,"CUNDINAMARCA","GUATAQUI",null,"324","GUATAQUI"]
[null,null,null,"CUNDINAMARCA","GUATAVITA",null,"326","GUATAVITA"]
[null,null,null,"CUNDINAMARCA","GUAYABAL DE SIQUIMA",null,"328","GUAYABAL DE SIQUIMA"]
[null,null,null,"CUNDINAMARCA","GUAYABETAL",null,"335","GUAYABETAL"]
[null,null,null,"CUNDINAMARCA","GUTIERREZ",null,"339","GUTIERREZ"]
[null,null,null,"CUNDINAMARCA","JERUSALEN",null,"368","JERUSALEN"]
[null,null,null,"CUNDINAMARCA","JUNIN",null,"372","JUNIN"]
[null,null,null,"CUNDINAMARCA","LA CALERA",null,"377","LA CALERA"]
[null,null,null,"CUNDINAMARCA","LA MESA",null,"386","LA MESA"]
[null,null,null,"CUNDINAMARCA","LA PALMA",null,"394","LA PALMA"]
[null,null,null,"CUNDINAMARCA","LA PEÑA",null,"398","LA PEÑA"]
[null,null,null,"CUNDINAMARCA","LA VEGA",null,"402","LA VEGA"]
[null,null,null,"CUNDINAMARCA","LENGUAZAQUE",null,"407","LENGUAZAQUE"]
[null,null,null,"CUNDINAMARCA","MACHETA",null,"426","MACHETA"]
[null,null,null,"CUNDINAMARCA","MADRID",null,"430","MADRID"]
[null,null,null,"CUNDINAMARCA","MANTA",null,"436","MANTA"]
[null,null,null,"CUNDINAMARCA","MEDINA",null,"438","MEDINA"]
[null,null,null,"CUNDINAMARCA","MOSQUERA",null,"473","MOSQUERA"]
[null,null,null,"CUNDINAMARCA","NARIÑO",null,"483","NARIÑO"]
[null,null,null,"CUNDINAMARCA","NEMOCON",null,"486","NEMOCON"]
[null,null,null,"CUNDINAMARCA","NILO",null,"488","NILO"]
[null,null,null,"CUNDINAMARCA","NIMAIMA",null,"489","NIMAIMA"]
[null,null,null,"CUNDINAMARCA","NOCAIMA",null,"491","NOCAIMA"]
[null,null,null,"CUNDINAMARCA","VENECIA",null,"506","VENECIA"]
[null,null,null,"CUNDINAMARCA","PACHO",null,"513","PACHO"]
[null,null,null,"CUNDINAMARCA","PAIME",null,"518","PAIME"]
[null,null,null,"CUNDINAMARCA","PANDI",null,"524","PANDI"]
[null,null,null,"CUNDINAMARCA","PARATEBUENO",null,"530","PARATEBUENO"]
[null,null,null,"CUNDINAMARCA","PASCA",null,"535","PASCA"]
[null,null,null,"CUNDINAMARCA","PUERTO SALGAR",null,"572","PUERTO SALGAR"]
[null,null,null,"CUNDINAMARCA","PULI",null,"580","PULI"]
[null,null,null,"CUNDINAMARCA","QUEBRADANEGRA",null,"592","QUEBRADANEGRA"]
[null,null,null,"CUNDINAMARCA","QUETAME",null,"594","QUETAME"]
[null,null,null,"CUNDINAMARCA","QUIPILE",null,"596","QUIPILE"]
[null,null,null,"CUNDINAMARCA","APULO",null,"599","APULO"]
[null,null,null,"CUNDINAMARCA","RICAURTE",null,"612","RICAURTE"]
[null,null,null,"CUNDINAMARCA","SAN ANTONIO DEL TEQUENDAMA",null,"645","SAN ANTONIO DEL TEQUENDAMA"]
[null,null,null,"CUNDINAMARCA","SAN BERNARDO",null,"649","SAN BERNARDO"]
[null,null,null,"CUNDINAMARCA","SAN CAYETANO",null,"653","SAN CAYETANO"]
[null,null,null,"CUNDINAMARCA","SAN FRANCISCO",null,"658","SAN FRANCISCO"]
[null,null,null,"CUNDINAMARCA","SAN JUAN DE RIO SECO",null,"662","SAN JUAN DE RIO SECO"]
[null,null,null,"CUNDINAMARCA","SASAIMA",null,"718","SASAIMA"]
[null,null,null,"CUNDINAMARCA","SESQUILE",null,"736","SESQUILE"]
[null,null,null,"CUNDINAMARCA","SIBATE",null,"740","SIBATE"]
[null,null,null,"CUNDINAMARCA","SILVANIA",null,"743","SILVANIA"]
[null,null,null,"CUNDINAMARCA","SIMIJACA",null,"745","SIMIJACA"]
[null,null,null,"CUNDINAMARCA","SOACHA",null,"754","SOACHA"]
[null,null,null,"CUNDINAMARCA","SOPO",null,"758","SOPO"]
[null,null,null,"CUNDINAMARCA","SUBACHOQUE",null,"769","SUBACHOQUE"]
[null,null,null,"CUNDINAMARCA","SUESCA",null,"772","SUESCA"]
[null,null,null,"CUNDINAMARCA","SUPATA",null,"777","SUPATA"]
[null,null,null,"CUNDINAMARCA","SUSA",null,"779","SUSA"]
[null,null,null,"CUNDINAMARCA","SUTATAUSA",null,"781","SUTATAUSA"]
[null,null,null,"CUNDINAMARCA","TABIO",null,"785","TABIO"]
[null,null,null,"CUNDINAMARCA","TAUSA",null,"793","TAUSA"]
[null,null,null,"CUNDINAMARCA","TENA",null,"797","TENA"]
[null,null,null,"CUNDINAMARCA","TENJO",null,"799","TENJO"]
[null,null,null,"CUNDINAMARCA","TIBACUY",null,"805","TIBACUY"]
[null,null,null,"CUNDINAMARCA","TIBIRITA",null,"807","TIBIRITA"]
[null,null,null,"CUNDINAMARCA","TOCAIMA",null,"815","TOCAIMA"]
[null,null,null,"CUNDINAMARCA","TOCANCIPA",null,"817","TOCANCIPA"]
[null,null,null,"CUNDINAMARCA","TOPAIPI",null,"823","TOPAIPI"]
[null,null,null,"CUNDINAMARCA","UBALA",null,"839","UBALA"]
[null,null,null,"CUNDINAMARCA","UBAQUE",null,"841","UBAQUE"]
[null,null,null,"CUNDINAMARCA","VILLA DE SAN DIEGO DE UBATE",null,"843","VILLA DE SAN DIEGO DE UBATE"]
[null,null,null,"CUNDINAMARCA","UNE",null,"845","UNE"]
[null,null,null,"CUNDINAMARCA","UTICA",null,"851","UTICA"]
[null,null,null,"CUNDINAMARCA","VERGARA",null,"862","VERGARA"]
[null,null,null,"CUNDINAMARCA","VIANI",null,"867","VIANI"]
[null,null,null,"CUNDINAMARCA","VILLAGOMEZ",null,"871","VILLAGOMEZ"]
[null,null,null,"CUNDINAMARCA","VILLAPINZON",null,"873","VILLAPINZON"]
[null,null,null,"CUNDINAMARCA","VILLETA",null,"875","VILLETA"]
[null,null,null,"CUNDINAMARCA","VIOTA",null,"878","VIOTA"]
[null,null,null,"CUNDINAMARCA","YACOPI",null,"885","YACOPI"]
[null,null,null,"CUNDINAMARCA","ZIPACON",null,"898","ZIPACON"]
[null,null,null,"CUNDINAMARCA","ZIPAQUIRA",null,"899","ZIPAQUIRA"]
[null,null,null,"CHOCO","QUIBDO",null,"001","QUIBDO"]
[null,null,null,"CHOCO","ACANDI",null,"006","ACANDI"]
[null,null,null,"CHOCO","ALTO BAUDO",null,"025","ALTO BAUDO"]
[null,null,null,"CHOCO","ATRATO",null,"050","ATRATO"]
[null,null,null,"CHOCO","BAGADO",null,"073","BAGADO"]
[null,null,null,"CHOCO","BAHIA SOLANO",null,"075","BAHIA SOLANO"]
[null,null,null,"CHOCO","BAJO BAUDO",null,"077","BAJO BAUDO"]
[null,null,null,"CHOCO","BOJAYA",null,"099","BOJAYA"]
[null,null,null,"CHOCO","EL CANTON DEL SAN PABLO",null,"135","EL CANTON DEL SAN PABLO"]
[null,null,null,"CHOCO","CARMEN DEL DARIEN",null,"150","CARMEN DEL DARIEN"]
[null,null,null,"CHOCO","CERTEGUI",null,"160","CERTEGUI"]
[null,null,null,"CHOCO","CONDOTO",null,"205","CONDOTO"]
[null,null,null,"CHOCO","EL CARMEN DE ATRATO",null,"245","EL CARMEN DE ATRATO"]
[null,null,null,"CHOCO","EL LITORAL DEL SAN JUAN",null,"250","EL LITORAL DEL SAN JUAN"]
[null,null,null,"CHOCO","ISTMINA",null,"361","ISTMINA"]
[null,null,null,"CHOCO","JURADO",null,"372","JURADO"]
[null,null,null,"CHOCO","LLORO",null,"413","LLORO"]
[null,null,null,"CHOCO","MEDIO ATRATO",null,"425","MEDIO ATRATO"]
[null,null,null,"CHOCO","MEDIO BAUDO",null,"430","MEDIO BAUDO"]
[null,null,null,"CHOCO","MEDIO SAN JUAN",null,"450","MEDIO SAN JUAN"]
[null,null,null,"CHOCO","NOVITA",null,"491","NOVITA"]
[null,null,null,"CHOCO","NUQUI",null,"495","NUQUI"]
[null,null,null,"CHOCO","RIO IRO",null,"580","RIO IRO"]
[null,null,null,"CHOCO","RIO QUITO",null,"600","RIO QUITO"]
[null,null,null,"CHOCO","RIOSUCIO",null,"615","RIOSUCIO"]
[null,null,null,"CHOCO","SAN JOSE DEL PALMAR",null,"660","SAN JOSE DEL PALMAR"]
[null,null,null,"CHOCO","SIPI",null,"745","SIPI"]
[null,null,null,"CHOCO","TADO",null,"787","TADO"]
[null,null,null,"CHOCO","UNGUIA",null,"800","UNGUIA"]
[null,null,null,"CHOCO","UNION PANAMERICANA",null,"810","UNION PANAMERICANA"]
[null,null,null,"HUILA","NEIVA",null,"001","NEIVA"]
[null,null,null,"HUILA","ACEVEDO",null,"006","ACEVEDO"]
[null,null,null,"HUILA","AGRADO",null,"013","AGRADO"]
[null,null,null,"HUILA","AIPE",null,"016","AIPE"]
[null,null,null,"HUILA","ALGECIRAS",null,"020","ALGECIRAS"]
[null,null,null,"HUILA","ALTAMIRA",null,"026","ALTAMIRA"]
[null,null,null,"HUILA","BARAYA",null,"078","BARAYA"]
[null,null,null,"HUILA","CAMPOALEGRE",null,"132","CAMPOALEGRE"]
[null,null,null,"HUILA","COLOMBIA",null,"206","COLOMBIA"]
[null,null,null,"HUILA","ELIAS",null,"244","ELIAS"]
[null,null,null,"HUILA","GARZON",null,"298","GARZON"]
[null,null,null,"HUILA","GIGANTE",null,"306","GIGANTE"]
[null,null,null,"HUILA","GUADALUPE",null,"319","GUADALUPE"]
[null,null,null,"HUILA","HOBO",null,"349","HOBO"]
[null,null,null,"HUILA","IQUIRA",null,"357","IQUIRA"]
[null,null,null,"HUILA","ISNOS",null,"359","ISNOS"]
[null,null,null,"HUILA","LA ARGENTINA",null,"378","LA ARGENTINA"]
[null,null,null,"HUILA","LA PLATA",null,"396","LA PLATA"]
[null,null,null,"HUILA","NATAGA",null,"483","NATAGA"]
[null,null,null,"HUILA","OPORAPA",null,"503","OPORAPA"]
[null,null,null,"HUILA","PAICOL",null,"518","PAICOL"]
[null,null,null,"HUILA","PALERMO",null,"524","PALERMO"]
[null,null,null,"HUILA","PALESTINA",null,"530","PALESTINA"]
[null,null,null,"HUILA","PITAL",null,"548","PITAL"]
[null,null,null,"HUILA","PITALITO",null,"551","PITALITO"]
[null,null,null,"HUILA","RIVERA",null,"615","RIVERA"]
[null,null,null,"HUILA","SALADOBLANCO",null,"660","SALADOBLANCO"]
[null,null,null,"HUILA","SAN AGUSTIN",null,"668","SAN AGUSTIN"]
[null,null,null,"HUILA","SANTA MARIA",null,"676","SANTA MARIA"]
[null,null,null,"HUILA","SUAZA",null,"770","SUAZA"]
[null,null,null,"HUILA","TARQUI",null,"791","TARQUI"]
[null,null,null,"HUILA","TESALIA",null,"797","TESALIA"]
[null,null,null,"HUILA","TELLO",null,"799","TELLO"]
[null,null,null,"HUILA","TERUEL",null,"801","TERUEL"]
[null,null,null,"HUILA","TIMANA",null,"807","TIMANA"]
[null,null,null,"HUILA","VILLAVIEJA",null,"872","VILLAVIEJA"]
[null,null,null,"HUILA","YAGUARA",null,"885","YAGUARA"]
[null,null,null,"GUAJIRA","RIOHACHA",null,"001","RIOHACHA"]
[null,null,null,"GUAJIRA","ALBANIA",null,"035","ALBANIA"]
[null,null,null,"GUAJIRA","BARRANCAS",null,"078","BARRANCAS"]
[null,null,null,"GUAJIRA","DIBULLA",null,"090","DIBULLA"]
[null,null,null,"GUAJIRA","DISTRACCION",null,"098","DISTRACCION"]
[null,null,null,"GUAJIRA","EL MOLINO",null,"110","EL MOLINO"]
[null,null,null,"GUAJIRA","FONSECA",null,"279","FONSECA"]
[null,null,null,"GUAJIRA","HATONUEVO",null,"378","HATONUEVO"]
[null,null,null,"GUAJIRA","LA JAGUA DEL PILAR",null,"420","LA JAGUA DEL PILAR"]
[null,null,null,"GUAJIRA","MAICAO",null,"430","MAICAO"]
[null,null,null,"GUAJIRA","MANAURE",null,"560","MANAURE"]
[null,null,null,"GUAJIRA","SAN JUAN DEL CESAR",null,"650","SAN JUAN DEL CESAR"]
[null,null,null,"GUAJIRA","URIBIA",null,"847","URIBIA"]
[null,null,null,"GUAJIRA","URUMITA",null,"855","URUMITA"]
[null,null,null,"GUAJIRA","VILLANUEVA",null,"874","VILLANUEVA"]
[null,null,null,"MAGDALENA","SANTA MARTA",null,"001","SANTA MARTA"]
[null,null,null,"MAGDALENA","ALGARROBO",null,"030","ALGARROBO"]
[null,null,null,"MAGDALENA","ARACATACA",null,"053","ARACATACA"]
[null,null,null,"MAGDALENA","ARIGUANI",null,"058","ARIGUANI"]
[null,null,null,"MAGDALENA","CERRO SAN ANTONIO",null,"161","CERRO SAN ANTONIO"]
[null,null,null,"MAGDALENA","CHIBOLO",null,"170","CHIBOLO"]
[null,null,null,"MAGDALENA","CIENAGA",null,"189","CIENAGA"]
[null,null,null,"MAGDALENA","CONCORDIA",null,"205","CONCORDIA"]
[null,null,null,"MAGDALENA","EL BANCO",null,"245","EL BANCO"]
[null,null,null,"MAGDALENA","EL PIÑON",null,"258","EL PIÑON"]
[null,null,null,"MAGDALENA","EL RETEN",null,"268","EL RETEN"]
[null,null,null,"MAGDALENA","FUNDACION",null,"288","FUNDACION"]
[null,null,null,"MAGDALENA","GUAMAL",null,"318","GUAMAL"]
[null,null,null,"MAGDALENA","NUEVA GRANADA",null,"460","NUEVA GRANADA"]
[null,null,null,"MAGDALENA","PEDRAZA",null,"541","PEDRAZA"]
[null,null,null,"MAGDALENA","PIJIÑO DEL CARMEN",null,"545","PIJIÑO DEL CARMEN"]
[null,null,null,"MAGDALENA","PIVIJAY",null,"551","PIVIJAY"]
[null,null,null,"MAGDALENA","PLATO",null,"555","PLATO"]
[null,null,null,"MAGDALENA","PUEBLOVIEJO",null,"570","PUEBLOVIEJO"]
[null,null,null,"MAGDALENA","REMOLINO",null,"605","REMOLINO"]
[null,null,null,"MAGDALENA","SABANAS DE SAN ANGEL",null,"660","SABANAS DE SAN ANGEL"]
[null,null,null,"MAGDALENA","SALAMINA",null,"675","SALAMINA"]
[null,null,null,"MAGDALENA","SAN SEBASTIAN DE BUENAVISTA",null,"692","SAN SEBASTIAN DE BUENAVISTA"]
[null,null,null,"MAGDALENA","SAN ZENON",null,"703","SAN ZENON"]
[null,null,null,"MAGDALENA","SANTA ANA",null,"707","SANTA ANA"]
[null,null,null,"MAGDALENA","SANTA BARBARA DE PINTO",null,"720","SANTA BARBARA DE PINTO"]
[null,null,null,"MAGDALENA","SITIONUEVO",null,"745","SITIONUEVO"]
[null,null,null,"MAGDALENA","TENERIFE",null,"798","TENERIFE"]
[null,null,null,"MAGDALENA","ZAPAYAN",null,"960","ZAPAYAN"]
[null,null,null,"MAGDALENA","ZONA BANANERA",null,"980","ZONA BANANERA"]
[null,null,null,"META","VILLAVICENCIO",null,"001","VILLAVICENCIO"]
[null,null,null,"META","ACACIAS",null,"006","ACACIAS"]
[null,null,null,"META","BARRANCA DE UPIA",null,"110","BARRANCA DE UPIA"]
[null,null,null,"META","CABUYARO",null,"124","CABUYARO"]
[null,null,null,"META","CASTILLA LA NUEVA",null,"150","CASTILLA LA NUEVA"]
[null,null,null,"META","CUBARRAL",null,"223","CUBARRAL"]
[null,null,null,"META","CUMARAL",null,"226","CUMARAL"]
[null,null,null,"META","EL CALVARIO",null,"245","EL CALVARIO"]
[null,null,null,"META","EL CASTILLO",null,"251","EL CASTILLO"]
[null,null,null,"META","EL DORADO",null,"270","EL DORADO"]
[null,null,null,"META","FUENTE DE ORO",null,"287","FUENTE DE ORO"]
[null,null,null,"META","GRANADA",null,"313","GRANADA"]
[null,null,null,"META","GUAMAL",null,"318","GUAMAL"]
[null,null,null,"META","MAPIRIPAN",null,"325","MAPIRIPAN"]
[null,null,null,"META","MESETAS",null,"330","MESETAS"]
[null,null,null,"META","LA MACARENA",null,"350","LA MACARENA"]
[null,null,null,"META","URIBE",null,"370","URIBE"]
[null,null,null,"META","LEJANIAS",null,"400","LEJANIAS"]
[null,null,null,"META","PUERTO CONCORDIA",null,"450","PUERTO CONCORDIA"]
[null,null,null,"META","PUERTO GAITAN",null,"568","PUERTO GAITAN"]
[null,null,null,"META","PUERTO LOPEZ",null,"573","PUERTO LOPEZ"]
[null,null,null,"META","PUERTO LLERAS",null,"577","PUERTO LLERAS"]
[null,null,null,"META","PUERTO RICO",null,"590","PUERTO RICO"]
[null,null,null,"META","RESTREPO",null,"606","RESTREPO"]
[null,null,null,"META","SAN CARLOS DE GUAROA",null,"680","SAN CARLOS DE GUAROA"]
[null,null,null,"META","SAN JUAN DE ARAMA",null,"683","SAN JUAN DE ARAMA"]
[null,null,null,"META","SAN JUANITO",null,"686","SAN JUANITO"]
[null,null,null,"META","SAN MARTIN",null,"689","SAN MARTIN"]
[null,null,null,"META","VISTAHERMOSA",null,"711","VISTAHERMOSA"]
[null,null,null,"NARIÑO","PASTO",null,"001","PASTO"]
[null,null,null,"NARIÑO","ALBAN",null,"019","ALBAN"]
[null,null,null,"NARIÑO","ALDANA",null,"022","ALDANA"]
[null,null,null,"NARIÑO","ANCUYA",null,"036","ANCUYA"]
[null,null,null,"NARIÑO","ARBOLEDA",null,"051","ARBOLEDA"]
[null,null,null,"NARIÑO","BARBACOAS",null,"079","BARBACOAS"]
[null,null,null,"NARIÑO","BELEN",null,"083","BELEN"]
[null,null,null,"NARIÑO","BUESACO",null,"110","BUESACO"]
[null,null,null,"NARIÑO","COLON",null,"203","COLON"]
[null,null,null,"NARIÑO","CONSACA",null,"207","CONSACA"]
[null,null,null,"NARIÑO","CONTADERO",null,"210","CONTADERO"]
[null,null,null,"NARIÑO","CORDOBA",null,"215","CORDOBA"]
[null,null,null,"NARIÑO","CUASPUD",null,"224","CUASPUD"]
[null,null,null,"NARIÑO","CUMBAL",null,"227","CUMBAL"]
[null,null,null,"NARIÑO","CUMBITARA",null,"233","CUMBITARA"]
[null,null,null,"NARIÑO","CHACHAGsI",null,"240","CHACHAGsI"]
[null,null,null,"NARIÑO","EL CHARCO",null,"250","EL CHARCO"]
[null,null,null,"NARIÑO","EL PEÑOL",null,"254","EL PEÑOL"]
[null,null,null,"NARIÑO","EL ROSARIO",null,"256","EL ROSARIO"]
[null,null,null,"NARIÑO","EL TABLON DE GOMEZ",null,"258","EL TABLON DE GOMEZ"]
[null,null,null,"NARIÑO","EL TAMBO",null,"260","EL TAMBO"]
[null,null,null,"NARIÑO","FUNES",null,"287","FUNES"]
[null,null,null,"NARIÑO","GUACHUCAL",null,"317","GUACHUCAL"]
[null,null,null,"NARIÑO","GUAITARILLA",null,"320","GUAITARILLA"]
[null,null,null,"NARIÑO","GUALMATAN",null,"323","GUALMATAN"]
[null,null,null,"NARIÑO","ILES",null,"352","ILES"]
[null,null,null,"NARIÑO","IMUES",null,"354","IMUES"]
[null,null,null,"NARIÑO","IPIALES",null,"356","IPIALES"]
[null,null,null,"NARIÑO","LA CRUZ",null,"378","LA CRUZ"]
[null,null,null,"NARIÑO","LA FLORIDA",null,"381","LA FLORIDA"]
[null,null,null,"NARIÑO","LA LLANADA",null,"385","LA LLANADA"]
[null,null,null,"NARIÑO","LA TOLA",null,"390","LA TOLA"]
[null,null,null,"NARIÑO","LA UNION",null,"399","LA UNION"]
[null,null,null,"NARIÑO","LEIVA",null,"405","LEIVA"]
[null,null,null,"NARIÑO","LINARES",null,"411","LINARES"]
[null,null,null,"NARIÑO","LOS ANDES",null,"418","LOS ANDES"]
[null,null,null,"NARIÑO","MAGsI",null,"427","MAGsI"]
[null,null,null,"NARIÑO","MALLAMA",null,"435","MALLAMA"]
[null,null,null,"NARIÑO","MOSQUERA",null,"473","MOSQUERA"]
[null,null,null,"NARIÑO","NARIÑO",null,"480","NARIÑO"]
[null,null,null,"NARIÑO","OLAYA HERRERA",null,"490","OLAYA HERRERA"]
[null,null,null,"NARIÑO","OSPINA",null,"506","OSPINA"]
[null,null,null,"NARIÑO","FRANCISCO PIZARRO",null,"520","FRANCISCO PIZARRO"]
[null,null,null,"NARIÑO","POLICARPA",null,"540","POLICARPA"]
[null,null,null,"NARIÑO","POTOSI",null,"560","POTOSI"]
[null,null,null,"NARIÑO","PROVIDENCIA",null,"565","PROVIDENCIA"]
[null,null,null,"NARIÑO","PUERRES",null,"573","PUERRES"]
[null,null,null,"NARIÑO","PUPIALES",null,"585","PUPIALES"]
[null,null,null,"NARIÑO","RICAURTE",null,"612","RICAURTE"]
[null,null,null,"NARIÑO","ROBERTO PAYAN",null,"621","ROBERTO PAYAN"]
[null,null,null,"NARIÑO","SAMANIEGO",null,"678","SAMANIEGO"]
[null,null,null,"NARIÑO","SANDONA",null,"683","SANDONA"]
[null,null,null,"NARIÑO","SAN BERNARDO",null,"685","SAN BERNARDO"]
[null,null,null,"NARIÑO","SAN LORENZO",null,"687","SAN LORENZO"]
[null,null,null,"NARIÑO","SAN PABLO",null,"693","SAN PABLO"]
[null,null,null,"NARIÑO","SAN PEDRO DE CARTAGO",null,"694","SAN PEDRO DE CARTAGO"]
[null,null,null,"NARIÑO","SANTA BARBARA",null,"696","SANTA BARBARA"]
[null,null,null,"NARIÑO","SANTACRUZ",null,"699","SANTACRUZ"]
[null,null,null,"NARIÑO","SAPUYES",null,"720","SAPUYES"]
[null,null,null,"NARIÑO","TAMINANGO",null,"786","TAMINANGO"]
[null,null,null,"NARIÑO","TANGUA",null,"788","TANGUA"]
[null,null,null,"NARIÑO","SAN ANDRES DE TUMACO",null,"835","SAN ANDRES DE TUMACO"]
[null,null,null,"NARIÑO","TUQUERRES",null,"838","TUQUERRES"]
[null,null,null,"NARIÑO","YACUANQUER",null,"885","YACUANQUER"]
[null,null,null,"NORTEDESANTANDER","CUCUTA",null,"001","CUCUTA"]
[null,null,null,"NORTEDESANTANDER","ABREGO",null,"003","ABREGO"]
[null,null,null,"NORTEDESANTANDER","ARBOLEDAS",null,"051","ARBOLEDAS"]
[null,null,null,"NORTEDESANTANDER","BOCHALEMA",null,"099","BOCHALEMA"]
[null,null,null,"NORTEDESANTANDER","BUCARASICA",null,"109","BUCARASICA"]
[null,null,null,"NORTEDESANTANDER","CACOTA",null,"125","CACOTA"]
[null,null,null,"NORTEDESANTANDER","CACHIRA",null,"128","CACHIRA"]
[null,null,null,"NORTEDESANTANDER","CHINACOTA",null,"172","CHINACOTA"]
[null,null,null,"NORTEDESANTANDER","CHITAGA",null,"174","CHITAGA"]
[null,null,null,"NORTEDESANTANDER","CONVENCION",null,"206","CONVENCION"]
[null,null,null,"NORTEDESANTANDER","CUCUTILLA",null,"223","CUCUTILLA"]
[null,null,null,"NORTEDESANTANDER","DURANIA",null,"239","DURANIA"]
[null,null,null,"NORTEDESANTANDER","EL CARMEN",null,"245","EL CARMEN"]
[null,null,null,"NORTEDESANTANDER","EL TARRA",null,"250","EL TARRA"]
[null,null,null,"NORTEDESANTANDER","EL ZULIA",null,"261","EL ZULIA"]
[null,null,null,"NORTEDESANTANDER","GRAMALOTE",null,"313","GRAMALOTE"]
[null,null,null,"NORTEDESANTANDER","HACARI",null,"344","HACARI"]
[null,null,null,"NORTEDESANTANDER","HERRAN",null,"347","HERRAN"]
[null,null,null,"NORTEDESANTANDER","LABATECA",null,"377","LABATECA"]
[null,null,null,"NORTEDESANTANDER","LA ESPERANZA",null,"385","LA ESPERANZA"]
[null,null,null,"NORTEDESANTANDER","LA PLAYA",null,"398","LA PLAYA"]
[null,null,null,"NORTEDESANTANDER","LOS PATIOS",null,"405","LOS PATIOS"]
[null,null,null,"NORTEDESANTANDER","LOURDES",null,"418","LOURDES"]
[null,null,null,"NORTEDESANTANDER","MUTISCUA",null,"480","MUTISCUA"]
[null,null,null,"NORTEDESANTANDER","OCAÑA",null,"498","OCAÑA"]
[null,null,null,"NORTEDESANTANDER","PAMPLONA",null,"518","PAMPLONA"]
[null,null,null,"NORTEDESANTANDER","PAMPLONITA",null,"520","PAMPLONITA"]
[null,null,null,"NORTEDESANTANDER","PUERTO SANTANDER",null,"553","PUERTO SANTANDER"]
[null,null,null,"NORTEDESANTANDER","RAGONVALIA",null,"599","RAGONVALIA"]
[null,null,null,"NORTEDESANTANDER","SALAZAR",null,"660","SALAZAR"]
[null,null,null,"NORTEDESANTANDER","SAN CALIXTO",null,"670","SAN CALIXTO"]
[null,null,null,"NORTEDESANTANDER","SAN CAYETANO",null,"673","SAN CAYETANO"]
[null,null,null,"NORTEDESANTANDER","SANTIAGO",null,"680","SANTIAGO"]
[null,null,null,"NORTEDESANTANDER","SARDINATA",null,"720","SARDINATA"]
[null,null,null,"NORTEDESANTANDER","SILOS",null,"743","SILOS"]
[null,null,null,"NORTEDESANTANDER","TEORAMA",null,"800","TEORAMA"]
[null,null,null,"NORTEDESANTANDER","TIBU",null,"810","TIBU"]
[null,null,null,"NORTEDESANTANDER","TOLEDO",null,"820","TOLEDO"]
[null,null,null,"NORTEDESANTANDER","VILLA CARO",null,"871","VILLA CARO"]
[null,null,null,"NORTEDESANTANDER","VILLA DEL ROSARIO",null,"874","VILLA DEL ROSARIO"]
[null,null,null,"QUINDIO","ARMENIA",null,"001","ARMENIA"]
[null,null,null,"QUINDIO","BUENAVISTA",null,"111","BUENAVISTA"]
[null,null,null,"QUINDIO","CALARCA",null,"130","CALARCA"]
[null,null,null,"QUINDIO","CIRCASIA",null,"190","CIRCASIA"]
[null,null,null,"QUINDIO","CORDOBA",null,"212","CORDOBA"]
[null,null,null,"QUINDIO","FILANDIA",null,"272","FILANDIA"]
[null,null,null,"QUINDIO","GENOVA",null,"302","GENOVA"]
[null,null,null,"QUINDIO","LA TEBAIDA",null,"401","LA TEBAIDA"]
[null,null,null,"QUINDIO","MONTENEGRO",null,"470","MONTENEGRO"]
[null,null,null,"QUINDIO","PIJAO",null,"548","PIJAO"]
[null,null,null,"QUINDIO","QUIMBAYA",null,"594","QUIMBAYA"]
[null,null,null,"QUINDIO","SALENTO",null,"690","SALENTO"]
[null,null,null,"RISARALDA","PEREIRA",null,"001","PEREIRA"]
[null,null,null,"RISARALDA","APIA",null,"045","APIA"]
[null,null,null,"RISARALDA","BALBOA",null,"075","BALBOA"]
[null,null,null,"RISARALDA","BELEN DE UMBRIA",null,"088","BELEN DE UMBRIA"]
[null,null,null,"RISARALDA","DOSQUEBRADAS",null,"170","DOSQUEBRADAS"]
[null,null,null,"RISARALDA","GUATICA",null,"318","GUATICA"]
[null,null,null,"RISARALDA","LA CELIA",null,"383","LA CELIA"]
[null,null,null,"RISARALDA","LA VIRGINIA",null,"400","LA VIRGINIA"]
[null,null,null,"RISARALDA","MARSELLA",null,"440","MARSELLA"]
[null,null,null,"RISARALDA","MISTRATO",null,"456","MISTRATO"]
[null,null,null,"RISARALDA","PUEBLO RICO",null,"572","PUEBLO RICO"]
[null,null,null,"RISARALDA","QUINCHIA",null,"594","QUINCHIA"]
[null,null,null,"RISARALDA","SANTA ROSA DE CABAL",null,"682","SANTA ROSA DE CABAL"]
[null,null,null,"RISARALDA","SANTUARIO",null,"687","SANTUARIO"]
[null,null,null,"SANTANDER","BUCARAMANGA",null,"001","BUCARAMANGA"]
[null,null,null,"SANTANDER","AGUADA",null,"013","AGUADA"]
[null,null,null,"SANTANDER","ALBANIA",null,"020","ALBANIA"]
[null,null,null,"SANTANDER","ARATOCA",null,"051","ARATOCA"]
[null,null,null,"SANTANDER","BARBOSA",null,"077","BARBOSA"]
[null,null,null,"SANTANDER","BARICHARA",null,"079","BARICHARA"]
[null,null,null,"SANTANDER","BARRANCABERMEJA",null,"081","BARRANCABERMEJA"]
[null,null,null,"SANTANDER","BETULIA",null,"092","BETULIA"]
[null,null,null,"SANTANDER","BOLIVAR",null,"101","BOLIVAR"]
[null,null,null,"SANTANDER","CABRERA",null,"121","CABRERA"]
[null,null,null,"SANTANDER","CALIFORNIA",null,"132","CALIFORNIA"]
[null,null,null,"SANTANDER","CAPITANEJO",null,"147","CAPITANEJO"]
[null,null,null,"SANTANDER","CARCASI",null,"152","CARCASI"]
[null,null,null,"SANTANDER","CEPITA",null,"160","CEPITA"]
[null,null,null,"SANTANDER","CERRITO",null,"162","CERRITO"]
[null,null,null,"SANTANDER","CHARALA",null,"167","CHARALA"]
[null,null,null,"SANTANDER","CHARTA",null,"169","CHARTA"]
[null,null,null,"SANTANDER","CHIMA",null,"176","CHIMA"]
[null,null,null,"SANTANDER","CHIPATA",null,"179","CHIPATA"]
[null,null,null,"SANTANDER","CIMITARRA",null,"190","CIMITARRA"]
[null,null,null,"SANTANDER","CONCEPCION",null,"207","CONCEPCION"]
[null,null,null,"SANTANDER","CONFINES",null,"209","CONFINES"]
[null,null,null,"SANTANDER","CONTRATACION",null,"211","CONTRATACION"]
[null,null,null,"SANTANDER","COROMORO",null,"217","COROMORO"]
[null,null,null,"SANTANDER","CURITI",null,"229","CURITI"]
[null,null,null,"SANTANDER","EL CARMEN DE CHUCURI",null,"235","EL CARMEN DE CHUCURI"]
[null,null,null,"SANTANDER","EL GUACAMAYO",null,"245","EL GUACAMAYO"]
[null,null,null,"SANTANDER","EL PEÑON",null,"250","EL PEÑON"]
[null,null,null,"SANTANDER","EL PLAYON",null,"255","EL PLAYON"]
[null,null,null,"SANTANDER","ENCINO",null,"264","ENCINO"]
[null,null,null,"SANTANDER","ENCISO",null,"266","ENCISO"]
[null,null,null,"SANTANDER","FLORIAN",null,"271","FLORIAN"]
[null,null,null,"SANTANDER","FLORIDABLANCA",null,"276","FLORIDABLANCA"]
[null,null,null,"SANTANDER","GALAN",null,"296","GALAN"]
[null,null,null,"SANTANDER","GAMBITA",null,"298","GAMBITA"]
[null,null,null,"SANTANDER","GIRON",null,"307","GIRON"]
[null,null,null,"SANTANDER","GUACA",null,"318","GUACA"]
[null,null,null,"SANTANDER","GUADALUPE",null,"320","GUADALUPE"]
[null,null,null,"SANTANDER","GUAPOTA",null,"322","GUAPOTA"]
[null,null,null,"SANTANDER","GUAVATA",null,"324","GUAVATA"]
[null,null,null,"SANTANDER","GsEPSA",null,"327","GsEPSA"]
[null,null,null,"SANTANDER","HATO",null,"344","HATO"]
[null,null,null,"SANTANDER","JESUS MARIA",null,"368","JESUS MARIA"]
[null,null,null,"SANTANDER","JORDAN",null,"370","JORDAN"]
[null,null,null,"SANTANDER","LA BELLEZA",null,"377","LA BELLEZA"]
[null,null,null,"SANTANDER","LANDAZURI",null,"385","LANDAZURI"]
[null,null,null,"SANTANDER","LA PAZ",null,"397","LA PAZ"]
[null,null,null,"SANTANDER","LEBRIJA",null,"406","LEBRIJA"]
[null,null,null,"SANTANDER","LOS SANTOS",null,"418","LOS SANTOS"]
[null,null,null,"SANTANDER","MACARAVITA",null,"425","MACARAVITA"]
[null,null,null,"SANTANDER","MALAGA",null,"432","MALAGA"]
[null,null,null,"SANTANDER","MATANZA",null,"444","MATANZA"]
[null,null,null,"SANTANDER","MOGOTES",null,"464","MOGOTES"]
[null,null,null,"SANTANDER","MOLAGAVITA",null,"468","MOLAGAVITA"]
[null,null,null,"SANTANDER","OCAMONTE",null,"498","OCAMONTE"]
[null,null,null,"SANTANDER","OIBA",null,"500","OIBA"]
[null,null,null,"SANTANDER","ONZAGA",null,"502","ONZAGA"]
[null,null,null,"SANTANDER","PALMAR",null,"522","PALMAR"]
[null,null,null,"SANTANDER","PALMAS DEL SOCORRO",null,"524","PALMAS DEL SOCORRO"]
[null,null,null,"SANTANDER","PARAMO",null,"533","PARAMO"]
[null,null,null,"SANTANDER","PIEDECUESTA",null,"547","PIEDECUESTA"]
[null,null,null,"SANTANDER","PINCHOTE",null,"549","PINCHOTE"]
[null,null,null,"SANTANDER","PUENTE NACIONAL",null,"572","PUENTE NACIONAL"]
[null,null,null,"SANTANDER","PUERTO PARRA",null,"573","PUERTO PARRA"]
[null,null,null,"SANTANDER","PUERTO WILCHES",null,"575","PUERTO WILCHES"]
[null,null,null,"SANTANDER","RIONEGRO",null,"615","RIONEGRO"]
[null,null,null,"SANTANDER","SABANA DE TORRES",null,"655","SABANA DE TORRES"]
[null,null,null,"SANTANDER","SAN ANDRES",null,"669","SAN ANDRES"]
[null,null,null,"SANTANDER","SAN BENITO",null,"673","SAN BENITO"]
[null,null,null,"SANTANDER","SAN GIL",null,"679","SAN GIL"]
[null,null,null,"SANTANDER","SAN JOAQUIN",null,"682","SAN JOAQUIN"]
[null,null,null,"SANTANDER","SAN JOSE DE MIRANDA",null,"684","SAN JOSE DE MIRANDA"]
[null,null,null,"SANTANDER","SAN MIGUEL",null,"686","SAN MIGUEL"]
[null,null,null,"SANTANDER","SAN VICENTE DE CHUCURI",null,"689","SAN VICENTE DE CHUCURI"]
[null,null,null,"SANTANDER","SANTA BARBARA",null,"705","SANTA BARBARA"]
[null,null,null,"SANTANDER","SANTA HELENA DEL OPON",null,"720","SANTA HELENA DEL OPON"]
[null,null,null,"SANTANDER","SIMACOTA",null,"745","SIMACOTA"]
[null,null,null,"SANTANDER","SOCORRO",null,"755","SOCORRO"]
[null,null,null,"SANTANDER","SUAITA",null,"770","SUAITA"]
[null,null,null,"SANTANDER","SUCRE",null,"773","SUCRE"]
[null,null,null,"SANTANDER","SURATA",null,"780","SURATA"]
[null,null,null,"SANTANDER","TONA",null,"820","TONA"]
[null,null,null,"SANTANDER","VALLE DE SAN JOSE",null,"855","VALLE DE SAN JOSE"]
[null,null,null,"SANTANDER","VELEZ",null,"861","VELEZ"]
[null,null,null,"SANTANDER","VETAS",null,"867","VETAS"]
[null,null,null,"SANTANDER","VILLANUEVA",null,"872","VILLANUEVA"]
[null,null,null,"SANTANDER","ZAPATOCA",null,"895","ZAPATOCA"]
[null,null,null,"SUCRE","SINCELEJO",null,"001","SINCELEJO"]
[null,null,null,"SUCRE","BUENAVISTA",null,"110","BUENAVISTA"]
[null,null,null,"SUCRE","CAIMITO",null,"124","CAIMITO"]
[null,null,null,"SUCRE","COLOSO",null,"204","COLOSO"]
[null,null,null,"SUCRE","COROZAL",null,"215","COROZAL"]
[null,null,null,"SUCRE","COVEÑAS",null,"221","COVEÑAS"]
[null,null,null,"SUCRE","CHALAN",null,"230","CHALAN"]
[null,null,null,"SUCRE","EL ROBLE",null,"233","EL ROBLE"]
[null,null,null,"SUCRE","GALERAS",null,"235","GALERAS"]
[null,null,null,"SUCRE","GUARANDA",null,"265","GUARANDA"]
[null,null,null,"SUCRE","LA UNION",null,"400","LA UNION"]
[null,null,null,"SUCRE","LOS PALMITOS",null,"418","LOS PALMITOS"]
[null,null,null,"SUCRE","MAJAGUAL",null,"429","MAJAGUAL"]
[null,null,null,"SUCRE","MORROA",null,"473","MORROA"]
[null,null,null,"SUCRE","OVEJAS",null,"508","OVEJAS"]
[null,null,null,"SUCRE","PALMITO",null,"523","PALMITO"]
[null,null,null,"SUCRE","SAMPUES",null,"670","SAMPUES"]
[null,null,null,"SUCRE","SAN BENITO ABAD",null,"678","SAN BENITO ABAD"]
[null,null,null,"SUCRE","SAN JUAN DE BETULIA",null,"702","SAN JUAN DE BETULIA"]
[null,null,null,"SUCRE","SAN MARCOS",null,"708","SAN MARCOS"]
[null,null,null,"SUCRE","SAN ONOFRE",null,"713","SAN ONOFRE"]
[null,null,null,"SUCRE","SAN PEDRO",null,"717","SAN PEDRO"]
[null,null,null,"SUCRE","SAN LUIS DE SINCE",null,"742","SAN LUIS DE SINCE"]
[null,null,null,"SUCRE","SUCRE",null,"771","SUCRE"]
[null,null,null,"SUCRE","SANTIAGO DE TOLU",null,"820","SANTIAGO DE TOLU"]
[null,null,null,"SUCRE","TOLU VIEJO",null,"823","TOLU VIEJO"]
[null,null,null,"TOLIMA","IBAGUE",null,"001","IBAGUE"]
[null,null,null,"TOLIMA","ALPUJARRA",null,"024","ALPUJARRA"]
[null,null,null,"TOLIMA","ALVARADO",null,"026","ALVARADO"]
[null,null,null,"TOLIMA","AMBALEMA",null,"030","AMBALEMA"]
[null,null,null,"TOLIMA","ANZOATEGUI",null,"043","ANZOATEGUI"]
[null,null,null,"TOLIMA","ARMERO",null,"055","ARMERO"]
[null,null,null,"TOLIMA","ATACO",null,"067","ATACO"]
[null,null,null,"TOLIMA","CAJAMARCA",null,"124","CAJAMARCA"]
[null,null,null,"TOLIMA","CARMEN DE APICALA",null,"148","CARMEN DE APICALA"]
[null,null,null,"TOLIMA","CASABIANCA",null,"152","CASABIANCA"]
[null,null,null,"TOLIMA","CHAPARRAL",null,"168","CHAPARRAL"]
[null,null,null,"TOLIMA","COELLO",null,"200","COELLO"]
[null,null,null,"TOLIMA","COYAIMA",null,"217","COYAIMA"]
[null,null,null,"TOLIMA","CUNDAY",null,"226","CUNDAY"]
[null,null,null,"TOLIMA","DOLORES",null,"236","DOLORES"]
[null,null,null,"TOLIMA","ESPINAL",null,"268","ESPINAL"]
[null,null,null,"TOLIMA","FALAN",null,"270","FALAN"]
[null,null,null,"TOLIMA","FLANDES",null,"275","FLANDES"]
[null,null,null,"TOLIMA","FRESNO",null,"283","FRESNO"]
[null,null,null,"TOLIMA","GUAMO",null,"319","GUAMO"]
[null,null,null,"TOLIMA","HERVEO",null,"347","HERVEO"]
[null,null,null,"TOLIMA","HONDA",null,"349","HONDA"]
[null,null,null,"TOLIMA","ICONONZO",null,"352","ICONONZO"]
[null,null,null,"TOLIMA","LERIDA",null,"408","LERIDA"]
[null,null,null,"TOLIMA","LIBANO",null,"411","LIBANO"]
[null,null,null,"TOLIMA","MARIQUITA",null,"443","MARIQUITA"]
[null,null,null,"TOLIMA","MELGAR",null,"449","MELGAR"]
[null,null,null,"TOLIMA","MURILLO",null,"461","MURILLO"]
[null,null,null,"TOLIMA","NATAGAIMA",null,"483","NATAGAIMA"]
[null,null,null,"TOLIMA","ORTEGA",null,"504","ORTEGA"]
[null,null,null,"TOLIMA","PALOCABILDO",null,"520","PALOCABILDO"]
[null,null,null,"TOLIMA","PIEDRAS",null,"547","PIEDRAS"]
[null,null,null,"TOLIMA","PLANADAS",null,"555","PLANADAS"]
[null,null,null,"TOLIMA","PRADO",null,"563","PRADO"]
[null,null,null,"TOLIMA","PURIFICACION",null,"585","PURIFICACION"]
[null,null,null,"TOLIMA","RIOBLANCO",null,"616","RIOBLANCO"]
[null,null,null,"TOLIMA","RONCESVALLES",null,"622","RONCESVALLES"]
[null,null,null,"TOLIMA","ROVIRA",null,"624","ROVIRA"]
[null,null,null,"TOLIMA","SALDAÑA",null,"671","SALDAÑA"]
[null,null,null,"TOLIMA","SAN ANTONIO",null,"675","SAN ANTONIO"]
[null,null,null,"TOLIMA","SAN LUIS",null,"678","SAN LUIS"]
[null,null,null,"TOLIMA","SANTA ISABEL",null,"686","SANTA ISABEL"]
[null,null,null,"TOLIMA","SUAREZ",null,"770","SUAREZ"]
[null,null,null,"TOLIMA","VALLE DE SAN JUAN",null,"854","VALLE DE SAN JUAN"]
[null,null,null,"TOLIMA","VENADILLO",null,"861","VENADILLO"]
[null,null,null,"TOLIMA","VILLAHERMOSA",null,"870","VILLAHERMOSA"]
[null,null,null,"TOLIMA","VILLARRICA",null,"873","VILLARRICA"]
[null,null,null,"VALLEDELCAUCA","CALI",null,"001","CALI"]
[null,null,null,"VALLEDELCAUCA","ALCALA",null,"020","ALCALA"]
[null,null,null,"VALLEDELCAUCA","ANDALUCIA",null,"036","ANDALUCIA"]
[null,null,null,"VALLEDELCAUCA","ANSERMANUEVO",null,"041","ANSERMANUEVO"]
[null,null,null,"VALLEDELCAUCA","ARGELIA",null,"054","ARGELIA"]
[null,null,null,"VALLEDELCAUCA","BOLIVAR",null,"100","BOLIVAR"]
[null,null,null,"VALLEDELCAUCA","BUENAVENTURA",null,"109","BUENAVENTURA"]
[null,null,null,"VALLEDELCAUCA","GUADALAJARA DE BUGA",null,"111","GUADALAJARA DE BUGA"]
[null,null,null,"VALLEDELCAUCA","BUGALAGRANDE",null,"113","BUGALAGRANDE"]
[null,null,null,"VALLEDELCAUCA","CAICEDONIA",null,"122","CAICEDONIA"]
[null,null,null,"VALLEDELCAUCA","CALIMA",null,"126","CALIMA"]
[null,null,null,"VALLEDELCAUCA","CANDELARIA",null,"130","CANDELARIA"]
[null,null,null,"VALLEDELCAUCA","CARTAGO",null,"147","CARTAGO"]
[null,null,null,"VALLEDELCAUCA","DAGUA",null,"233","DAGUA"]
[null,null,null,"VALLEDELCAUCA","EL AGUILA",null,"243","EL AGUILA"]
[null,null,null,"VALLEDELCAUCA","EL CAIRO",null,"246","EL CAIRO"]
[null,null,null,"VALLEDELCAUCA","EL CERRITO",null,"248","EL CERRITO"]
[null,null,null,"VALLEDELCAUCA","EL DOVIO",null,"250","EL DOVIO"]
[null,null,null,"VALLEDELCAUCA","FLORIDA",null,"275","FLORIDA"]
[null,null,null,"VALLEDELCAUCA","GINEBRA",null,"306","GINEBRA"]
[null,null,null,"VALLEDELCAUCA","GUACARI",null,"318","GUACARI"]
[null,null,null,"VALLEDELCAUCA","JAMUNDI",null,"364","JAMUNDI"]
[null,null,null,"VALLEDELCAUCA","LA CUMBRE",null,"377","LA CUMBRE"]
[null,null,null,"VALLEDELCAUCA","LA UNION",null,"400","LA UNION"]
[null,null,null,"VALLEDELCAUCA","LA VICTORIA",null,"403","LA VICTORIA"]
[null,null,null,"VALLEDELCAUCA","OBANDO",null,"497","OBANDO"]
[null,null,null,"VALLEDELCAUCA","PALMIRA",null,"520","PALMIRA"]
[null,null,null,"VALLEDELCAUCA","PRADERA",null,"563","PRADERA"]
[null,null,null,"VALLEDELCAUCA","RESTREPO",null,"606","RESTREPO"]
[null,null,null,"VALLEDELCAUCA","RIOFRIO",null,"616","RIOFRIO"]
[null,null,null,"VALLEDELCAUCA","ROLDANILLO",null,"622","ROLDANILLO"]
[null,null,null,"VALLEDELCAUCA","SAN PEDRO",null,"670","SAN PEDRO"]
[null,null,null,"VALLEDELCAUCA","SEVILLA",null,"736","SEVILLA"]
[null,null,null,"VALLEDELCAUCA","TORO",null,"823","TORO"]
[null,null,null,"VALLEDELCAUCA","TRUJILLO",null,"828","TRUJILLO"]
[null,null,null,"VALLEDELCAUCA","TULUA",null,"834","TULUA"]
[null,null,null,"VALLEDELCAUCA","ULLOA",null,"845","ULLOA"]
[null,null,null,"VALLEDELCAUCA","VERSALLES",null,"863","VERSALLES"]
[null,null,null,"VALLEDELCAUCA","VIJES",null,"869","VIJES"]
[null,null,null,"VALLEDELCAUCA","YOTOCO",null,"890","YOTOCO"]
[null,null,null,"VALLEDELCAUCA","YUMBO",null,"892","YUMBO"]
[null,null,null,"VALLEDELCAUCA","ZARZAL",null,"895","ZARZAL"]
[null,null,null,"ARAUCA","ARAUCA",null,"001","ARAUCA"]
[null,null,null,"ARAUCA","ARAUQUITA",null,"065","ARAUQUITA"]
[null,null,null,"ARAUCA","CRAVO NORTE",null,"220","CRAVO NORTE"]
[null,null,null,"ARAUCA","FORTUL",null,"300","FORTUL"]
[null,null,null,"ARAUCA","PUERTO RONDON",null,"591","PUERTO RONDON"]
[null,null,null,"ARAUCA","SARAVENA",null,"736","SARAVENA"]
[null,null,null,"ARAUCA","TAME",null,"794","TAME"]
[null,null,null,"CASANARE","YOPAL",null,"001","YOPAL"]
[null,null,null,"CASANARE","AGUAZUL",null,"010","AGUAZUL"]
[null,null,null,"CASANARE","CHAMEZA",null,"015","CHAMEZA"]
[null,null,null,"CASANARE","HATO COROZAL",null,"125","HATO COROZAL"]
[null,null,null,"CASANARE","LA SALINA",null,"136","LA SALINA"]
[null,null,null,"CASANARE","MANI",null,"139","MANI"]
[null,null,null,"CASANARE","MONTERREY",null,"162","MONTERREY"]
[null,null,null,"CASANARE","NUNCHIA",null,"225","NUNCHIA"]
[null,null,null,"CASANARE","OROCUE",null,"230","OROCUE"]
[null,null,null,"CASANARE","PAZ DE ARIPORO",null,"250","PAZ DE ARIPORO"]
[null,null,null,"CASANARE","PORE",null,"263","PORE"]
[null,null,null,"CASANARE","RECETOR",null,"279","RECETOR"]
[null,null,null,"CASANARE","SABANALARGA",null,"300","SABANALARGA"]
[null,null,null,"CASANARE","SACAMA",null,"315","SACAMA"]
[null,null,null,"CASANARE","SAN LUIS DE PALENQUE",null,"325","SAN LUIS DE PALENQUE"]
[null,null,null,"CASANARE","TAMARA",null,"400","TAMARA"]
[null,null,null,"CASANARE","TAURAMENA",null,"410","TAURAMENA"]
[null,null,null,"CASANARE","TRINIDAD",null,"430","TRINIDAD"]
[null,null,null,"CASANARE","VILLANUEVA",null,"440","VILLANUEVA"]
[null,null,null,"PUTUMAYO","MOCOA",null,"001","MOCOA"]
[null,null,null,"PUTUMAYO","COLON",null,"219","COLON"]
[null,null,null,"PUTUMAYO","ORITO",null,"320","ORITO"]
[null,null,null,"PUTUMAYO","PUERTO ASIS",null,"568","PUERTO ASIS"]
[null,null,null,"PUTUMAYO","PUERTO CAICEDO",null,"569","PUERTO CAICEDO"]
[null,null,null,"PUTUMAYO","PUERTO GUZMAN",null,"571","PUERTO GUZMAN"]
[null,null,null,"PUTUMAYO","LEGUIZAMO",null,"573","LEGUIZAMO"]
[null,null,null,"PUTUMAYO","SIBUNDOY",null,"749","SIBUNDOY"]
[null,null,null,"PUTUMAYO","SAN FRANCISCO",null,"755","SAN FRANCISCO"]
[null,null,null,"PUTUMAYO","SAN MIGUEL",null,"757","SAN MIGUEL"]
[null,null,null,"PUTUMAYO","SANTIAGO",null,"760","SANTIAGO"]
[null,null,null,"PUTUMAYO","VALLE DEL GUAMUEZ",null,"865","VALLE DEL GUAMUEZ"]
[null,null,null,"PUTUMAYO","VILLAGARZON",null,"885","VILLAGARZON"]
[null,null,null,"SANANDRES","SAN ANDRES",null,"001","SAN ANDRES"]
[null,null,null,"SANANDRES","PROVIDENCIA",null,"564","PROVIDENCIA"]
[null,null,null,"AMAZONAS","LETICIA",null,"001","LETICIA"]
[null,null,null,"AMAZONAS","EL ENCANTO",null,"263","EL ENCANTO"]
[null,null,null,"AMAZONAS","LA CHORRERA",null,"405","LA CHORRERA"]
[null,null,null,"AMAZONAS","LA PEDRERA",null,"407","LA PEDRERA"]
[null,null,null,"AMAZONAS","LA VICTORIA",null,430,"LA VICTORIA"]
[null,null,null,"AMAZONAS","MIRITI - PARANA",null,"460","MIRITI - PARANA"]
[null,null,null,"AMAZONAS","PUERTO ALEGRIA",null,"530","PUERTO ALEGRIA"]
[null,null,null,"AMAZONAS","PUERTO ARICA",null,"536","PUERTO ARICA"]
[null,null,null,"AMAZONAS","PUERTO NARIÑO",null,"540","PUERTO NARIÑO"]
[null,null,null,"AMAZONAS","PUERTO SANTANDER",null,"669","PUERTO SANTANDER"]
[null,null,null,"AMAZONAS","TARAPACA",null,"798","TARAPACA"]
[null,null,null,"GUAINIA","INIRIDA",null,"001","INIRIDA"]
[null,null,null,"GUAINIA","BARRANCO MINAS",null,"343","BARRANCO MINAS"]
[null,null,null,"GUAINIA","MAPIRIPANA",null,663,"MAPIRIPANA"]
[null,null,null,"GUAINIA","SAN FELIPE",null,"883","SAN FELIPE"]
[null,null,null,"GUAINIA","PUERTO COLOMBIA",null,"884","PUERTO COLOMBIA"]
[null,null,null,"GUAINIA","LA GUADALUPE",null,"885","LA GUADALUPE"]
[null,null,null,"GUAINIA","CACAHUAL",null,"886","CACAHUAL"]
[null,null,null,"GUAINIA","PANA PANA",null,887,"PANA PANA"]
[null,null,null,"GUAINIA","MORICHAL",null,888,"MORICHAL"]
[null,null,null,"GUAVIARE","SAN JOSE DEL GUAVIARE",null,"001","SAN JOSE DEL GUAVIARE"]
[null,null,null,"GUAVIARE","CALAMAR",null,"015","CALAMAR"]
[null,null,null,"GUAVIARE","EL RETORNO",null,"025","EL RETORNO"]
[null,null,null,"GUAVIARE","MIRAFLORES",null,"200","MIRAFLORES"]
[null,null,null,"VAUPES","MITU",null,"001","MITU"]
[null,null,null,"VAUPES","CARURU",null,"161","CARURU"]
[null,null,null,"VAUPES","PACOA",null,511,"PACOA"]
[null,null,null,"VAUPES","TARAIRA",null,"666","TARAIRA"]
[null,null,null,"VAUPES","PAPUNAUA",null,"777","PAPUNAUA"]
[null,null,null,"VAUPES","YAVARATE",null,"889","YAVARATE"]
[null,null,null,"VICHADA","PUERTO CARREÑO",null,"001","PUERTO CARREÑO"]
[null,null,null,"VICHADA","LA PRIMAVERA",null,"524","LA PRIMAVERA"]
[null,null,null,"VICHADA","SANTA ROSALIA",null,"624","SANTA ROSALIA"]
[null,null,null,"VICHADA","CUMARIBO",null,"773","CUMARIBO"]